BEGIN:VCALENDAR
VERSION:2.0
PRODID:-//Allen F. Pierce Free Library - ECPv6.15.17//NONSGML v1.0//EN
CALSCALE:GREGORIAN
METHOD:PUBLISH
X-ORIGINAL-URL:https://dev.piercelibrary.org
X-WR-CALDESC:Events for Allen F. Pierce Free Library
REFRESH-INTERVAL;VALUE=DURATION:PT1H
X-Robots-Tag:noindex
X-PUBLISHED-TTL:PT1H
BEGIN:VTIMEZONE
TZID:America/New_York
BEGIN:DAYLIGHT
TZOFFSETFROM:-0500
TZOFFSETTO:-0400
TZNAME:EDT
DTSTART:20290311T070000
END:DAYLIGHT
BEGIN:STANDARD
TZOFFSETFROM:-0400
TZOFFSETTO:-0500
TZNAME:EST
DTSTART:20291104T060000
END:STANDARD
BEGIN:DAYLIGHT
TZOFFSETFROM:-0500
TZOFFSETTO:-0400
TZNAME:EDT
DTSTART:20300310T070000
END:DAYLIGHT
BEGIN:STANDARD
TZOFFSETFROM:-0400
TZOFFSETTO:-0500
TZNAME:EST
DTSTART:20301103T060000
END:STANDARD
BEGIN:DAYLIGHT
TZOFFSETFROM:-0500
TZOFFSETTO:-0400
TZNAME:EDT
DTSTART:20310309T070000
END:DAYLIGHT
BEGIN:STANDARD
TZOFFSETFROM:-0400
TZOFFSETTO:-0500
TZNAME:EST
DTSTART:20311102T060000
END:STANDARD
END:VTIMEZONE
BEGIN:VEVENT
DTSTART;TZID=America/New_York:20300907T093000
DTEND;TZID=America/New_York:20300907T103000
DTSTAMP:20260423T085114
CREATED:20250102T204104Z
LAST-MODIFIED:20250102T204104Z
UID:10001104-1915003800-1915007400@dev.piercelibrary.org
SUMMARY:Preschool Story Hour 2026
DESCRIPTION:
URL:https://dev.piercelibrary.org/event/preschool-story-hour-2025/2030-09-07/
END:VEVENT
BEGIN:VEVENT
DTSTART;TZID=America/New_York:20300910T163000
DTEND;TZID=America/New_York:20300910T173000
DTSTAMP:20260423T085114
CREATED:20250306T130604Z
LAST-MODIFIED:20250306T130604Z
UID:10001188-1915288200-1915291800@dev.piercelibrary.org
SUMMARY:Career Link
DESCRIPTION:Meets 2nd and 4th Tuesday of each month 4:30 – 5:30
URL:https://dev.piercelibrary.org/event/career-link/2030-09-10/
END:VEVENT
BEGIN:VEVENT
DTSTART;TZID=America/New_York:20300914T093000
DTEND;TZID=America/New_York:20300914T103000
DTSTAMP:20260423T085114
CREATED:20250102T204104Z
LAST-MODIFIED:20250102T204104Z
UID:10001105-1915608600-1915612200@dev.piercelibrary.org
SUMMARY:Preschool Story Hour 2026
DESCRIPTION:
URL:https://dev.piercelibrary.org/event/preschool-story-hour-2025/2030-09-14/
END:VEVENT
BEGIN:VEVENT
DTSTART;TZID=America/New_York:20300921T093000
DTEND;TZID=America/New_York:20300921T103000
DTSTAMP:20260423T085114
CREATED:20250102T204104Z
LAST-MODIFIED:20250102T204104Z
UID:10001106-1916213400-1916217000@dev.piercelibrary.org
SUMMARY:Preschool Story Hour 2026
DESCRIPTION:
URL:https://dev.piercelibrary.org/event/preschool-story-hour-2025/2030-09-21/
END:VEVENT
BEGIN:VEVENT
DTSTART;TZID=America/New_York:20300928T093000
DTEND;TZID=America/New_York:20300928T103000
DTSTAMP:20260423T085114
CREATED:20250102T204104Z
LAST-MODIFIED:20250102T204104Z
UID:10001107-1916818200-1916821800@dev.piercelibrary.org
SUMMARY:Preschool Story Hour 2026
DESCRIPTION:
URL:https://dev.piercelibrary.org/event/preschool-story-hour-2025/2030-09-28/
END:VEVENT
END:VCALENDAR