BEGIN:VCALENDAR
VERSION:2.0
PRODID:-//Allen F. Pierce Free Library - ECPv6.15.17//NONSGML v1.0//EN
CALSCALE:GREGORIAN
METHOD:PUBLISH
X-ORIGINAL-URL:https://dev.piercelibrary.org
X-WR-CALDESC:Events for Allen F. Pierce Free Library
REFRESH-INTERVAL;VALUE=DURATION:PT1H
X-Robots-Tag:noindex
X-PUBLISHED-TTL:PT1H
BEGIN:VTIMEZONE
TZID:America/New_York
BEGIN:DAYLIGHT
TZOFFSETFROM:-0500
TZOFFSETTO:-0400
TZNAME:EDT
DTSTART:20290311T070000
END:DAYLIGHT
BEGIN:STANDARD
TZOFFSETFROM:-0400
TZOFFSETTO:-0500
TZNAME:EST
DTSTART:20291104T060000
END:STANDARD
BEGIN:DAYLIGHT
TZOFFSETFROM:-0500
TZOFFSETTO:-0400
TZNAME:EDT
DTSTART:20300310T070000
END:DAYLIGHT
BEGIN:STANDARD
TZOFFSETFROM:-0400
TZOFFSETTO:-0500
TZNAME:EST
DTSTART:20301103T060000
END:STANDARD
BEGIN:DAYLIGHT
TZOFFSETFROM:-0500
TZOFFSETTO:-0400
TZNAME:EDT
DTSTART:20310309T070000
END:DAYLIGHT
BEGIN:STANDARD
TZOFFSETFROM:-0400
TZOFFSETTO:-0500
TZNAME:EST
DTSTART:20311102T060000
END:STANDARD
END:VTIMEZONE
BEGIN:VEVENT
DTSTART;TZID=America/New_York:20300803T093000
DTEND;TZID=America/New_York:20300803T103000
DTSTAMP:20260423T072350
CREATED:20250102T204104Z
LAST-MODIFIED:20250102T204104Z
UID:10001099-1911979800-1911983400@dev.piercelibrary.org
SUMMARY:Preschool Story Hour 2026
DESCRIPTION:
URL:https://dev.piercelibrary.org/event/preschool-story-hour-2025/2030-08-03/
END:VEVENT
BEGIN:VEVENT
DTSTART;TZID=America/New_York:20300810T093000
DTEND;TZID=America/New_York:20300810T103000
DTSTAMP:20260423T072350
CREATED:20250102T204104Z
LAST-MODIFIED:20250102T204104Z
UID:10001100-1912584600-1912588200@dev.piercelibrary.org
SUMMARY:Preschool Story Hour 2026
DESCRIPTION:
URL:https://dev.piercelibrary.org/event/preschool-story-hour-2025/2030-08-10/
END:VEVENT
BEGIN:VEVENT
DTSTART;TZID=America/New_York:20300813T163000
DTEND;TZID=America/New_York:20300813T173000
DTSTAMP:20260423T072350
CREATED:20250306T130604Z
LAST-MODIFIED:20250306T130604Z
UID:10001187-1912869000-1912872600@dev.piercelibrary.org
SUMMARY:Career Link
DESCRIPTION:Meets 2nd and 4th Tuesday of each month 4:30 – 5:30
URL:https://dev.piercelibrary.org/event/career-link/2030-08-13/
END:VEVENT
BEGIN:VEVENT
DTSTART;TZID=America/New_York:20300817T093000
DTEND;TZID=America/New_York:20300817T103000
DTSTAMP:20260423T072350
CREATED:20250102T204104Z
LAST-MODIFIED:20250102T204104Z
UID:10001101-1913189400-1913193000@dev.piercelibrary.org
SUMMARY:Preschool Story Hour 2026
DESCRIPTION:
URL:https://dev.piercelibrary.org/event/preschool-story-hour-2025/2030-08-17/
END:VEVENT
BEGIN:VEVENT
DTSTART;TZID=America/New_York:20300824T093000
DTEND;TZID=America/New_York:20300824T103000
DTSTAMP:20260423T072350
CREATED:20250102T204104Z
LAST-MODIFIED:20250102T204104Z
UID:10001102-1913794200-1913797800@dev.piercelibrary.org
SUMMARY:Preschool Story Hour 2026
DESCRIPTION:
URL:https://dev.piercelibrary.org/event/preschool-story-hour-2025/2030-08-24/
END:VEVENT
BEGIN:VEVENT
DTSTART;TZID=America/New_York:20300831T093000
DTEND;TZID=America/New_York:20300831T103000
DTSTAMP:20260423T072350
CREATED:20250102T204104Z
LAST-MODIFIED:20250102T204104Z
UID:10001103-1914399000-1914402600@dev.piercelibrary.org
SUMMARY:Preschool Story Hour 2026
DESCRIPTION:
URL:https://dev.piercelibrary.org/event/preschool-story-hour-2025/2030-08-31/
END:VEVENT
END:VCALENDAR