BEGIN:VCALENDAR
VERSION:2.0
PRODID:-//Allen F. Pierce Free Library - ECPv6.15.17//NONSGML v1.0//EN
CALSCALE:GREGORIAN
METHOD:PUBLISH
X-ORIGINAL-URL:https://dev.piercelibrary.org
X-WR-CALDESC:Events for Allen F. Pierce Free Library
REFRESH-INTERVAL;VALUE=DURATION:PT1H
X-Robots-Tag:noindex
X-PUBLISHED-TTL:PT1H
BEGIN:VTIMEZONE
TZID:America/New_York
BEGIN:DAYLIGHT
TZOFFSETFROM:-0500
TZOFFSETTO:-0400
TZNAME:EDT
DTSTART:20290311T070000
END:DAYLIGHT
BEGIN:STANDARD
TZOFFSETFROM:-0400
TZOFFSETTO:-0500
TZNAME:EST
DTSTART:20291104T060000
END:STANDARD
BEGIN:DAYLIGHT
TZOFFSETFROM:-0500
TZOFFSETTO:-0400
TZNAME:EDT
DTSTART:20300310T070000
END:DAYLIGHT
BEGIN:STANDARD
TZOFFSETFROM:-0400
TZOFFSETTO:-0500
TZNAME:EST
DTSTART:20301103T060000
END:STANDARD
BEGIN:DAYLIGHT
TZOFFSETFROM:-0500
TZOFFSETTO:-0400
TZNAME:EDT
DTSTART:20310309T070000
END:DAYLIGHT
BEGIN:STANDARD
TZOFFSETFROM:-0400
TZOFFSETTO:-0500
TZNAME:EST
DTSTART:20311102T060000
END:STANDARD
END:VTIMEZONE
BEGIN:VEVENT
DTSTART;TZID=America/New_York:20300706T093000
DTEND;TZID=America/New_York:20300706T103000
DTSTAMP:20260423T060520
CREATED:20250102T204104Z
LAST-MODIFIED:20250102T204104Z
UID:10001095-1909560600-1909564200@dev.piercelibrary.org
SUMMARY:Preschool Story Hour 2026
DESCRIPTION:
URL:https://dev.piercelibrary.org/event/preschool-story-hour-2025/2030-07-06/
END:VEVENT
BEGIN:VEVENT
DTSTART;TZID=America/New_York:20300709T163000
DTEND;TZID=America/New_York:20300709T173000
DTSTAMP:20260423T060520
CREATED:20250306T130604Z
LAST-MODIFIED:20250306T130604Z
UID:10001186-1909845000-1909848600@dev.piercelibrary.org
SUMMARY:Career Link
DESCRIPTION:Meets 2nd and 4th Tuesday of each month 4:30 – 5:30
URL:https://dev.piercelibrary.org/event/career-link/2030-07-09/
END:VEVENT
BEGIN:VEVENT
DTSTART;TZID=America/New_York:20300713T093000
DTEND;TZID=America/New_York:20300713T103000
DTSTAMP:20260423T060520
CREATED:20250102T204104Z
LAST-MODIFIED:20250102T204104Z
UID:10001096-1910165400-1910169000@dev.piercelibrary.org
SUMMARY:Preschool Story Hour 2026
DESCRIPTION:
URL:https://dev.piercelibrary.org/event/preschool-story-hour-2025/2030-07-13/
END:VEVENT
BEGIN:VEVENT
DTSTART;TZID=America/New_York:20300720T093000
DTEND;TZID=America/New_York:20300720T103000
DTSTAMP:20260423T060520
CREATED:20250102T204104Z
LAST-MODIFIED:20250102T204104Z
UID:10001097-1910770200-1910773800@dev.piercelibrary.org
SUMMARY:Preschool Story Hour 2026
DESCRIPTION:
URL:https://dev.piercelibrary.org/event/preschool-story-hour-2025/2030-07-20/
END:VEVENT
BEGIN:VEVENT
DTSTART;TZID=America/New_York:20300727T093000
DTEND;TZID=America/New_York:20300727T103000
DTSTAMP:20260423T060520
CREATED:20250102T204104Z
LAST-MODIFIED:20250102T204104Z
UID:10001098-1911375000-1911378600@dev.piercelibrary.org
SUMMARY:Preschool Story Hour 2026
DESCRIPTION:
URL:https://dev.piercelibrary.org/event/preschool-story-hour-2025/2030-07-27/
END:VEVENT
END:VCALENDAR