BEGIN:VCALENDAR
VERSION:2.0
PRODID:-//Allen F. Pierce Free Library - ECPv6.15.17//NONSGML v1.0//EN
CALSCALE:GREGORIAN
METHOD:PUBLISH
X-ORIGINAL-URL:https://dev.piercelibrary.org
X-WR-CALDESC:Events for Allen F. Pierce Free Library
REFRESH-INTERVAL;VALUE=DURATION:PT1H
X-Robots-Tag:noindex
X-PUBLISHED-TTL:PT1H
BEGIN:VTIMEZONE
TZID:America/New_York
BEGIN:DAYLIGHT
TZOFFSETFROM:-0500
TZOFFSETTO:-0400
TZNAME:EDT
DTSTART:20290311T070000
END:DAYLIGHT
BEGIN:STANDARD
TZOFFSETFROM:-0400
TZOFFSETTO:-0500
TZNAME:EST
DTSTART:20291104T060000
END:STANDARD
BEGIN:DAYLIGHT
TZOFFSETFROM:-0500
TZOFFSETTO:-0400
TZNAME:EDT
DTSTART:20300310T070000
END:DAYLIGHT
BEGIN:STANDARD
TZOFFSETFROM:-0400
TZOFFSETTO:-0500
TZNAME:EST
DTSTART:20301103T060000
END:STANDARD
BEGIN:DAYLIGHT
TZOFFSETFROM:-0500
TZOFFSETTO:-0400
TZNAME:EDT
DTSTART:20310309T070000
END:DAYLIGHT
BEGIN:STANDARD
TZOFFSETFROM:-0400
TZOFFSETTO:-0500
TZNAME:EST
DTSTART:20311102T060000
END:STANDARD
END:VTIMEZONE
BEGIN:VEVENT
DTSTART;TZID=America/New_York:20300406T093000
DTEND;TZID=America/New_York:20300406T103000
DTSTAMP:20260423T020822
CREATED:20250102T204104Z
LAST-MODIFIED:20250102T204104Z
UID:10001082-1901698200-1901701800@dev.piercelibrary.org
SUMMARY:Preschool Story Hour 2026
DESCRIPTION:
URL:https://dev.piercelibrary.org/event/preschool-story-hour-2025/2030-04-06/
END:VEVENT
BEGIN:VEVENT
DTSTART;TZID=America/New_York:20300409T163000
DTEND;TZID=America/New_York:20300409T173000
DTSTAMP:20260423T020822
CREATED:20250306T130604Z
LAST-MODIFIED:20250306T130604Z
UID:10001183-1901982600-1901986200@dev.piercelibrary.org
SUMMARY:Career Link
DESCRIPTION:Meets 2nd and 4th Tuesday of each month 4:30 – 5:30
URL:https://dev.piercelibrary.org/event/career-link/2030-04-09/
END:VEVENT
BEGIN:VEVENT
DTSTART;TZID=America/New_York:20300413T093000
DTEND;TZID=America/New_York:20300413T103000
DTSTAMP:20260423T020822
CREATED:20250102T204104Z
LAST-MODIFIED:20250102T204104Z
UID:10001083-1902303000-1902306600@dev.piercelibrary.org
SUMMARY:Preschool Story Hour 2026
DESCRIPTION:
URL:https://dev.piercelibrary.org/event/preschool-story-hour-2025/2030-04-13/
END:VEVENT
BEGIN:VEVENT
DTSTART;TZID=America/New_York:20300420T093000
DTEND;TZID=America/New_York:20300420T103000
DTSTAMP:20260423T020822
CREATED:20250102T204104Z
LAST-MODIFIED:20250102T204104Z
UID:10001084-1902907800-1902911400@dev.piercelibrary.org
SUMMARY:Preschool Story Hour 2026
DESCRIPTION:
URL:https://dev.piercelibrary.org/event/preschool-story-hour-2025/2030-04-20/
END:VEVENT
BEGIN:VEVENT
DTSTART;TZID=America/New_York:20300427T093000
DTEND;TZID=America/New_York:20300427T103000
DTSTAMP:20260423T020822
CREATED:20250102T204104Z
LAST-MODIFIED:20250102T204104Z
UID:10001085-1903512600-1903516200@dev.piercelibrary.org
SUMMARY:Preschool Story Hour 2026
DESCRIPTION:
URL:https://dev.piercelibrary.org/event/preschool-story-hour-2025/2030-04-27/
END:VEVENT
END:VCALENDAR