BEGIN:VCALENDAR
VERSION:2.0
PRODID:-//Allen F. Pierce Free Library - ECPv6.15.17//NONSGML v1.0//EN
CALSCALE:GREGORIAN
METHOD:PUBLISH
X-WR-CALNAME:Allen F. Pierce Free Library
X-ORIGINAL-URL:https://dev.piercelibrary.org
X-WR-CALDESC:Events for Allen F. Pierce Free Library
REFRESH-INTERVAL;VALUE=DURATION:PT1H
X-Robots-Tag:noindex
X-PUBLISHED-TTL:PT1H
BEGIN:VTIMEZONE
TZID:America/New_York
BEGIN:DAYLIGHT
TZOFFSETFROM:-0500
TZOFFSETTO:-0400
TZNAME:EDT
DTSTART:20280312T070000
END:DAYLIGHT
BEGIN:STANDARD
TZOFFSETFROM:-0400
TZOFFSETTO:-0500
TZNAME:EST
DTSTART:20281105T060000
END:STANDARD
BEGIN:DAYLIGHT
TZOFFSETFROM:-0500
TZOFFSETTO:-0400
TZNAME:EDT
DTSTART:20290311T070000
END:DAYLIGHT
BEGIN:STANDARD
TZOFFSETFROM:-0400
TZOFFSETTO:-0500
TZNAME:EST
DTSTART:20291104T060000
END:STANDARD
BEGIN:DAYLIGHT
TZOFFSETFROM:-0500
TZOFFSETTO:-0400
TZNAME:EDT
DTSTART:20300310T070000
END:DAYLIGHT
BEGIN:STANDARD
TZOFFSETFROM:-0400
TZOFFSETTO:-0500
TZNAME:EST
DTSTART:20301103T060000
END:STANDARD
END:VTIMEZONE
BEGIN:VEVENT
DTSTART;TZID=America/New_York:20291201T093000
DTEND;TZID=America/New_York:20291201T103000
DTSTAMP:20260422T202008
CREATED:20250102T204104Z
LAST-MODIFIED:20250102T204104Z
UID:10001064-1890811800-1890815400@dev.piercelibrary.org
SUMMARY:Preschool Story Hour 2026
DESCRIPTION:
URL:https://dev.piercelibrary.org/event/preschool-story-hour-2025/2029-12-01/
END:VEVENT
BEGIN:VEVENT
DTSTART;TZID=America/New_York:20291208T093000
DTEND;TZID=America/New_York:20291208T103000
DTSTAMP:20260422T202008
CREATED:20250102T204104Z
LAST-MODIFIED:20250102T204104Z
UID:10001065-1891416600-1891420200@dev.piercelibrary.org
SUMMARY:Preschool Story Hour 2026
DESCRIPTION:
URL:https://dev.piercelibrary.org/event/preschool-story-hour-2025/2029-12-08/
END:VEVENT
BEGIN:VEVENT
DTSTART;TZID=America/New_York:20291211T163000
DTEND;TZID=America/New_York:20291211T173000
DTSTAMP:20260422T202008
CREATED:20250306T130604Z
LAST-MODIFIED:20250306T130604Z
UID:10001179-1891701000-1891704600@dev.piercelibrary.org
SUMMARY:Career Link
DESCRIPTION:Meets 2nd and 4th Tuesday of each month 4:30 – 5:30
URL:https://dev.piercelibrary.org/event/career-link/2029-12-11/
END:VEVENT
BEGIN:VEVENT
DTSTART;TZID=America/New_York:20291215T093000
DTEND;TZID=America/New_York:20291215T103000
DTSTAMP:20260422T202008
CREATED:20250102T204104Z
LAST-MODIFIED:20250102T204104Z
UID:10001066-1892021400-1892025000@dev.piercelibrary.org
SUMMARY:Preschool Story Hour 2026
DESCRIPTION:
URL:https://dev.piercelibrary.org/event/preschool-story-hour-2025/2029-12-15/
END:VEVENT
BEGIN:VEVENT
DTSTART;TZID=America/New_York:20291222T093000
DTEND;TZID=America/New_York:20291222T103000
DTSTAMP:20260422T202008
CREATED:20250102T204104Z
LAST-MODIFIED:20250102T204104Z
UID:10001067-1892626200-1892629800@dev.piercelibrary.org
SUMMARY:Preschool Story Hour 2026
DESCRIPTION:
URL:https://dev.piercelibrary.org/event/preschool-story-hour-2025/2029-12-22/
END:VEVENT
BEGIN:VEVENT
DTSTART;TZID=America/New_York:20291229T093000
DTEND;TZID=America/New_York:20291229T103000
DTSTAMP:20260422T202008
CREATED:20250102T204104Z
LAST-MODIFIED:20250102T204104Z
UID:10001068-1893231000-1893234600@dev.piercelibrary.org
SUMMARY:Preschool Story Hour 2026
DESCRIPTION:
URL:https://dev.piercelibrary.org/event/preschool-story-hour-2025/2029-12-29/
END:VEVENT
END:VCALENDAR