BEGIN:VCALENDAR
VERSION:2.0
PRODID:-//Allen F. Pierce Free Library - ECPv6.15.17//NONSGML v1.0//EN
CALSCALE:GREGORIAN
METHOD:PUBLISH
X-ORIGINAL-URL:https://dev.piercelibrary.org
X-WR-CALDESC:Events for Allen F. Pierce Free Library
REFRESH-INTERVAL;VALUE=DURATION:PT1H
X-Robots-Tag:noindex
X-PUBLISHED-TTL:PT1H
BEGIN:VTIMEZONE
TZID:America/New_York
BEGIN:DAYLIGHT
TZOFFSETFROM:-0500
TZOFFSETTO:-0400
TZNAME:EDT
DTSTART:20280312T070000
END:DAYLIGHT
BEGIN:STANDARD
TZOFFSETFROM:-0400
TZOFFSETTO:-0500
TZNAME:EST
DTSTART:20281105T060000
END:STANDARD
BEGIN:DAYLIGHT
TZOFFSETFROM:-0500
TZOFFSETTO:-0400
TZNAME:EDT
DTSTART:20290311T070000
END:DAYLIGHT
BEGIN:STANDARD
TZOFFSETFROM:-0400
TZOFFSETTO:-0500
TZNAME:EST
DTSTART:20291104T060000
END:STANDARD
BEGIN:DAYLIGHT
TZOFFSETFROM:-0500
TZOFFSETTO:-0400
TZNAME:EDT
DTSTART:20300310T070000
END:DAYLIGHT
BEGIN:STANDARD
TZOFFSETFROM:-0400
TZOFFSETTO:-0500
TZNAME:EST
DTSTART:20301103T060000
END:STANDARD
END:VTIMEZONE
BEGIN:VEVENT
DTSTART;TZID=America/New_York:20290303T093000
DTEND;TZID=America/New_York:20290303T103000
DTSTAMP:20260422T081649
CREATED:20250102T204104Z
LAST-MODIFIED:20250102T204104Z
UID:10001025-1867224600-1867228200@dev.piercelibrary.org
SUMMARY:Preschool Story Hour 2026
DESCRIPTION:
URL:https://dev.piercelibrary.org/event/preschool-story-hour-2025/2029-03-03/
END:VEVENT
BEGIN:VEVENT
DTSTART;TZID=America/New_York:20290310T093000
DTEND;TZID=America/New_York:20290310T103000
DTSTAMP:20260422T081649
CREATED:20250102T204104Z
LAST-MODIFIED:20250102T204104Z
UID:10001026-1867829400-1867833000@dev.piercelibrary.org
SUMMARY:Preschool Story Hour 2026
DESCRIPTION:
URL:https://dev.piercelibrary.org/event/preschool-story-hour-2025/2029-03-10/
END:VEVENT
BEGIN:VEVENT
DTSTART;TZID=America/New_York:20290313T163000
DTEND;TZID=America/New_York:20290313T173000
DTSTAMP:20260422T081649
CREATED:20250306T130604Z
LAST-MODIFIED:20250306T130604Z
UID:10001170-1868113800-1868117400@dev.piercelibrary.org
SUMMARY:Career Link
DESCRIPTION:Meets 2nd and 4th Tuesday of each month 4:30 – 5:30
URL:https://dev.piercelibrary.org/event/career-link/2029-03-13/
END:VEVENT
BEGIN:VEVENT
DTSTART;TZID=America/New_York:20290317T093000
DTEND;TZID=America/New_York:20290317T103000
DTSTAMP:20260422T081649
CREATED:20250102T204104Z
LAST-MODIFIED:20250102T204104Z
UID:10001027-1868434200-1868437800@dev.piercelibrary.org
SUMMARY:Preschool Story Hour 2026
DESCRIPTION:
URL:https://dev.piercelibrary.org/event/preschool-story-hour-2025/2029-03-17/
END:VEVENT
BEGIN:VEVENT
DTSTART;TZID=America/New_York:20290324T093000
DTEND;TZID=America/New_York:20290324T103000
DTSTAMP:20260422T081649
CREATED:20250102T204104Z
LAST-MODIFIED:20250102T204104Z
UID:10001028-1869039000-1869042600@dev.piercelibrary.org
SUMMARY:Preschool Story Hour 2026
DESCRIPTION:
URL:https://dev.piercelibrary.org/event/preschool-story-hour-2025/2029-03-24/
END:VEVENT
BEGIN:VEVENT
DTSTART;TZID=America/New_York:20290331T093000
DTEND;TZID=America/New_York:20290331T103000
DTSTAMP:20260422T081649
CREATED:20250102T204104Z
LAST-MODIFIED:20250102T204104Z
UID:10001029-1869643800-1869647400@dev.piercelibrary.org
SUMMARY:Preschool Story Hour 2026
DESCRIPTION:
URL:https://dev.piercelibrary.org/event/preschool-story-hour-2025/2029-03-31/
END:VEVENT
END:VCALENDAR