BEGIN:VCALENDAR
VERSION:2.0
PRODID:-//Allen F. Pierce Free Library - ECPv6.15.17//NONSGML v1.0//EN
CALSCALE:GREGORIAN
METHOD:PUBLISH
X-ORIGINAL-URL:https://dev.piercelibrary.org
X-WR-CALDESC:Events for Allen F. Pierce Free Library
REFRESH-INTERVAL;VALUE=DURATION:PT1H
X-Robots-Tag:noindex
X-PUBLISHED-TTL:PT1H
BEGIN:VTIMEZONE
TZID:America/New_York
BEGIN:DAYLIGHT
TZOFFSETFROM:-0500
TZOFFSETTO:-0400
TZNAME:EDT
DTSTART:20280312T070000
END:DAYLIGHT
BEGIN:STANDARD
TZOFFSETFROM:-0400
TZOFFSETTO:-0500
TZNAME:EST
DTSTART:20281105T060000
END:STANDARD
BEGIN:DAYLIGHT
TZOFFSETFROM:-0500
TZOFFSETTO:-0400
TZNAME:EDT
DTSTART:20290311T070000
END:DAYLIGHT
BEGIN:STANDARD
TZOFFSETFROM:-0400
TZOFFSETTO:-0500
TZNAME:EST
DTSTART:20291104T060000
END:STANDARD
BEGIN:DAYLIGHT
TZOFFSETFROM:-0500
TZOFFSETTO:-0400
TZNAME:EDT
DTSTART:20300310T070000
END:DAYLIGHT
BEGIN:STANDARD
TZOFFSETFROM:-0400
TZOFFSETTO:-0500
TZNAME:EST
DTSTART:20301103T060000
END:STANDARD
END:VTIMEZONE
BEGIN:VEVENT
DTSTART;TZID=America/New_York:20290203T093000
DTEND;TZID=America/New_York:20290203T103000
DTSTAMP:20260422T065417
CREATED:20250102T204104Z
LAST-MODIFIED:20250102T204104Z
UID:10001021-1864805400-1864809000@dev.piercelibrary.org
SUMMARY:Preschool Story Hour 2026
DESCRIPTION:
URL:https://dev.piercelibrary.org/event/preschool-story-hour-2025/2029-02-03/
END:VEVENT
BEGIN:VEVENT
DTSTART;TZID=America/New_York:20290210T093000
DTEND;TZID=America/New_York:20290210T103000
DTSTAMP:20260422T065417
CREATED:20250102T204104Z
LAST-MODIFIED:20250102T204104Z
UID:10001022-1865410200-1865413800@dev.piercelibrary.org
SUMMARY:Preschool Story Hour 2026
DESCRIPTION:
URL:https://dev.piercelibrary.org/event/preschool-story-hour-2025/2029-02-10/
END:VEVENT
BEGIN:VEVENT
DTSTART;TZID=America/New_York:20290213T163000
DTEND;TZID=America/New_York:20290213T173000
DTSTAMP:20260422T065417
CREATED:20250306T130604Z
LAST-MODIFIED:20250306T130604Z
UID:10001169-1865694600-1865698200@dev.piercelibrary.org
SUMMARY:Career Link
DESCRIPTION:Meets 2nd and 4th Tuesday of each month 4:30 – 5:30
URL:https://dev.piercelibrary.org/event/career-link/2029-02-13/
END:VEVENT
BEGIN:VEVENT
DTSTART;TZID=America/New_York:20290217T093000
DTEND;TZID=America/New_York:20290217T103000
DTSTAMP:20260422T065417
CREATED:20250102T204104Z
LAST-MODIFIED:20250102T204104Z
UID:10001023-1866015000-1866018600@dev.piercelibrary.org
SUMMARY:Preschool Story Hour 2026
DESCRIPTION:
URL:https://dev.piercelibrary.org/event/preschool-story-hour-2025/2029-02-17/
END:VEVENT
BEGIN:VEVENT
DTSTART;TZID=America/New_York:20290224T093000
DTEND;TZID=America/New_York:20290224T103000
DTSTAMP:20260422T065417
CREATED:20250102T204104Z
LAST-MODIFIED:20250102T204104Z
UID:10001024-1866619800-1866623400@dev.piercelibrary.org
SUMMARY:Preschool Story Hour 2026
DESCRIPTION:
URL:https://dev.piercelibrary.org/event/preschool-story-hour-2025/2029-02-24/
END:VEVENT
END:VCALENDAR