BEGIN:VCALENDAR
VERSION:2.0
PRODID:-//Allen F. Pierce Free Library - ECPv6.15.17//NONSGML v1.0//EN
CALSCALE:GREGORIAN
METHOD:PUBLISH
X-WR-CALNAME:Allen F. Pierce Free Library
X-ORIGINAL-URL:https://dev.piercelibrary.org
X-WR-CALDESC:Events for Allen F. Pierce Free Library
REFRESH-INTERVAL;VALUE=DURATION:PT1H
X-Robots-Tag:noindex
X-PUBLISHED-TTL:PT1H
BEGIN:VTIMEZONE
TZID:America/New_York
BEGIN:DAYLIGHT
TZOFFSETFROM:-0500
TZOFFSETTO:-0400
TZNAME:EDT
DTSTART:20270314T070000
END:DAYLIGHT
BEGIN:STANDARD
TZOFFSETFROM:-0400
TZOFFSETTO:-0500
TZNAME:EST
DTSTART:20271107T060000
END:STANDARD
BEGIN:DAYLIGHT
TZOFFSETFROM:-0500
TZOFFSETTO:-0400
TZNAME:EDT
DTSTART:20280312T070000
END:DAYLIGHT
BEGIN:STANDARD
TZOFFSETFROM:-0400
TZOFFSETTO:-0500
TZNAME:EST
DTSTART:20281105T060000
END:STANDARD
BEGIN:DAYLIGHT
TZOFFSETFROM:-0500
TZOFFSETTO:-0400
TZNAME:EDT
DTSTART:20290311T070000
END:DAYLIGHT
BEGIN:STANDARD
TZOFFSETFROM:-0400
TZOFFSETTO:-0500
TZNAME:EST
DTSTART:20291104T060000
END:STANDARD
END:VTIMEZONE
BEGIN:VEVENT
DTSTART;TZID=America/New_York:20281202T093000
DTEND;TZID=America/New_York:20281202T103000
DTSTAMP:20260422T040807
CREATED:20250102T204104Z
LAST-MODIFIED:20250102T204104Z
UID:10001012-1859362200-1859365800@dev.piercelibrary.org
SUMMARY:Preschool Story Hour 2026
DESCRIPTION:
URL:https://dev.piercelibrary.org/event/preschool-story-hour-2025/2028-12-02/
END:VEVENT
BEGIN:VEVENT
DTSTART;TZID=America/New_York:20281209T093000
DTEND;TZID=America/New_York:20281209T103000
DTSTAMP:20260422T040807
CREATED:20250102T204104Z
LAST-MODIFIED:20250102T204104Z
UID:10001013-1859967000-1859970600@dev.piercelibrary.org
SUMMARY:Preschool Story Hour 2026
DESCRIPTION:
URL:https://dev.piercelibrary.org/event/preschool-story-hour-2025/2028-12-09/
END:VEVENT
BEGIN:VEVENT
DTSTART;TZID=America/New_York:20281212T163000
DTEND;TZID=America/New_York:20281212T173000
DTSTAMP:20260422T040807
CREATED:20250306T130604Z
LAST-MODIFIED:20250306T130604Z
UID:10001167-1860251400-1860255000@dev.piercelibrary.org
SUMMARY:Career Link
DESCRIPTION:Meets 2nd and 4th Tuesday of each month 4:30 – 5:30
URL:https://dev.piercelibrary.org/event/career-link/2028-12-12/
END:VEVENT
BEGIN:VEVENT
DTSTART;TZID=America/New_York:20281216T093000
DTEND;TZID=America/New_York:20281216T103000
DTSTAMP:20260422T040807
CREATED:20250102T204104Z
LAST-MODIFIED:20250102T204104Z
UID:10001014-1860571800-1860575400@dev.piercelibrary.org
SUMMARY:Preschool Story Hour 2026
DESCRIPTION:
URL:https://dev.piercelibrary.org/event/preschool-story-hour-2025/2028-12-16/
END:VEVENT
BEGIN:VEVENT
DTSTART;TZID=America/New_York:20281223T093000
DTEND;TZID=America/New_York:20281223T103000
DTSTAMP:20260422T040807
CREATED:20250102T204104Z
LAST-MODIFIED:20250102T204104Z
UID:10001015-1861176600-1861180200@dev.piercelibrary.org
SUMMARY:Preschool Story Hour 2026
DESCRIPTION:
URL:https://dev.piercelibrary.org/event/preschool-story-hour-2025/2028-12-23/
END:VEVENT
BEGIN:VEVENT
DTSTART;TZID=America/New_York:20281230T093000
DTEND;TZID=America/New_York:20281230T103000
DTSTAMP:20260422T040807
CREATED:20250102T204104Z
LAST-MODIFIED:20250102T204104Z
UID:10001016-1861781400-1861785000@dev.piercelibrary.org
SUMMARY:Preschool Story Hour 2026
DESCRIPTION:
URL:https://dev.piercelibrary.org/event/preschool-story-hour-2025/2028-12-30/
END:VEVENT
END:VCALENDAR