BEGIN:VCALENDAR
VERSION:2.0
PRODID:-//Allen F. Pierce Free Library - ECPv6.15.17//NONSGML v1.0//EN
CALSCALE:GREGORIAN
METHOD:PUBLISH
X-WR-CALNAME:Allen F. Pierce Free Library
X-ORIGINAL-URL:https://dev.piercelibrary.org
X-WR-CALDESC:Events for Allen F. Pierce Free Library
REFRESH-INTERVAL;VALUE=DURATION:PT1H
X-Robots-Tag:noindex
X-PUBLISHED-TTL:PT1H
BEGIN:VTIMEZONE
TZID:America/New_York
BEGIN:DAYLIGHT
TZOFFSETFROM:-0500
TZOFFSETTO:-0400
TZNAME:EDT
DTSTART:20270314T070000
END:DAYLIGHT
BEGIN:STANDARD
TZOFFSETFROM:-0400
TZOFFSETTO:-0500
TZNAME:EST
DTSTART:20271107T060000
END:STANDARD
BEGIN:DAYLIGHT
TZOFFSETFROM:-0500
TZOFFSETTO:-0400
TZNAME:EDT
DTSTART:20280312T070000
END:DAYLIGHT
BEGIN:STANDARD
TZOFFSETFROM:-0400
TZOFFSETTO:-0500
TZNAME:EST
DTSTART:20281105T060000
END:STANDARD
BEGIN:DAYLIGHT
TZOFFSETFROM:-0500
TZOFFSETTO:-0400
TZNAME:EDT
DTSTART:20290311T070000
END:DAYLIGHT
BEGIN:STANDARD
TZOFFSETFROM:-0400
TZOFFSETTO:-0500
TZNAME:EST
DTSTART:20291104T060000
END:STANDARD
END:VTIMEZONE
BEGIN:VEVENT
DTSTART;TZID=America/New_York:20280506T093000
DTEND;TZID=America/New_York:20280506T103000
DTSTAMP:20260421T181336
CREATED:20250102T204104Z
LAST-MODIFIED:20250102T204104Z
UID:10000982-1841218200-1841221800@dev.piercelibrary.org
SUMMARY:Preschool Story Hour 2026
DESCRIPTION:
URL:https://dev.piercelibrary.org/event/preschool-story-hour-2025/2028-05-06/
END:VEVENT
BEGIN:VEVENT
DTSTART;TZID=America/New_York:20280509T163000
DTEND;TZID=America/New_York:20280509T173000
DTSTAMP:20260421T181336
CREATED:20250306T130604Z
LAST-MODIFIED:20250306T130604Z
UID:10001160-1841502600-1841506200@dev.piercelibrary.org
SUMMARY:Career Link
DESCRIPTION:Meets 2nd and 4th Tuesday of each month 4:30 – 5:30
URL:https://dev.piercelibrary.org/event/career-link/2028-05-09/
END:VEVENT
BEGIN:VEVENT
DTSTART;TZID=America/New_York:20280513T093000
DTEND;TZID=America/New_York:20280513T103000
DTSTAMP:20260421T181336
CREATED:20250102T204104Z
LAST-MODIFIED:20250102T204104Z
UID:10000983-1841823000-1841826600@dev.piercelibrary.org
SUMMARY:Preschool Story Hour 2026
DESCRIPTION:
URL:https://dev.piercelibrary.org/event/preschool-story-hour-2025/2028-05-13/
END:VEVENT
BEGIN:VEVENT
DTSTART;TZID=America/New_York:20280520T093000
DTEND;TZID=America/New_York:20280520T103000
DTSTAMP:20260421T181336
CREATED:20250102T204104Z
LAST-MODIFIED:20250102T204104Z
UID:10000984-1842427800-1842431400@dev.piercelibrary.org
SUMMARY:Preschool Story Hour 2026
DESCRIPTION:
URL:https://dev.piercelibrary.org/event/preschool-story-hour-2025/2028-05-20/
END:VEVENT
BEGIN:VEVENT
DTSTART;TZID=America/New_York:20280527T093000
DTEND;TZID=America/New_York:20280527T103000
DTSTAMP:20260421T181336
CREATED:20250102T204104Z
LAST-MODIFIED:20250102T204104Z
UID:10000985-1843032600-1843036200@dev.piercelibrary.org
SUMMARY:Preschool Story Hour 2026
DESCRIPTION:
URL:https://dev.piercelibrary.org/event/preschool-story-hour-2025/2028-05-27/
END:VEVENT
END:VCALENDAR