BEGIN:VCALENDAR
VERSION:2.0
PRODID:-//Allen F. Pierce Free Library - ECPv6.15.17//NONSGML v1.0//EN
CALSCALE:GREGORIAN
METHOD:PUBLISH
X-WR-CALNAME:Allen F. Pierce Free Library
X-ORIGINAL-URL:https://dev.piercelibrary.org
X-WR-CALDESC:Events for Allen F. Pierce Free Library
REFRESH-INTERVAL;VALUE=DURATION:PT1H
X-Robots-Tag:noindex
X-PUBLISHED-TTL:PT1H
BEGIN:VTIMEZONE
TZID:UTC
BEGIN:STANDARD
TZOFFSETFROM:+0000
TZOFFSETTO:+0000
TZNAME:UTC
DTSTART:20250101T000000
END:STANDARD
END:VTIMEZONE
BEGIN:VTIMEZONE
TZID:America/New_York
BEGIN:DAYLIGHT
TZOFFSETFROM:-0500
TZOFFSETTO:-0400
TZNAME:EDT
DTSTART:20250309T070000
END:DAYLIGHT
BEGIN:STANDARD
TZOFFSETFROM:-0400
TZOFFSETTO:-0500
TZNAME:EST
DTSTART:20251102T060000
END:STANDARD
BEGIN:DAYLIGHT
TZOFFSETFROM:-0500
TZOFFSETTO:-0400
TZNAME:EDT
DTSTART:20260308T070000
END:DAYLIGHT
BEGIN:STANDARD
TZOFFSETFROM:-0400
TZOFFSETTO:-0500
TZNAME:EST
DTSTART:20261101T060000
END:STANDARD
BEGIN:DAYLIGHT
TZOFFSETFROM:-0500
TZOFFSETTO:-0400
TZNAME:EDT
DTSTART:20270314T070000
END:DAYLIGHT
BEGIN:STANDARD
TZOFFSETFROM:-0400
TZOFFSETTO:-0500
TZNAME:EST
DTSTART:20271107T060000
END:STANDARD
END:VTIMEZONE
BEGIN:VEVENT
DTSTART;TZID=UTC:20261208T190000
DTEND;TZID=UTC:20261208T200000
DTSTAMP:20260425T150339
CREATED:20230203T195552Z
LAST-MODIFIED:20230203T195552Z
UID:10004005-1796756400-1796760000@dev.piercelibrary.org
SUMMARY:Book Club
DESCRIPTION:Book Club\nmeets the 2nd Tuesday of each month at 7:00 \n 
URL:https://dev.piercelibrary.org/event/book-club-28-2025-09-09/2026-12-08/
END:VEVENT
BEGIN:VEVENT
DTSTART;TZID=UTC:20261208T190000
DTEND;TZID=UTC:20261208T200000
DTSTAMP:20260425T150339
CREATED:20230203T195552Z
LAST-MODIFIED:20230203T195552Z
UID:10004053-1796756400-1796760000@dev.piercelibrary.org
SUMMARY:Book Club
DESCRIPTION:Book Club\nmeets the 2nd Tuesday of each month at 7:00 \n 
URL:https://dev.piercelibrary.org/event/book-club-28-2025-09-09/2026-12-08/
END:VEVENT
BEGIN:VEVENT
DTSTART;TZID=UTC:20261208T190000
DTEND;TZID=UTC:20261208T200000
DTSTAMP:20260425T150339
CREATED:20230203T195552Z
LAST-MODIFIED:20230203T195552Z
UID:10001796-1796756400-1796760000@dev.piercelibrary.org
SUMMARY:Book Club
DESCRIPTION:Book Club\nmeets the 2nd Tuesday of each month at 7:00 \n 
URL:https://dev.piercelibrary.org/event/book-club-28-2024-02-13/2026-12-08/
END:VEVENT
BEGIN:VEVENT
DTSTART;TZID=UTC:20261208T190000
DTEND;TZID=UTC:20261208T200000
DTSTAMP:20260425T150339
CREATED:20230203T195552Z
LAST-MODIFIED:20230203T195552Z
UID:10001844-1796756400-1796760000@dev.piercelibrary.org
SUMMARY:Book Club
DESCRIPTION:Book Club\nmeets the 2nd Tuesday of each month at 7:00 \n 
URL:https://dev.piercelibrary.org/event/book-club-28-2024-02-13/2026-12-08/
END:VEVENT
BEGIN:VEVENT
DTSTART;TZID=UTC:20261208T190000
DTEND;TZID=UTC:20261208T200000
DTSTAMP:20260425T150339
CREATED:20230203T195552Z
LAST-MODIFIED:20230203T195552Z
UID:10004236-1796756400-1796760000@dev.piercelibrary.org
SUMMARY:Book Club
DESCRIPTION:Book Club\nmeets the 2nd Tuesday of each month at 7:00 \n 
URL:https://dev.piercelibrary.org/event/book-club-28-2025-10-14/2026-12-08/
END:VEVENT
BEGIN:VEVENT
DTSTART;TZID=UTC:20261208T190000
DTEND;TZID=UTC:20261208T200000
DTSTAMP:20260425T150339
CREATED:20230203T195552Z
LAST-MODIFIED:20230203T195552Z
UID:10002042-1796756400-1796760000@dev.piercelibrary.org
SUMMARY:Book Club
DESCRIPTION:Book Club\nmeets the 2nd Tuesday of each month at 7:00 \n 
URL:https://dev.piercelibrary.org/event/book-club-28-2024-03-12/2026-12-08/
END:VEVENT
BEGIN:VEVENT
DTSTART;TZID=UTC:20261208T190000
DTEND;TZID=UTC:20261208T200000
DTSTAMP:20260425T150339
CREATED:20230203T195552Z
LAST-MODIFIED:20230203T195552Z
UID:10004346-1796756400-1796760000@dev.piercelibrary.org
SUMMARY:Book Club
DESCRIPTION:Book Club\nmeets the 2nd Tuesday of each month at 7:00 \n 
URL:https://dev.piercelibrary.org/event/book-club-28-2025-10-14/2026-12-08/
END:VEVENT
BEGIN:VEVENT
DTSTART;TZID=UTC:20261208T190000
DTEND;TZID=UTC:20261208T200000
DTSTAMP:20260425T150339
CREATED:20230203T195552Z
LAST-MODIFIED:20230203T195552Z
UID:10002246-1796756400-1796760000@dev.piercelibrary.org
SUMMARY:Book Club
DESCRIPTION:Book Club\nmeets the 2nd Tuesday of each month at 7:00 \n 
URL:https://dev.piercelibrary.org/event/book-club-28-2024-03-12/2026-12-08/
END:VEVENT
BEGIN:VEVENT
DTSTART;TZID=UTC:20261208T190000
DTEND;TZID=UTC:20261208T200000
DTSTAMP:20260425T150339
CREATED:20230203T195552Z
LAST-MODIFIED:20230203T195552Z
UID:10004587-1796756400-1796760000@dev.piercelibrary.org
SUMMARY:Book Club
DESCRIPTION:Book Club\nmeets the 2nd Tuesday of each month at 7:00 \n 
URL:https://dev.piercelibrary.org/event/book-club-28-2025-11-11/2026-12-08/
END:VEVENT
BEGIN:VEVENT
DTSTART;TZID=UTC:20261208T190000
DTEND;TZID=UTC:20261208T200000
DTSTAMP:20260425T150339
CREATED:20230203T195552Z
LAST-MODIFIED:20230203T195552Z
UID:10004697-1796756400-1796760000@dev.piercelibrary.org
SUMMARY:Book Club
DESCRIPTION:Book Club\nmeets the 2nd Tuesday of each month at 7:00 \n 
URL:https://dev.piercelibrary.org/event/book-club-28-2025-11-11/2026-12-08/
END:VEVENT
BEGIN:VEVENT
DTSTART;TZID=UTC:20261208T190000
DTEND;TZID=UTC:20261208T200000
DTSTAMP:20260425T150339
CREATED:20230203T195552Z
LAST-MODIFIED:20230203T195552Z
UID:10002752-1796756400-1796760000@dev.piercelibrary.org
SUMMARY:Book Club
DESCRIPTION:Book Club\nmeets the 2nd Tuesday of each month at 7:00 \n 
URL:https://dev.piercelibrary.org/event/book-club-28-2024-04-09/2026-12-08/
END:VEVENT
BEGIN:VEVENT
DTSTART;TZID=UTC:20261208T190000
DTEND;TZID=UTC:20261208T200000
DTSTAMP:20260425T150339
CREATED:20230203T195552Z
LAST-MODIFIED:20230203T195552Z
UID:10002882-1796756400-1796760000@dev.piercelibrary.org
SUMMARY:Book Club
DESCRIPTION:Book Club\nmeets the 2nd Tuesday of each month at 7:00 \n 
URL:https://dev.piercelibrary.org/event/book-club-28-2025-07-08/2026-12-08/
END:VEVENT
BEGIN:VEVENT
DTSTART;TZID=UTC:20261208T190000
DTEND;TZID=UTC:20261208T200000
DTSTAMP:20260425T150339
CREATED:20230203T195552Z
LAST-MODIFIED:20230203T195552Z
UID:10003086-1796756400-1796760000@dev.piercelibrary.org
SUMMARY:Book Club
DESCRIPTION:Book Club\nmeets the 2nd Tuesday of each month at 7:00 \n 
URL:https://dev.piercelibrary.org/event/book-club-28-2025-07-08/2026-12-08/
END:VEVENT
BEGIN:VEVENT
DTSTART;TZID=UTC:20261208T190000
DTEND;TZID=UTC:20261208T200000
DTSTAMP:20260425T150339
CREATED:20230203T195552Z
LAST-MODIFIED:20230203T195552Z
UID:10000204-1796756400-1796760000@dev.piercelibrary.org
SUMMARY:Book Club
DESCRIPTION:Book Club\nmeets the 2nd Tuesday of each month at 7:00 \n 
URL:https://dev.piercelibrary.org/event/book-club-28-2024-04-09/2026-12-08/
END:VEVENT
BEGIN:VEVENT
DTSTART;TZID=UTC:20261208T190000
DTEND;TZID=UTC:20261208T200000
DTSTAMP:20260425T150339
CREATED:20230203T195552Z
LAST-MODIFIED:20230203T195552Z
UID:10003452-1796756400-1796760000@dev.piercelibrary.org
SUMMARY:Book Club
DESCRIPTION:Book Club\nmeets the 2nd Tuesday of each month at 7:00 \n 
URL:https://dev.piercelibrary.org/event/book-club-28-2025-08-12/2026-12-08/
END:VEVENT
BEGIN:VEVENT
DTSTART;TZID=UTC:20261208T190000
DTEND;TZID=UTC:20261208T200000
DTSTAMP:20260425T150339
CREATED:20230203T195552Z
LAST-MODIFIED:20230203T195552Z
UID:10000528-1796756400-1796760000@dev.piercelibrary.org
SUMMARY:Book Club
DESCRIPTION:Book Club\nmeets the 2nd Tuesday of each month at 7:00 \n 
URL:https://dev.piercelibrary.org/event/book-club-28-2025-01-14/2026-12-08/
END:VEVENT
BEGIN:VEVENT
DTSTART;TZID=UTC:20261208T190000
DTEND;TZID=UTC:20261208T200000
DTSTAMP:20260425T150339
CREATED:20230203T195552Z
LAST-MODIFIED:20230203T195552Z
UID:10003562-1796756400-1796760000@dev.piercelibrary.org
SUMMARY:Book Club
DESCRIPTION:Book Club\nmeets the 2nd Tuesday of each month at 7:00 \n 
URL:https://dev.piercelibrary.org/event/book-club-28-2025-08-12/2026-12-08/
END:VEVENT
BEGIN:VEVENT
DTSTART;TZID=UTC:20261208T190000
DTEND;TZID=UTC:20261208T200000
DTSTAMP:20260425T150339
CREATED:20230203T195552Z
LAST-MODIFIED:20230203T195552Z
UID:10000788-1796756400-1796760000@dev.piercelibrary.org
SUMMARY:Book Club
DESCRIPTION:Book Club\nmeets the 2nd Tuesday of each month at 7:00 \n 
URL:https://dev.piercelibrary.org/event/book-club-28-2025-09-09/2026-12-08/
END:VEVENT
BEGIN:VEVENT
DTSTART;TZID=UTC:20261208T190000
DTEND;TZID=UTC:20261208T200000
DTSTAMP:20260425T150339
CREATED:20230203T195552Z
LAST-MODIFIED:20230203T195552Z
UID:10003807-1796756400-1796760000@dev.piercelibrary.org
SUMMARY:Book Club
DESCRIPTION:Book Club\nmeets the 2nd Tuesday of each month at 7:00 \n 
URL:https://dev.piercelibrary.org/event/book-club-28-2025-09-09/2026-12-08/
END:VEVENT
BEGIN:VEVENT
DTSTART;TZID=UTC:20261208T190000
DTEND;TZID=UTC:20261208T200000
DTSTAMP:20260425T150339
CREATED:20230203T195552Z
LAST-MODIFIED:20230203T195552Z
UID:10001598-1796756400-1796760000@dev.piercelibrary.org
SUMMARY:Book Club
DESCRIPTION:Book Club\nmeets the 2nd Tuesday of each month at 7:00 \n 
URL:https://dev.piercelibrary.org/event/book-club-28-2024-02-13/2026-12-08/
END:VEVENT
BEGIN:VEVENT
DTSTART;TZID=UTC:20261208T190000
DTEND;TZID=UTC:20261208T200000
DTSTAMP:20260425T150339
CREATED:20230203T195552Z
LAST-MODIFIED:20230203T195552Z
UID:10004022-1796756400-1796760000@dev.piercelibrary.org
SUMMARY:Book Club
DESCRIPTION:Book Club\nmeets the 2nd Tuesday of each month at 7:00 \n 
URL:https://dev.piercelibrary.org/event/book-club-28-2025-09-09/2026-12-08/
END:VEVENT
BEGIN:VEVENT
DTSTART;TZID=UTC:20261208T190000
DTEND;TZID=UTC:20261208T200000
DTSTAMP:20260425T150339
CREATED:20230203T195552Z
LAST-MODIFIED:20230203T195552Z
UID:10004038-1796756400-1796760000@dev.piercelibrary.org
SUMMARY:Book Club
DESCRIPTION:Book Club\nmeets the 2nd Tuesday of each month at 7:00 \n 
URL:https://dev.piercelibrary.org/event/book-club-28-2025-09-09/2026-12-08/
END:VEVENT
BEGIN:VEVENT
DTSTART;TZID=UTC:20261208T190000
DTEND;TZID=UTC:20261208T200000
DTSTAMP:20260425T150339
CREATED:20230203T195552Z
LAST-MODIFIED:20230203T195552Z
UID:10001813-1796756400-1796760000@dev.piercelibrary.org
SUMMARY:Book Club
DESCRIPTION:Book Club\nmeets the 2nd Tuesday of each month at 7:00 \n 
URL:https://dev.piercelibrary.org/event/book-club-28-2024-02-13/2026-12-08/
END:VEVENT
BEGIN:VEVENT
DTSTART;TZID=UTC:20261208T190000
DTEND;TZID=UTC:20261208T200000
DTSTAMP:20260425T150339
CREATED:20230203T195552Z
LAST-MODIFIED:20230203T195552Z
UID:10001829-1796756400-1796760000@dev.piercelibrary.org
SUMMARY:Book Club
DESCRIPTION:Book Club\nmeets the 2nd Tuesday of each month at 7:00 \n 
URL:https://dev.piercelibrary.org/event/book-club-28-2024-02-13/2026-12-08/
END:VEVENT
BEGIN:VEVENT
DTSTART;TZID=UTC:20261208T190000
DTEND;TZID=UTC:20261208T200000
DTSTAMP:20260425T150339
CREATED:20230203T195552Z
LAST-MODIFIED:20230203T195552Z
UID:10002177-1796756400-1796760000@dev.piercelibrary.org
SUMMARY:Book Club
DESCRIPTION:Book Club\nmeets the 2nd Tuesday of each month at 7:00 \n 
URL:https://dev.piercelibrary.org/event/book-club-28-2024-03-12/2026-12-08/
END:VEVENT
BEGIN:VEVENT
DTSTART;TZID=UTC:20261208T190000
DTEND;TZID=UTC:20261208T200000
DTSTAMP:20260425T150339
CREATED:20230203T195552Z
LAST-MODIFIED:20230203T195552Z
UID:10002287-1796756400-1796760000@dev.piercelibrary.org
SUMMARY:Book Club
DESCRIPTION:Book Club\nmeets the 2nd Tuesday of each month at 7:00 \n 
URL:https://dev.piercelibrary.org/event/book-club-28-2024-03-12/2026-12-08/
END:VEVENT
BEGIN:VEVENT
DTSTART;TZID=UTC:20261208T190000
DTEND;TZID=UTC:20261208T200000
DTSTAMP:20260425T150339
CREATED:20230203T195552Z
LAST-MODIFIED:20230203T195552Z
UID:10002540-1796756400-1796760000@dev.piercelibrary.org
SUMMARY:Book Club
DESCRIPTION:Book Club\nmeets the 2nd Tuesday of each month at 7:00 \n 
URL:https://dev.piercelibrary.org/event/book-club-28-2024-04-09/2026-12-08/
END:VEVENT
BEGIN:VEVENT
DTSTART;TZID=UTC:20261208T190000
DTEND;TZID=UTC:20261208T210000
DTSTAMP:20260425T150339
CREATED:20250306T131653Z
LAST-MODIFIED:20250306T131653Z
UID:10001206-1796756400-1796763600@dev.piercelibrary.org
SUMMARY:Book Club
DESCRIPTION:Book Club\nmeets the 2nd Tuesday of each month at 7:00 \n 
URL:https://dev.piercelibrary.org/event/book-club-28-2/2026-12-08/
END:VEVENT
BEGIN:VEVENT
DTSTART;TZID=America/New_York:20261209T130000
DTEND;TZID=America/New_York:20261209T143000
DTSTAMP:20260425T150339
CREATED:20260216T153818Z
LAST-MODIFIED:20260216T153818Z
UID:10001297-1796821200-1796826600@dev.piercelibrary.org
SUMMARY:SUMMER READING 2026 - "Unearth a Story"
DESCRIPTION:This year’s summer reading theme is “Unearth a Story”\, maybe dinosaurs\, mythical creatures\, history\, earth moving equipment?\nCome check it out  Wednesdays 1:00 – 2:30 starting June 10th through July 22nd.
URL:https://dev.piercelibrary.org/event/summer-reading-2026-unearth-a-story/2026-12-09/
END:VEVENT
BEGIN:VEVENT
DTSTART;TZID=America/New_York:20261212T093000
DTEND;TZID=America/New_York:20261212T103000
DTSTAMP:20260425T150339
CREATED:20250102T204104Z
LAST-MODIFIED:20250102T204104Z
UID:10000909-1797067800-1797071400@dev.piercelibrary.org
SUMMARY:Preschool Story Hour 2026
DESCRIPTION:
URL:https://dev.piercelibrary.org/event/preschool-story-hour-2025/2026-12-12/
END:VEVENT
END:VCALENDAR