BEGIN:VCALENDAR
VERSION:2.0
PRODID:-//Allen F. Pierce Free Library - ECPv6.15.17//NONSGML v1.0//EN
CALSCALE:GREGORIAN
METHOD:PUBLISH
X-ORIGINAL-URL:https://dev.piercelibrary.org
X-WR-CALDESC:Events for Allen F. Pierce Free Library
REFRESH-INTERVAL;VALUE=DURATION:PT1H
X-Robots-Tag:noindex
X-PUBLISHED-TTL:PT1H
BEGIN:VTIMEZONE
TZID:America/New_York
BEGIN:DAYLIGHT
TZOFFSETFROM:-0500
TZOFFSETTO:-0400
TZNAME:EDT
DTSTART:20280312T070000
END:DAYLIGHT
BEGIN:STANDARD
TZOFFSETFROM:-0400
TZOFFSETTO:-0500
TZNAME:EST
DTSTART:20281105T060000
END:STANDARD
BEGIN:DAYLIGHT
TZOFFSETFROM:-0500
TZOFFSETTO:-0400
TZNAME:EDT
DTSTART:20290311T070000
END:DAYLIGHT
BEGIN:STANDARD
TZOFFSETFROM:-0400
TZOFFSETTO:-0500
TZNAME:EST
DTSTART:20291104T060000
END:STANDARD
BEGIN:DAYLIGHT
TZOFFSETFROM:-0500
TZOFFSETTO:-0400
TZNAME:EDT
DTSTART:20300310T070000
END:DAYLIGHT
BEGIN:STANDARD
TZOFFSETFROM:-0400
TZOFFSETTO:-0500
TZNAME:EST
DTSTART:20301103T060000
END:STANDARD
END:VTIMEZONE
BEGIN:VEVENT
DTSTART;TZID=America/New_York:20290526T093000
DTEND;TZID=America/New_York:20290526T103000
DTSTAMP:20260422T015137
CREATED:20250102T204104Z
LAST-MODIFIED:20250102T204104Z
UID:10001037-1874482200-1874485800@dev.piercelibrary.org
SUMMARY:Preschool Story Hour 2026
DESCRIPTION:
URL:https://dev.piercelibrary.org/event/preschool-story-hour-2025/2029-05-26/
LOCATION:PA
END:VEVENT
BEGIN:VEVENT
DTSTART;TZID=America/New_York:20290602T093000
DTEND;TZID=America/New_York:20290602T103000
DTSTAMP:20260422T015137
CREATED:20250102T204104Z
LAST-MODIFIED:20250102T204104Z
UID:10001038-1875087000-1875090600@dev.piercelibrary.org
SUMMARY:Preschool Story Hour 2026
DESCRIPTION:
URL:https://dev.piercelibrary.org/event/preschool-story-hour-2025/2029-06-02/
LOCATION:PA
END:VEVENT
BEGIN:VEVENT
DTSTART;TZID=America/New_York:20290609T093000
DTEND;TZID=America/New_York:20290609T103000
DTSTAMP:20260422T015137
CREATED:20250102T204104Z
LAST-MODIFIED:20250102T204104Z
UID:10001039-1875691800-1875695400@dev.piercelibrary.org
SUMMARY:Preschool Story Hour 2026
DESCRIPTION:
URL:https://dev.piercelibrary.org/event/preschool-story-hour-2025/2029-06-09/
LOCATION:PA
END:VEVENT
BEGIN:VEVENT
DTSTART;TZID=America/New_York:20290612T163000
DTEND;TZID=America/New_York:20290612T173000
DTSTAMP:20260422T015137
CREATED:20250306T130604Z
LAST-MODIFIED:20250306T130604Z
UID:10001173-1875976200-1875979800@dev.piercelibrary.org
SUMMARY:Career Link
DESCRIPTION:Meets 2nd and 4th Tuesday of each month 4:30 – 5:30
URL:https://dev.piercelibrary.org/event/career-link/2029-06-12/
LOCATION:PA
END:VEVENT
BEGIN:VEVENT
DTSTART;TZID=America/New_York:20290616T093000
DTEND;TZID=America/New_York:20290616T103000
DTSTAMP:20260422T015137
CREATED:20250102T204104Z
LAST-MODIFIED:20250102T204104Z
UID:10001040-1876296600-1876300200@dev.piercelibrary.org
SUMMARY:Preschool Story Hour 2026
DESCRIPTION:
URL:https://dev.piercelibrary.org/event/preschool-story-hour-2025/2029-06-16/
LOCATION:PA
END:VEVENT
BEGIN:VEVENT
DTSTART;TZID=America/New_York:20290623T093000
DTEND;TZID=America/New_York:20290623T103000
DTSTAMP:20260422T015137
CREATED:20250102T204104Z
LAST-MODIFIED:20250102T204104Z
UID:10001041-1876901400-1876905000@dev.piercelibrary.org
SUMMARY:Preschool Story Hour 2026
DESCRIPTION:
URL:https://dev.piercelibrary.org/event/preschool-story-hour-2025/2029-06-23/
LOCATION:PA
END:VEVENT
BEGIN:VEVENT
DTSTART;TZID=America/New_York:20290630T093000
DTEND;TZID=America/New_York:20290630T103000
DTSTAMP:20260422T015137
CREATED:20250102T204104Z
LAST-MODIFIED:20250102T204104Z
UID:10001042-1877506200-1877509800@dev.piercelibrary.org
SUMMARY:Preschool Story Hour 2026
DESCRIPTION:
URL:https://dev.piercelibrary.org/event/preschool-story-hour-2025/2029-06-30/
LOCATION:PA
END:VEVENT
BEGIN:VEVENT
DTSTART;TZID=America/New_York:20290707T093000
DTEND;TZID=America/New_York:20290707T103000
DTSTAMP:20260422T015137
CREATED:20250102T204104Z
LAST-MODIFIED:20250102T204104Z
UID:10001043-1878111000-1878114600@dev.piercelibrary.org
SUMMARY:Preschool Story Hour 2026
DESCRIPTION:
URL:https://dev.piercelibrary.org/event/preschool-story-hour-2025/2029-07-07/
LOCATION:PA
END:VEVENT
BEGIN:VEVENT
DTSTART;TZID=America/New_York:20290710T163000
DTEND;TZID=America/New_York:20290710T173000
DTSTAMP:20260422T015137
CREATED:20250306T130604Z
LAST-MODIFIED:20250306T130604Z
UID:10001174-1878395400-1878399000@dev.piercelibrary.org
SUMMARY:Career Link
DESCRIPTION:Meets 2nd and 4th Tuesday of each month 4:30 – 5:30
URL:https://dev.piercelibrary.org/event/career-link/2029-07-10/
LOCATION:PA
END:VEVENT
BEGIN:VEVENT
DTSTART;TZID=America/New_York:20290714T093000
DTEND;TZID=America/New_York:20290714T103000
DTSTAMP:20260422T015137
CREATED:20250102T204104Z
LAST-MODIFIED:20250102T204104Z
UID:10001044-1878715800-1878719400@dev.piercelibrary.org
SUMMARY:Preschool Story Hour 2026
DESCRIPTION:
URL:https://dev.piercelibrary.org/event/preschool-story-hour-2025/2029-07-14/
LOCATION:PA
END:VEVENT
BEGIN:VEVENT
DTSTART;TZID=America/New_York:20290721T093000
DTEND;TZID=America/New_York:20290721T103000
DTSTAMP:20260422T015137
CREATED:20250102T204104Z
LAST-MODIFIED:20250102T204104Z
UID:10001045-1879320600-1879324200@dev.piercelibrary.org
SUMMARY:Preschool Story Hour 2026
DESCRIPTION:
URL:https://dev.piercelibrary.org/event/preschool-story-hour-2025/2029-07-21/
LOCATION:PA
END:VEVENT
BEGIN:VEVENT
DTSTART;TZID=America/New_York:20290728T093000
DTEND;TZID=America/New_York:20290728T103000
DTSTAMP:20260422T015137
CREATED:20250102T204104Z
LAST-MODIFIED:20250102T204104Z
UID:10001046-1879925400-1879929000@dev.piercelibrary.org
SUMMARY:Preschool Story Hour 2026
DESCRIPTION:
URL:https://dev.piercelibrary.org/event/preschool-story-hour-2025/2029-07-28/
LOCATION:PA
END:VEVENT
BEGIN:VEVENT
DTSTART;TZID=America/New_York:20290804T093000
DTEND;TZID=America/New_York:20290804T103000
DTSTAMP:20260422T015137
CREATED:20250102T204104Z
LAST-MODIFIED:20250102T204104Z
UID:10001047-1880530200-1880533800@dev.piercelibrary.org
SUMMARY:Preschool Story Hour 2026
DESCRIPTION:
URL:https://dev.piercelibrary.org/event/preschool-story-hour-2025/2029-08-04/
LOCATION:PA
END:VEVENT
BEGIN:VEVENT
DTSTART;TZID=America/New_York:20290811T093000
DTEND;TZID=America/New_York:20290811T103000
DTSTAMP:20260422T015137
CREATED:20250102T204104Z
LAST-MODIFIED:20250102T204104Z
UID:10001048-1881135000-1881138600@dev.piercelibrary.org
SUMMARY:Preschool Story Hour 2026
DESCRIPTION:
URL:https://dev.piercelibrary.org/event/preschool-story-hour-2025/2029-08-11/
LOCATION:PA
END:VEVENT
BEGIN:VEVENT
DTSTART;TZID=America/New_York:20290814T163000
DTEND;TZID=America/New_York:20290814T173000
DTSTAMP:20260422T015137
CREATED:20250306T130604Z
LAST-MODIFIED:20250306T130604Z
UID:10001175-1881419400-1881423000@dev.piercelibrary.org
SUMMARY:Career Link
DESCRIPTION:Meets 2nd and 4th Tuesday of each month 4:30 – 5:30
URL:https://dev.piercelibrary.org/event/career-link/2029-08-14/
LOCATION:PA
END:VEVENT
BEGIN:VEVENT
DTSTART;TZID=America/New_York:20290818T093000
DTEND;TZID=America/New_York:20290818T103000
DTSTAMP:20260422T015137
CREATED:20250102T204104Z
LAST-MODIFIED:20250102T204104Z
UID:10001049-1881739800-1881743400@dev.piercelibrary.org
SUMMARY:Preschool Story Hour 2026
DESCRIPTION:
URL:https://dev.piercelibrary.org/event/preschool-story-hour-2025/2029-08-18/
LOCATION:PA
END:VEVENT
BEGIN:VEVENT
DTSTART;TZID=America/New_York:20290825T093000
DTEND;TZID=America/New_York:20290825T103000
DTSTAMP:20260422T015137
CREATED:20250102T204104Z
LAST-MODIFIED:20250102T204104Z
UID:10001050-1882344600-1882348200@dev.piercelibrary.org
SUMMARY:Preschool Story Hour 2026
DESCRIPTION:
URL:https://dev.piercelibrary.org/event/preschool-story-hour-2025/2029-08-25/
LOCATION:PA
END:VEVENT
BEGIN:VEVENT
DTSTART;TZID=America/New_York:20290901T093000
DTEND;TZID=America/New_York:20290901T103000
DTSTAMP:20260422T015137
CREATED:20250102T204104Z
LAST-MODIFIED:20250102T204104Z
UID:10001051-1882949400-1882953000@dev.piercelibrary.org
SUMMARY:Preschool Story Hour 2026
DESCRIPTION:
URL:https://dev.piercelibrary.org/event/preschool-story-hour-2025/2029-09-01/
LOCATION:PA
END:VEVENT
BEGIN:VEVENT
DTSTART;TZID=America/New_York:20290908T093000
DTEND;TZID=America/New_York:20290908T103000
DTSTAMP:20260422T015137
CREATED:20250102T204104Z
LAST-MODIFIED:20250102T204104Z
UID:10001052-1883554200-1883557800@dev.piercelibrary.org
SUMMARY:Preschool Story Hour 2026
DESCRIPTION:
URL:https://dev.piercelibrary.org/event/preschool-story-hour-2025/2029-09-08/
LOCATION:PA
END:VEVENT
BEGIN:VEVENT
DTSTART;TZID=America/New_York:20290911T163000
DTEND;TZID=America/New_York:20290911T173000
DTSTAMP:20260422T015137
CREATED:20250306T130604Z
LAST-MODIFIED:20250306T130604Z
UID:10001176-1883838600-1883842200@dev.piercelibrary.org
SUMMARY:Career Link
DESCRIPTION:Meets 2nd and 4th Tuesday of each month 4:30 – 5:30
URL:https://dev.piercelibrary.org/event/career-link/2029-09-11/
LOCATION:PA
END:VEVENT
BEGIN:VEVENT
DTSTART;TZID=America/New_York:20290915T093000
DTEND;TZID=America/New_York:20290915T103000
DTSTAMP:20260422T015137
CREATED:20250102T204104Z
LAST-MODIFIED:20250102T204104Z
UID:10001053-1884159000-1884162600@dev.piercelibrary.org
SUMMARY:Preschool Story Hour 2026
DESCRIPTION:
URL:https://dev.piercelibrary.org/event/preschool-story-hour-2025/2029-09-15/
LOCATION:PA
END:VEVENT
BEGIN:VEVENT
DTSTART;TZID=America/New_York:20290922T093000
DTEND;TZID=America/New_York:20290922T103000
DTSTAMP:20260422T015137
CREATED:20250102T204104Z
LAST-MODIFIED:20250102T204104Z
UID:10001054-1884763800-1884767400@dev.piercelibrary.org
SUMMARY:Preschool Story Hour 2026
DESCRIPTION:
URL:https://dev.piercelibrary.org/event/preschool-story-hour-2025/2029-09-22/
LOCATION:PA
END:VEVENT
BEGIN:VEVENT
DTSTART;TZID=America/New_York:20290929T093000
DTEND;TZID=America/New_York:20290929T103000
DTSTAMP:20260422T015137
CREATED:20250102T204104Z
LAST-MODIFIED:20250102T204104Z
UID:10001055-1885368600-1885372200@dev.piercelibrary.org
SUMMARY:Preschool Story Hour 2026
DESCRIPTION:
URL:https://dev.piercelibrary.org/event/preschool-story-hour-2025/2029-09-29/
LOCATION:PA
END:VEVENT
BEGIN:VEVENT
DTSTART;TZID=America/New_York:20291006T093000
DTEND;TZID=America/New_York:20291006T103000
DTSTAMP:20260422T015137
CREATED:20250102T204104Z
LAST-MODIFIED:20250102T204104Z
UID:10001056-1885973400-1885977000@dev.piercelibrary.org
SUMMARY:Preschool Story Hour 2026
DESCRIPTION:
URL:https://dev.piercelibrary.org/event/preschool-story-hour-2025/2029-10-06/
LOCATION:PA
END:VEVENT
BEGIN:VEVENT
DTSTART;TZID=America/New_York:20291009T163000
DTEND;TZID=America/New_York:20291009T173000
DTSTAMP:20260422T015137
CREATED:20250306T130604Z
LAST-MODIFIED:20250306T130604Z
UID:10001177-1886257800-1886261400@dev.piercelibrary.org
SUMMARY:Career Link
DESCRIPTION:Meets 2nd and 4th Tuesday of each month 4:30 – 5:30
URL:https://dev.piercelibrary.org/event/career-link/2029-10-09/
LOCATION:PA
END:VEVENT
BEGIN:VEVENT
DTSTART;TZID=America/New_York:20291013T093000
DTEND;TZID=America/New_York:20291013T103000
DTSTAMP:20260422T015137
CREATED:20250102T204104Z
LAST-MODIFIED:20250102T204104Z
UID:10001057-1886578200-1886581800@dev.piercelibrary.org
SUMMARY:Preschool Story Hour 2026
DESCRIPTION:
URL:https://dev.piercelibrary.org/event/preschool-story-hour-2025/2029-10-13/
LOCATION:PA
END:VEVENT
BEGIN:VEVENT
DTSTART;TZID=America/New_York:20291020T093000
DTEND;TZID=America/New_York:20291020T103000
DTSTAMP:20260422T015137
CREATED:20250102T204104Z
LAST-MODIFIED:20250102T204104Z
UID:10001058-1887183000-1887186600@dev.piercelibrary.org
SUMMARY:Preschool Story Hour 2026
DESCRIPTION:
URL:https://dev.piercelibrary.org/event/preschool-story-hour-2025/2029-10-20/
LOCATION:PA
END:VEVENT
BEGIN:VEVENT
DTSTART;TZID=America/New_York:20291027T093000
DTEND;TZID=America/New_York:20291027T103000
DTSTAMP:20260422T015137
CREATED:20250102T204104Z
LAST-MODIFIED:20250102T204104Z
UID:10001059-1887787800-1887791400@dev.piercelibrary.org
SUMMARY:Preschool Story Hour 2026
DESCRIPTION:
URL:https://dev.piercelibrary.org/event/preschool-story-hour-2025/2029-10-27/
LOCATION:PA
END:VEVENT
BEGIN:VEVENT
DTSTART;TZID=America/New_York:20291103T093000
DTEND;TZID=America/New_York:20291103T103000
DTSTAMP:20260422T015137
CREATED:20250102T204104Z
LAST-MODIFIED:20250102T204104Z
UID:10001060-1888392600-1888396200@dev.piercelibrary.org
SUMMARY:Preschool Story Hour 2026
DESCRIPTION:
URL:https://dev.piercelibrary.org/event/preschool-story-hour-2025/2029-11-03/
LOCATION:PA
END:VEVENT
BEGIN:VEVENT
DTSTART;TZID=America/New_York:20291110T093000
DTEND;TZID=America/New_York:20291110T103000
DTSTAMP:20260422T015137
CREATED:20250102T204104Z
LAST-MODIFIED:20250102T204104Z
UID:10001061-1888997400-1889001000@dev.piercelibrary.org
SUMMARY:Preschool Story Hour 2026
DESCRIPTION:
URL:https://dev.piercelibrary.org/event/preschool-story-hour-2025/2029-11-10/
LOCATION:PA
END:VEVENT
END:VCALENDAR