BEGIN:VCALENDAR
VERSION:2.0
PRODID:-//Allen F. Pierce Free Library - ECPv6.15.17//NONSGML v1.0//EN
CALSCALE:GREGORIAN
METHOD:PUBLISH
X-ORIGINAL-URL:https://dev.piercelibrary.org
X-WR-CALDESC:Events for Allen F. Pierce Free Library
REFRESH-INTERVAL;VALUE=DURATION:PT1H
X-Robots-Tag:noindex
X-PUBLISHED-TTL:PT1H
BEGIN:VTIMEZONE
TZID:UTC
BEGIN:STANDARD
TZOFFSETFROM:+0000
TZOFFSETTO:+0000
TZNAME:UTC
DTSTART:20260101T000000
END:STANDARD
END:VTIMEZONE
BEGIN:VEVENT
DTSTART;TZID=UTC:20270810T190000
DTEND;TZID=UTC:20270810T200000
DTSTAMP:20260419T185345
CREATED:20230203T195552Z
LAST-MODIFIED:20230203T195552Z
UID:10004030-1817924400-1817928000@dev.piercelibrary.org
SUMMARY:Book Club
DESCRIPTION:Book Club\nmeets the 2nd Tuesday of each month at 7:00 \n 
URL:https://dev.piercelibrary.org/event/book-club-28-2025-09-09/2027-08-10/
LOCATION:PA
END:VEVENT
BEGIN:VEVENT
DTSTART;TZID=UTC:20270810T190000
DTEND;TZID=UTC:20270810T200000
DTSTAMP:20260419T185345
CREATED:20230203T195552Z
LAST-MODIFIED:20230203T195552Z
UID:10004088-1817924400-1817928000@dev.piercelibrary.org
SUMMARY:Book Club
DESCRIPTION:Book Club\nmeets the 2nd Tuesday of each month at 7:00 \n 
URL:https://dev.piercelibrary.org/event/book-club-28-2025-09-09/2027-08-10/
LOCATION:PA
END:VEVENT
BEGIN:VEVENT
DTSTART;TZID=UTC:20270810T190000
DTEND;TZID=UTC:20270810T200000
DTSTAMP:20260419T185345
CREATED:20230203T195552Z
LAST-MODIFIED:20230203T195552Z
UID:10004268-1817924400-1817928000@dev.piercelibrary.org
SUMMARY:Book Club
DESCRIPTION:Book Club\nmeets the 2nd Tuesday of each month at 7:00 \n 
URL:https://dev.piercelibrary.org/event/book-club-28-2025-10-14/2027-08-10/
LOCATION:PA
END:VEVENT
BEGIN:VEVENT
DTSTART;TZID=UTC:20270810T190000
DTEND;TZID=UTC:20270810T200000
DTSTAMP:20260419T185345
CREATED:20230203T195552Z
LAST-MODIFIED:20230203T195552Z
UID:10004354-1817924400-1817928000@dev.piercelibrary.org
SUMMARY:Book Club
DESCRIPTION:Book Club\nmeets the 2nd Tuesday of each month at 7:00 \n 
URL:https://dev.piercelibrary.org/event/book-club-28-2025-10-14/2027-08-10/
LOCATION:PA
END:VEVENT
BEGIN:VEVENT
DTSTART;TZID=UTC:20270810T190000
DTEND;TZID=UTC:20270810T200000
DTSTAMP:20260419T185345
CREATED:20230203T195552Z
LAST-MODIFIED:20230203T195552Z
UID:10004424-1817924400-1817928000@dev.piercelibrary.org
SUMMARY:Book Club
DESCRIPTION:Book Club\nmeets the 2nd Tuesday of each month at 7:00 \n 
URL:https://dev.piercelibrary.org/event/book-club-28-2025-10-14/2027-08-10/
LOCATION:PA
END:VEVENT
BEGIN:VEVENT
DTSTART;TZID=UTC:20270810T190000
DTEND;TZID=UTC:20270810T200000
DTSTAMP:20260419T185345
CREATED:20230203T195552Z
LAST-MODIFIED:20230203T195552Z
UID:10004478-1817924400-1817928000@dev.piercelibrary.org
SUMMARY:Book Club
DESCRIPTION:Book Club\nmeets the 2nd Tuesday of each month at 7:00 \n 
URL:https://dev.piercelibrary.org/event/book-club-28-2025-10-14/2027-08-10/
LOCATION:PA
END:VEVENT
BEGIN:VEVENT
DTSTART;TZID=UTC:20270810T190000
DTEND;TZID=UTC:20270810T200000
DTSTAMP:20260419T185345
CREATED:20230203T195552Z
LAST-MODIFIED:20230203T195552Z
UID:10004516-1817924400-1817928000@dev.piercelibrary.org
SUMMARY:Book Club
DESCRIPTION:Book Club\nmeets the 2nd Tuesday of each month at 7:00 \n 
URL:https://dev.piercelibrary.org/event/book-club-28-2025-10-14/2027-08-10/
LOCATION:PA
END:VEVENT
BEGIN:VEVENT
DTSTART;TZID=UTC:20270810T190000
DTEND;TZID=UTC:20270810T200000
DTSTAMP:20260419T185345
CREATED:20230203T195552Z
LAST-MODIFIED:20230203T195552Z
UID:10002079-1817924400-1817928000@dev.piercelibrary.org
SUMMARY:Book Club
DESCRIPTION:Book Club\nmeets the 2nd Tuesday of each month at 7:00 \n 
URL:https://dev.piercelibrary.org/event/book-club-28-2024-03-12/2027-08-10/
LOCATION:PA
END:VEVENT
BEGIN:VEVENT
DTSTART;TZID=UTC:20270810T190000
DTEND;TZID=UTC:20270810T200000
DTSTAMP:20260419T185345
CREATED:20230203T195552Z
LAST-MODIFIED:20230203T195552Z
UID:10002185-1817924400-1817928000@dev.piercelibrary.org
SUMMARY:Book Club
DESCRIPTION:Book Club\nmeets the 2nd Tuesday of each month at 7:00 \n 
URL:https://dev.piercelibrary.org/event/book-club-28-2024-03-12/2027-08-10/
LOCATION:PA
END:VEVENT
BEGIN:VEVENT
DTSTART;TZID=UTC:20270810T190000
DTEND;TZID=UTC:20270810T200000
DTSTAMP:20260419T185345
CREATED:20230203T195552Z
LAST-MODIFIED:20230203T195552Z
UID:10002275-1817924400-1817928000@dev.piercelibrary.org
SUMMARY:Book Club
DESCRIPTION:Book Club\nmeets the 2nd Tuesday of each month at 7:00 \n 
URL:https://dev.piercelibrary.org/event/book-club-28-2024-03-12/2027-08-10/
LOCATION:PA
END:VEVENT
BEGIN:VEVENT
DTSTART;TZID=UTC:20270810T190000
DTEND;TZID=UTC:20270810T200000
DTSTAMP:20260419T185345
CREATED:20230203T195552Z
LAST-MODIFIED:20230203T195552Z
UID:10002349-1817924400-1817928000@dev.piercelibrary.org
SUMMARY:Book Club
DESCRIPTION:Book Club\nmeets the 2nd Tuesday of each month at 7:00 \n 
URL:https://dev.piercelibrary.org/event/book-club-28-2024-03-12/2027-08-10/
LOCATION:PA
END:VEVENT
BEGIN:VEVENT
DTSTART;TZID=UTC:20270810T190000
DTEND;TZID=UTC:20270810T200000
DTSTAMP:20260419T185345
CREATED:20230203T195552Z
LAST-MODIFIED:20230203T195552Z
UID:10002407-1817924400-1817928000@dev.piercelibrary.org
SUMMARY:Book Club
DESCRIPTION:Book Club\nmeets the 2nd Tuesday of each month at 7:00 \n 
URL:https://dev.piercelibrary.org/event/book-club-28-2024-03-12/2027-08-10/
LOCATION:PA
END:VEVENT
BEGIN:VEVENT
DTSTART;TZID=UTC:20270810T190000
DTEND;TZID=UTC:20270810T200000
DTSTAMP:20260419T185345
CREATED:20230203T195552Z
LAST-MODIFIED:20230203T195552Z
UID:10002449-1817924400-1817928000@dev.piercelibrary.org
SUMMARY:Book Club
DESCRIPTION:Book Club\nmeets the 2nd Tuesday of each month at 7:00 \n 
URL:https://dev.piercelibrary.org/event/book-club-28-2024-03-12/2027-08-10/
LOCATION:PA
END:VEVENT
BEGIN:VEVENT
DTSTART;TZID=UTC:20270810T190000
DTEND;TZID=UTC:20270810T200000
DTSTAMP:20260419T185345
CREATED:20230203T195552Z
LAST-MODIFIED:20230203T195552Z
UID:10003435-1817924400-1817928000@dev.piercelibrary.org
SUMMARY:Book Club
DESCRIPTION:Book Club\nmeets the 2nd Tuesday of each month at 7:00 \n 
URL:https://dev.piercelibrary.org/event/book-club-28-2025-08-12/2027-08-10/
LOCATION:PA
END:VEVENT
BEGIN:VEVENT
DTSTART;TZID=UTC:20270810T190000
DTEND;TZID=UTC:20270810T200000
DTSTAMP:20260419T185345
CREATED:20230203T195552Z
LAST-MODIFIED:20230203T195552Z
UID:10003529-1817924400-1817928000@dev.piercelibrary.org
SUMMARY:Book Club
DESCRIPTION:Book Club\nmeets the 2nd Tuesday of each month at 7:00 \n 
URL:https://dev.piercelibrary.org/event/book-club-28-2025-08-12/2027-08-10/
LOCATION:PA
END:VEVENT
BEGIN:VEVENT
DTSTART;TZID=UTC:20270810T190000
DTEND;TZID=UTC:20270810T200000
DTSTAMP:20260419T185345
CREATED:20230203T195552Z
LAST-MODIFIED:20230203T195552Z
UID:10003607-1817924400-1817928000@dev.piercelibrary.org
SUMMARY:Book Club
DESCRIPTION:Book Club\nmeets the 2nd Tuesday of each month at 7:00 \n 
URL:https://dev.piercelibrary.org/event/book-club-28-2025-08-12/2027-08-10/
LOCATION:PA
END:VEVENT
BEGIN:VEVENT
DTSTART;TZID=UTC:20270810T190000
DTEND;TZID=UTC:20270810T200000
DTSTAMP:20260419T185345
CREATED:20230203T195552Z
LAST-MODIFIED:20230203T195552Z
UID:10003669-1817924400-1817928000@dev.piercelibrary.org
SUMMARY:Book Club
DESCRIPTION:Book Club\nmeets the 2nd Tuesday of each month at 7:00 \n 
URL:https://dev.piercelibrary.org/event/book-club-28-2025-08-12/2027-08-10/
LOCATION:PA
END:VEVENT
BEGIN:VEVENT
DTSTART;TZID=UTC:20270810T190000
DTEND;TZID=UTC:20270810T200000
DTSTAMP:20260419T185345
CREATED:20230203T195552Z
LAST-MODIFIED:20230203T195552Z
UID:10003715-1817924400-1817928000@dev.piercelibrary.org
SUMMARY:Book Club
DESCRIPTION:Book Club\nmeets the 2nd Tuesday of each month at 7:00 \n 
URL:https://dev.piercelibrary.org/event/book-club-28-2025-08-12/2027-08-10/
LOCATION:PA
END:VEVENT
BEGIN:VEVENT
DTSTART;TZID=UTC:20270810T190000
DTEND;TZID=UTC:20270810T200000
DTSTAMP:20260419T185345
CREATED:20230203T195552Z
LAST-MODIFIED:20230203T195552Z
UID:10003745-1817924400-1817928000@dev.piercelibrary.org
SUMMARY:Book Club
DESCRIPTION:Book Club\nmeets the 2nd Tuesday of each month at 7:00 \n 
URL:https://dev.piercelibrary.org/event/book-club-28-2025-08-12/2027-08-10/
LOCATION:PA
END:VEVENT
BEGIN:VEVENT
DTSTART;TZID=UTC:20270810T190000
DTEND;TZID=UTC:20270810T200000
DTSTAMP:20260419T185345
CREATED:20230203T195552Z
LAST-MODIFIED:20230203T195552Z
UID:10004121-1817924400-1817928000@dev.piercelibrary.org
SUMMARY:Book Club
DESCRIPTION:Book Club\nmeets the 2nd Tuesday of each month at 7:00 \n 
URL:https://dev.piercelibrary.org/event/book-club-28-2025-09-09/2027-08-10/
LOCATION:PA
END:VEVENT
BEGIN:VEVENT
DTSTART;TZID=UTC:20270810T190000
DTEND;TZID=UTC:20270810T200000
DTSTAMP:20260419T185345
CREATED:20230203T195552Z
LAST-MODIFIED:20230203T195552Z
UID:10004151-1817924400-1817928000@dev.piercelibrary.org
SUMMARY:Book Club
DESCRIPTION:Book Club\nmeets the 2nd Tuesday of each month at 7:00 \n 
URL:https://dev.piercelibrary.org/event/book-club-28-2025-09-09/2027-08-10/
LOCATION:PA
END:VEVENT
BEGIN:VEVENT
DTSTART;TZID=UTC:20270810T190000
DTEND;TZID=UTC:20270810T200000
DTSTAMP:20260419T185345
CREATED:20230203T195552Z
LAST-MODIFIED:20230203T195552Z
UID:10004570-1817924400-1817928000@dev.piercelibrary.org
SUMMARY:Book Club
DESCRIPTION:Book Club\nmeets the 2nd Tuesday of each month at 7:00 \n 
URL:https://dev.piercelibrary.org/event/book-club-28-2025-11-11/2027-08-10/
LOCATION:PA
END:VEVENT
BEGIN:VEVENT
DTSTART;TZID=UTC:20270810T190000
DTEND;TZID=UTC:20270810T200000
DTSTAMP:20260419T185345
CREATED:20230203T195552Z
LAST-MODIFIED:20230203T195552Z
UID:10004664-1817924400-1817928000@dev.piercelibrary.org
SUMMARY:Book Club
DESCRIPTION:Book Club\nmeets the 2nd Tuesday of each month at 7:00 \n 
URL:https://dev.piercelibrary.org/event/book-club-28-2025-11-11/2027-08-10/
LOCATION:PA
END:VEVENT
BEGIN:VEVENT
DTSTART;TZID=UTC:20270810T190000
DTEND;TZID=UTC:20270810T200000
DTSTAMP:20260419T185345
CREATED:20230203T195552Z
LAST-MODIFIED:20230203T195552Z
UID:10004742-1817924400-1817928000@dev.piercelibrary.org
SUMMARY:Book Club
DESCRIPTION:Book Club\nmeets the 2nd Tuesday of each month at 7:00 \n 
URL:https://dev.piercelibrary.org/event/book-club-28-2025-11-11/2027-08-10/
LOCATION:PA
END:VEVENT
BEGIN:VEVENT
DTSTART;TZID=UTC:20270810T190000
DTEND;TZID=UTC:20270810T200000
DTSTAMP:20260419T185345
CREATED:20230203T195552Z
LAST-MODIFIED:20230203T195552Z
UID:10004804-1817924400-1817928000@dev.piercelibrary.org
SUMMARY:Book Club
DESCRIPTION:Book Club\nmeets the 2nd Tuesday of each month at 7:00 \n 
URL:https://dev.piercelibrary.org/event/book-club-28-2025-11-11/2027-08-10/
LOCATION:PA
END:VEVENT
BEGIN:VEVENT
DTSTART;TZID=UTC:20270810T190000
DTEND;TZID=UTC:20270810T200000
DTSTAMP:20260419T185345
CREATED:20230203T195552Z
LAST-MODIFIED:20230203T195552Z
UID:10004850-1817924400-1817928000@dev.piercelibrary.org
SUMMARY:Book Club
DESCRIPTION:Book Club\nmeets the 2nd Tuesday of each month at 7:00 \n 
URL:https://dev.piercelibrary.org/event/book-club-28-2025-11-11/2027-08-10/
LOCATION:PA
END:VEVENT
BEGIN:VEVENT
DTSTART;TZID=UTC:20270810T190000
DTEND;TZID=UTC:20270810T200000
DTSTAMP:20260419T185345
CREATED:20230203T195552Z
LAST-MODIFIED:20230203T195552Z
UID:10004880-1817924400-1817928000@dev.piercelibrary.org
SUMMARY:Book Club
DESCRIPTION:Book Club\nmeets the 2nd Tuesday of each month at 7:00 \n 
URL:https://dev.piercelibrary.org/event/book-club-28-2025-11-11/2027-08-10/
LOCATION:PA
END:VEVENT
BEGIN:VEVENT
DTSTART;TZID=UTC:20270810T190000
DTEND;TZID=UTC:20270810T200000
DTSTAMP:20260419T185345
CREATED:20230203T195552Z
LAST-MODIFIED:20230203T195552Z
UID:10000256-1817924400-1817928000@dev.piercelibrary.org
SUMMARY:Book Club
DESCRIPTION:Book Club\nmeets the 2nd Tuesday of each month at 7:00 \n 
URL:https://dev.piercelibrary.org/event/book-club-28-2024-05-14/2027-08-10/
LOCATION:PA
END:VEVENT
BEGIN:VEVENT
DTSTART;TZID=UTC:20270810T190000
DTEND;TZID=UTC:20270810T200000
DTSTAMP:20260419T185345
CREATED:20230203T195552Z
LAST-MODIFIED:20230203T195552Z
UID:10000422-1817924400-1817928000@dev.piercelibrary.org
SUMMARY:Book Club
DESCRIPTION:Book Club\nmeets the 2nd Tuesday of each month at 7:00 \n 
URL:https://dev.piercelibrary.org/event/book-club-28-2024-10-08/2027-08-10/
LOCATION:PA
END:VEVENT
BEGIN:VEVENT
DTSTART;TZID=UTC:20270810T190000
DTEND;TZID=UTC:20270810T200000
DTSTAMP:20260419T185345
CREATED:20230203T195552Z
LAST-MODIFIED:20230203T195552Z
UID:10000572-1817924400-1817928000@dev.piercelibrary.org
SUMMARY:Book Club
DESCRIPTION:Book Club\nmeets the 2nd Tuesday of each month at 7:00 \n 
URL:https://dev.piercelibrary.org/event/book-club-28-2025-02-11/2027-08-10/
LOCATION:PA
END:VEVENT
END:VCALENDAR