BEGIN:VCALENDAR
VERSION:2.0
PRODID:-//Allen F. Pierce Free Library - ECPv6.15.17//NONSGML v1.0//EN
CALSCALE:GREGORIAN
METHOD:PUBLISH
X-ORIGINAL-URL:https://dev.piercelibrary.org
X-WR-CALDESC:Events for Allen F. Pierce Free Library
REFRESH-INTERVAL;VALUE=DURATION:PT1H
X-Robots-Tag:noindex
X-PUBLISHED-TTL:PT1H
BEGIN:VTIMEZONE
TZID:America/New_York
BEGIN:DAYLIGHT
TZOFFSETFROM:-0500
TZOFFSETTO:-0400
TZNAME:EDT
DTSTART:20250309T070000
END:DAYLIGHT
BEGIN:STANDARD
TZOFFSETFROM:-0400
TZOFFSETTO:-0500
TZNAME:EST
DTSTART:20251102T060000
END:STANDARD
BEGIN:DAYLIGHT
TZOFFSETFROM:-0500
TZOFFSETTO:-0400
TZNAME:EDT
DTSTART:20260308T070000
END:DAYLIGHT
BEGIN:STANDARD
TZOFFSETFROM:-0400
TZOFFSETTO:-0500
TZNAME:EST
DTSTART:20261101T060000
END:STANDARD
BEGIN:DAYLIGHT
TZOFFSETFROM:-0500
TZOFFSETTO:-0400
TZNAME:EDT
DTSTART:20270314T070000
END:DAYLIGHT
BEGIN:STANDARD
TZOFFSETFROM:-0400
TZOFFSETTO:-0500
TZNAME:EST
DTSTART:20271107T060000
END:STANDARD
END:VTIMEZONE
BEGIN:VTIMEZONE
TZID:UTC
BEGIN:STANDARD
TZOFFSETFROM:+0000
TZOFFSETTO:+0000
TZNAME:UTC
DTSTART:20250101T000000
END:STANDARD
END:VTIMEZONE
BEGIN:VEVENT
DTSTART;TZID=America/New_York:20260808T093000
DTEND;TZID=America/New_York:20260808T103000
DTSTAMP:20260425T143628
CREATED:20250102T204104Z
LAST-MODIFIED:20250102T204104Z
UID:10000891-1786181400-1786185000@dev.piercelibrary.org
SUMMARY:Preschool Story Hour 2026
DESCRIPTION:
URL:https://dev.piercelibrary.org/event/preschool-story-hour-2025/2026-08-08/
END:VEVENT
BEGIN:VEVENT
DTSTART;TZID=America/New_York:20260811T163000
DTEND;TZID=America/New_York:20260811T173000
DTSTAMP:20260425T143628
CREATED:20250306T130604Z
LAST-MODIFIED:20250306T130604Z
UID:10001139-1786465800-1786469400@dev.piercelibrary.org
SUMMARY:Career Link
DESCRIPTION:Meets 2nd and 4th Tuesday of each month 4:30 – 5:30
URL:https://dev.piercelibrary.org/event/career-link/2026-08-11/
END:VEVENT
BEGIN:VEVENT
DTSTART;TZID=UTC:20260811T190000
DTEND;TZID=UTC:20260811T200000
DTSTAMP:20260425T143628
CREATED:20230203T195552Z
LAST-MODIFIED:20230203T195552Z
UID:10002907-1786474800-1786478400@dev.piercelibrary.org
SUMMARY:Book Club
DESCRIPTION:Book Club\nmeets the 2nd Tuesday of each month at 7:00 \n 
URL:https://dev.piercelibrary.org/event/book-club-28-2025-07-08/2026-08-11/
END:VEVENT
BEGIN:VEVENT
DTSTART;TZID=UTC:20260811T190000
DTEND;TZID=UTC:20260811T200000
DTSTAMP:20260425T143628
CREATED:20230203T195552Z
LAST-MODIFIED:20230203T195552Z
UID:10000410-1786474800-1786478400@dev.piercelibrary.org
SUMMARY:Book Club
DESCRIPTION:Book Club\nmeets the 2nd Tuesday of each month at 7:00 \n 
URL:https://dev.piercelibrary.org/event/book-club-28-2024-10-08/2026-08-11/
END:VEVENT
BEGIN:VEVENT
DTSTART;TZID=UTC:20260811T190000
DTEND;TZID=UTC:20260811T200000
DTSTAMP:20260425T143628
CREATED:20230203T195552Z
LAST-MODIFIED:20230203T195552Z
UID:10003123-1786474800-1786478400@dev.piercelibrary.org
SUMMARY:Book Club
DESCRIPTION:Book Club\nmeets the 2nd Tuesday of each month at 7:00 \n 
URL:https://dev.piercelibrary.org/event/book-club-28-2025-07-08/2026-08-11/
END:VEVENT
BEGIN:VEVENT
DTSTART;TZID=UTC:20260811T190000
DTEND;TZID=UTC:20260811T200000
DTSTAMP:20260425T143628
CREATED:20230203T195552Z
LAST-MODIFIED:20230203T195552Z
UID:10000694-1786474800-1786478400@dev.piercelibrary.org
SUMMARY:Book Club
DESCRIPTION:Book Club\nmeets the 2nd Tuesday of each month at 7:00 \n 
URL:https://dev.piercelibrary.org/event/book-club-28-2025-06-10/2026-08-11/
END:VEVENT
BEGIN:VEVENT
DTSTART;TZID=UTC:20260811T190000
DTEND;TZID=UTC:20260811T200000
DTSTAMP:20260425T143628
CREATED:20230203T195552Z
LAST-MODIFIED:20230203T195552Z
UID:10001449-1786474800-1786478400@dev.piercelibrary.org
SUMMARY:Book Club
DESCRIPTION:Book Club\nmeets the 2nd Tuesday of each month at 7:00 \n 
URL:https://dev.piercelibrary.org/event/book-club-28-2024-02-13/2026-08-11/
END:VEVENT
BEGIN:VEVENT
DTSTART;TZID=UTC:20260811T190000
DTEND;TZID=UTC:20260811T200000
DTSTAMP:20260425T143628
CREATED:20230203T195552Z
LAST-MODIFIED:20230203T195552Z
UID:10003595-1786474800-1786478400@dev.piercelibrary.org
SUMMARY:Book Club
DESCRIPTION:Book Club\nmeets the 2nd Tuesday of each month at 7:00 \n 
URL:https://dev.piercelibrary.org/event/book-club-28-2025-08-12/2026-08-11/
END:VEVENT
BEGIN:VEVENT
DTSTART;TZID=UTC:20260811T190000
DTEND;TZID=UTC:20260811T200000
DTSTAMP:20260425T143628
CREATED:20230203T195552Z
LAST-MODIFIED:20230203T195552Z
UID:10003803-1786474800-1786478400@dev.piercelibrary.org
SUMMARY:Book Club
DESCRIPTION:Book Club\nmeets the 2nd Tuesday of each month at 7:00 \n 
URL:https://dev.piercelibrary.org/event/book-club-28-2025-09-09/2026-08-11/
END:VEVENT
BEGIN:VEVENT
DTSTART;TZID=UTC:20260811T190000
DTEND;TZID=UTC:20260811T200000
DTSTAMP:20260425T143628
CREATED:20230203T195552Z
LAST-MODIFIED:20230203T195552Z
UID:10003923-1786474800-1786478400@dev.piercelibrary.org
SUMMARY:Book Club
DESCRIPTION:Book Club\nmeets the 2nd Tuesday of each month at 7:00 \n 
URL:https://dev.piercelibrary.org/event/book-club-28-2025-09-09/2026-08-11/
END:VEVENT
BEGIN:VEVENT
DTSTART;TZID=UTC:20260811T190000
DTEND;TZID=UTC:20260811T200000
DTSTAMP:20260425T143628
CREATED:20230203T195552Z
LAST-MODIFIED:20230203T195552Z
UID:10002122-1786474800-1786478400@dev.piercelibrary.org
SUMMARY:Book Club
DESCRIPTION:Book Club\nmeets the 2nd Tuesday of each month at 7:00 \n 
URL:https://dev.piercelibrary.org/event/book-club-28-2024-03-12/2026-08-11/
END:VEVENT
BEGIN:VEVENT
DTSTART;TZID=UTC:20260811T190000
DTEND;TZID=UTC:20260811T200000
DTSTAMP:20260425T143628
CREATED:20230203T195552Z
LAST-MODIFIED:20230203T195552Z
UID:10002242-1786474800-1786478400@dev.piercelibrary.org
SUMMARY:Book Club
DESCRIPTION:Book Club\nmeets the 2nd Tuesday of each month at 7:00 \n 
URL:https://dev.piercelibrary.org/event/book-club-28-2024-03-12/2026-08-11/
END:VEVENT
BEGIN:VEVENT
DTSTART;TZID=UTC:20260811T190000
DTEND;TZID=UTC:20260811T200000
DTSTAMP:20260425T143628
CREATED:20230203T195552Z
LAST-MODIFIED:20230203T195552Z
UID:10004379-1786474800-1786478400@dev.piercelibrary.org
SUMMARY:Book Club
DESCRIPTION:Book Club\nmeets the 2nd Tuesday of each month at 7:00 \n 
URL:https://dev.piercelibrary.org/event/book-club-28-2025-10-14/2026-08-11/
END:VEVENT
BEGIN:VEVENT
DTSTART;TZID=UTC:20260811T190000
DTEND;TZID=UTC:20260811T200000
DTSTAMP:20260425T143628
CREATED:20230203T195552Z
LAST-MODIFIED:20230203T195552Z
UID:10002595-1786474800-1786478400@dev.piercelibrary.org
SUMMARY:Book Club
DESCRIPTION:Book Club\nmeets the 2nd Tuesday of each month at 7:00 \n 
URL:https://dev.piercelibrary.org/event/book-club-28-2024-04-09/2026-08-11/
END:VEVENT
BEGIN:VEVENT
DTSTART;TZID=UTC:20260811T190000
DTEND;TZID=UTC:20260811T200000
DTSTAMP:20260425T143628
CREATED:20230203T195552Z
LAST-MODIFIED:20230203T195552Z
UID:10002811-1786474800-1786478400@dev.piercelibrary.org
SUMMARY:Book Club
DESCRIPTION:Book Club\nmeets the 2nd Tuesday of each month at 7:00 \n 
URL:https://dev.piercelibrary.org/event/book-club-28-2024-04-09/2026-08-11/
END:VEVENT
BEGIN:VEVENT
DTSTART;TZID=UTC:20260811T190000
DTEND;TZID=UTC:20260811T200000
DTSTAMP:20260425T143628
CREATED:20230203T195552Z
LAST-MODIFIED:20230203T195552Z
UID:10002988-1786474800-1786478400@dev.piercelibrary.org
SUMMARY:Book Club
DESCRIPTION:Book Club\nmeets the 2nd Tuesday of each month at 7:00 \n 
URL:https://dev.piercelibrary.org/event/book-club-28-2025-07-08/2026-08-11/
END:VEVENT
BEGIN:VEVENT
DTSTART;TZID=UTC:20260811T190000
DTEND;TZID=UTC:20260811T200000
DTSTAMP:20260425T143628
CREATED:20230203T195552Z
LAST-MODIFIED:20230203T195552Z
UID:10000370-1786474800-1786478400@dev.piercelibrary.org
SUMMARY:Book Club
DESCRIPTION:Book Club\nmeets the 2nd Tuesday of each month at 7:00 \n 
URL:https://dev.piercelibrary.org/event/book-club-28-2024-09-10/2026-08-11/
END:VEVENT
BEGIN:VEVENT
DTSTART;TZID=UTC:20260811T190000
DTEND;TZID=UTC:20260811T200000
DTSTAMP:20260425T143628
CREATED:20230203T195552Z
LAST-MODIFIED:20230203T195552Z
UID:10003060-1786474800-1786478400@dev.piercelibrary.org
SUMMARY:Book Club
DESCRIPTION:Book Club\nmeets the 2nd Tuesday of each month at 7:00 \n 
URL:https://dev.piercelibrary.org/event/book-club-28-2025-07-08/2026-08-11/
END:VEVENT
BEGIN:VEVENT
DTSTART;TZID=UTC:20260811T190000
DTEND;TZID=UTC:20260811T200000
DTSTAMP:20260425T143628
CREATED:20230203T195552Z
LAST-MODIFIED:20230203T195552Z
UID:10000662-1786474800-1786478400@dev.piercelibrary.org
SUMMARY:Book Club
DESCRIPTION:Book Club\nmeets the 2nd Tuesday of each month at 7:00 \n 
URL:https://dev.piercelibrary.org/event/book-club-28-2025-05-13/2026-08-11/
END:VEVENT
BEGIN:VEVENT
DTSTART;TZID=UTC:20260811T190000
DTEND;TZID=UTC:20260811T200000
DTSTAMP:20260425T143628
CREATED:20230203T195552Z
LAST-MODIFIED:20230203T195552Z
UID:10000839-1786474800-1786478400@dev.piercelibrary.org
SUMMARY:Book Club
DESCRIPTION:Book Club\nmeets the 2nd Tuesday of each month at 7:00 \n 
URL:https://dev.piercelibrary.org/event/book-club-28-2025-11-11/2026-08-11/
END:VEVENT
BEGIN:VEVENT
DTSTART;TZID=UTC:20260811T190000
DTEND;TZID=UTC:20260811T200000
DTSTAMP:20260425T143628
CREATED:20230203T195552Z
LAST-MODIFIED:20230203T195552Z
UID:10001594-1786474800-1786478400@dev.piercelibrary.org
SUMMARY:Book Club
DESCRIPTION:Book Club\nmeets the 2nd Tuesday of each month at 7:00 \n 
URL:https://dev.piercelibrary.org/event/book-club-28-2024-02-13/2026-08-11/
END:VEVENT
BEGIN:VEVENT
DTSTART;TZID=UTC:20260811T190000
DTEND;TZID=UTC:20260811T200000
DTSTAMP:20260425T143628
CREATED:20230203T195552Z
LAST-MODIFIED:20230203T195552Z
UID:10001714-1786474800-1786478400@dev.piercelibrary.org
SUMMARY:Book Club
DESCRIPTION:Book Club\nmeets the 2nd Tuesday of each month at 7:00 \n 
URL:https://dev.piercelibrary.org/event/book-club-28-2024-02-13/2026-08-11/
END:VEVENT
BEGIN:VEVENT
DTSTART;TZID=UTC:20260811T190000
DTEND;TZID=UTC:20260811T200000
DTSTAMP:20260425T143628
CREATED:20230203T195552Z
LAST-MODIFIED:20230203T195552Z
UID:10003964-1786474800-1786478400@dev.piercelibrary.org
SUMMARY:Book Club
DESCRIPTION:Book Club\nmeets the 2nd Tuesday of each month at 7:00 \n 
URL:https://dev.piercelibrary.org/event/book-club-28-2025-09-09/2026-08-11/
END:VEVENT
BEGIN:VEVENT
DTSTART;TZID=UTC:20260811T190000
DTEND;TZID=UTC:20260811T200000
DTSTAMP:20260425T143628
CREATED:20230203T195552Z
LAST-MODIFIED:20230203T195552Z
UID:10002067-1786474800-1786478400@dev.piercelibrary.org
SUMMARY:Book Club
DESCRIPTION:Book Club\nmeets the 2nd Tuesday of each month at 7:00 \n 
URL:https://dev.piercelibrary.org/event/book-club-28-2024-03-12/2026-08-11/
END:VEVENT
BEGIN:VEVENT
DTSTART;TZID=UTC:20260811T190000
DTEND;TZID=UTC:20260811T200000
DTSTAMP:20260425T143628
CREATED:20230203T195552Z
LAST-MODIFIED:20230203T195552Z
UID:10002283-1786474800-1786478400@dev.piercelibrary.org
SUMMARY:Book Club
DESCRIPTION:Book Club\nmeets the 2nd Tuesday of each month at 7:00 \n 
URL:https://dev.piercelibrary.org/event/book-club-28-2024-03-12/2026-08-11/
END:VEVENT
BEGIN:VEVENT
DTSTART;TZID=UTC:20260811T190000
DTEND;TZID=UTC:20260811T200000
DTSTAMP:20260425T143628
CREATED:20230203T195552Z
LAST-MODIFIED:20230203T195552Z
UID:10004652-1786474800-1786478400@dev.piercelibrary.org
SUMMARY:Book Club
DESCRIPTION:Book Club\nmeets the 2nd Tuesday of each month at 7:00 \n 
URL:https://dev.piercelibrary.org/event/book-club-28-2025-11-11/2026-08-11/
END:VEVENT
BEGIN:VEVENT
DTSTART;TZID=UTC:20260811T190000
DTEND;TZID=UTC:20260811T200000
DTSTAMP:20260425T143628
CREATED:20230203T195552Z
LAST-MODIFIED:20230203T195552Z
UID:10002676-1786474800-1786478400@dev.piercelibrary.org
SUMMARY:Book Club
DESCRIPTION:Book Club\nmeets the 2nd Tuesday of each month at 7:00 \n 
URL:https://dev.piercelibrary.org/event/book-club-28-2024-04-09/2026-08-11/
END:VEVENT
BEGIN:VEVENT
DTSTART;TZID=UTC:20260811T190000
DTEND;TZID=UTC:20260811T200000
DTSTAMP:20260425T143628
CREATED:20230203T195552Z
LAST-MODIFIED:20230203T195552Z
UID:10002748-1786474800-1786478400@dev.piercelibrary.org
SUMMARY:Book Club
DESCRIPTION:Book Club\nmeets the 2nd Tuesday of each month at 7:00 \n 
URL:https://dev.piercelibrary.org/event/book-club-28-2024-04-09/2026-08-11/
END:VEVENT
BEGIN:VEVENT
DTSTART;TZID=UTC:20260811T190000
DTEND;TZID=UTC:20260811T200000
DTSTAMP:20260425T143628
CREATED:20230203T195552Z
LAST-MODIFIED:20230203T195552Z
UID:10000329-1786474800-1786478400@dev.piercelibrary.org
SUMMARY:Book Club
DESCRIPTION:Book Club\nmeets the 2nd Tuesday of each month at 7:00 \n 
URL:https://dev.piercelibrary.org/event/book-club-28-2024-08-13/2026-08-11/
END:VEVENT
BEGIN:VEVENT
DTSTART;TZID=UTC:20260811T190000
DTEND;TZID=UTC:20260811T200000
DTSTAMP:20260425T143628
CREATED:20230203T195552Z
LAST-MODIFIED:20230203T195552Z
UID:10003013-1786474800-1786478400@dev.piercelibrary.org
SUMMARY:Book Club
DESCRIPTION:Book Club\nmeets the 2nd Tuesday of each month at 7:00 \n 
URL:https://dev.piercelibrary.org/event/book-club-28-2025-07-08/2026-08-11/
END:VEVENT
END:VCALENDAR