BEGIN:VCALENDAR
VERSION:2.0
PRODID:-//Allen F. Pierce Free Library - ECPv6.15.17//NONSGML v1.0//EN
CALSCALE:GREGORIAN
METHOD:PUBLISH
X-ORIGINAL-URL:https://dev.piercelibrary.org
X-WR-CALDESC:Events for Allen F. Pierce Free Library
REFRESH-INTERVAL;VALUE=DURATION:PT1H
X-Robots-Tag:noindex
X-PUBLISHED-TTL:PT1H
BEGIN:VTIMEZONE
TZID:America/New_York
BEGIN:DAYLIGHT
TZOFFSETFROM:-0500
TZOFFSETTO:-0400
TZNAME:EDT
DTSTART:20250309T070000
END:DAYLIGHT
BEGIN:STANDARD
TZOFFSETFROM:-0400
TZOFFSETTO:-0500
TZNAME:EST
DTSTART:20251102T060000
END:STANDARD
BEGIN:DAYLIGHT
TZOFFSETFROM:-0500
TZOFFSETTO:-0400
TZNAME:EDT
DTSTART:20260308T070000
END:DAYLIGHT
BEGIN:STANDARD
TZOFFSETFROM:-0400
TZOFFSETTO:-0500
TZNAME:EST
DTSTART:20261101T060000
END:STANDARD
BEGIN:DAYLIGHT
TZOFFSETFROM:-0500
TZOFFSETTO:-0400
TZNAME:EDT
DTSTART:20270314T070000
END:DAYLIGHT
BEGIN:STANDARD
TZOFFSETFROM:-0400
TZOFFSETTO:-0500
TZNAME:EST
DTSTART:20271107T060000
END:STANDARD
END:VTIMEZONE
BEGIN:VTIMEZONE
TZID:UTC
BEGIN:STANDARD
TZOFFSETFROM:+0000
TZOFFSETTO:+0000
TZNAME:UTC
DTSTART:20250101T000000
END:STANDARD
END:VTIMEZONE
BEGIN:VEVENT
DTSTART;TZID=America/New_York:20260903T103000
DTEND;TZID=America/New_York:20260903T120000
DTSTAMP:20260423T171736
CREATED:20250918T174201Z
LAST-MODIFIED:20250918T174201Z
UID:10001244-1788431400-1788436800@dev.piercelibrary.org
SUMMARY:Board Meeting
DESCRIPTION:First Thursday of each month from 10:30 to noon.
URL:https://dev.piercelibrary.org/event/board-meeting-28-2/2026-09-03/
END:VEVENT
BEGIN:VEVENT
DTSTART;TZID=America/New_York:20260905T093000
DTEND;TZID=America/New_York:20260905T103000
DTSTAMP:20260423T171736
CREATED:20250102T204104Z
LAST-MODIFIED:20250102T204104Z
UID:10000895-1788600600-1788604200@dev.piercelibrary.org
SUMMARY:Preschool Story Hour 2026
DESCRIPTION:
URL:https://dev.piercelibrary.org/event/preschool-story-hour-2025/2026-09-05/
END:VEVENT
BEGIN:VEVENT
DTSTART;TZID=America/New_York:20260907T100000
DTEND;TZID=America/New_York:20260907T173000
DTSTAMP:20260423T171736
CREATED:20260109T160401Z
LAST-MODIFIED:20260109T160401Z
UID:10001250-1788775200-1788802200@dev.piercelibrary.org
SUMMARY:2026 Library Closed Dates
DESCRIPTION:The library is closed on these dates in 2026. \nMemorial Day  May 25\nJuly 4th\nLabor Day September 7\nThanksgiving November 26-27\nChristmas December 24\,25\, 26\, 31
URL:https://dev.piercelibrary.org/event/2026-library-closed-dates/2026-09-07/
END:VEVENT
BEGIN:VEVENT
DTSTART;TZID=America/New_York:20260908T163000
DTEND;TZID=America/New_York:20260908T173000
DTSTAMP:20260423T171736
CREATED:20250306T130604Z
LAST-MODIFIED:20250306T130604Z
UID:10001140-1788885000-1788888600@dev.piercelibrary.org
SUMMARY:Career Link
DESCRIPTION:Meets 2nd and 4th Tuesday of each month 4:30 – 5:30
URL:https://dev.piercelibrary.org/event/career-link/2026-09-08/
END:VEVENT
BEGIN:VEVENT
DTSTART;TZID=UTC:20260908T190000
DTEND;TZID=UTC:20260908T200000
DTSTAMP:20260423T171736
CREATED:20230203T195552Z
LAST-MODIFIED:20230203T195552Z
UID:10001540-1788894000-1788897600@dev.piercelibrary.org
SUMMARY:Book Club
DESCRIPTION:Book Club\nmeets the 2nd Tuesday of each month at 7:00 \n 
URL:https://dev.piercelibrary.org/event/book-club-28-2024-02-13/2026-09-08/
END:VEVENT
BEGIN:VEVENT
DTSTART;TZID=UTC:20260908T190000
DTEND;TZID=UTC:20260908T200000
DTSTAMP:20260423T171736
CREATED:20230203T195552Z
LAST-MODIFIED:20230203T195552Z
UID:10001715-1788894000-1788897600@dev.piercelibrary.org
SUMMARY:Book Club
DESCRIPTION:Book Club\nmeets the 2nd Tuesday of each month at 7:00 \n 
URL:https://dev.piercelibrary.org/event/book-club-28-2024-02-13/2026-09-08/
END:VEVENT
BEGIN:VEVENT
DTSTART;TZID=UTC:20260908T190000
DTEND;TZID=UTC:20260908T200000
DTSTAMP:20260423T171736
CREATED:20230203T195552Z
LAST-MODIFIED:20230203T195552Z
UID:10003965-1788894000-1788897600@dev.piercelibrary.org
SUMMARY:Book Club
DESCRIPTION:Book Club\nmeets the 2nd Tuesday of each month at 7:00 \n 
URL:https://dev.piercelibrary.org/event/book-club-28-2025-09-09/2026-09-08/
END:VEVENT
BEGIN:VEVENT
DTSTART;TZID=UTC:20260908T190000
DTEND;TZID=UTC:20260908T200000
DTSTAMP:20260423T171736
CREATED:20230203T195552Z
LAST-MODIFIED:20230203T195552Z
UID:10002149-1788894000-1788897600@dev.piercelibrary.org
SUMMARY:Book Club
DESCRIPTION:Book Club\nmeets the 2nd Tuesday of each month at 7:00 \n 
URL:https://dev.piercelibrary.org/event/book-club-28-2024-03-12/2026-09-08/
END:VEVENT
BEGIN:VEVENT
DTSTART;TZID=UTC:20260908T190000
DTEND;TZID=UTC:20260908T200000
DTSTAMP:20260423T171736
CREATED:20230203T195552Z
LAST-MODIFIED:20230203T195552Z
UID:10004343-1788894000-1788897600@dev.piercelibrary.org
SUMMARY:Book Club
DESCRIPTION:Book Club\nmeets the 2nd Tuesday of each month at 7:00 \n 
URL:https://dev.piercelibrary.org/event/book-club-28-2025-10-14/2026-09-08/
END:VEVENT
BEGIN:VEVENT
DTSTART;TZID=UTC:20260908T190000
DTEND;TZID=UTC:20260908T200000
DTSTAMP:20260423T171736
CREATED:20230203T195552Z
LAST-MODIFIED:20230203T195552Z
UID:10002264-1788894000-1788897600@dev.piercelibrary.org
SUMMARY:Book Club
DESCRIPTION:Book Club\nmeets the 2nd Tuesday of each month at 7:00 \n 
URL:https://dev.piercelibrary.org/event/book-club-28-2024-03-12/2026-09-08/
END:VEVENT
BEGIN:VEVENT
DTSTART;TZID=UTC:20260908T190000
DTEND;TZID=UTC:20260908T200000
DTSTAMP:20260423T171736
CREATED:20230203T195552Z
LAST-MODIFIED:20230203T195552Z
UID:10004653-1788894000-1788897600@dev.piercelibrary.org
SUMMARY:Book Club
DESCRIPTION:Book Club\nmeets the 2nd Tuesday of each month at 7:00 \n 
URL:https://dev.piercelibrary.org/event/book-club-28-2025-11-11/2026-09-08/
END:VEVENT
BEGIN:VEVENT
DTSTART;TZID=UTC:20260908T190000
DTEND;TZID=UTC:20260908T200000
DTSTAMP:20260423T171736
CREATED:20230203T195552Z
LAST-MODIFIED:20230203T195552Z
UID:10002537-1788894000-1788897600@dev.piercelibrary.org
SUMMARY:Book Club
DESCRIPTION:Book Club\nmeets the 2nd Tuesday of each month at 7:00 \n 
URL:https://dev.piercelibrary.org/event/book-club-28-2024-04-09/2026-09-08/
END:VEVENT
BEGIN:VEVENT
DTSTART;TZID=UTC:20260908T190000
DTEND;TZID=UTC:20260908T200000
DTSTAMP:20260423T171736
CREATED:20230203T195552Z
LAST-MODIFIED:20230203T195552Z
UID:10002749-1788894000-1788897600@dev.piercelibrary.org
SUMMARY:Book Club
DESCRIPTION:Book Club\nmeets the 2nd Tuesday of each month at 7:00 \n 
URL:https://dev.piercelibrary.org/event/book-club-28-2024-04-09/2026-09-08/
END:VEVENT
BEGIN:VEVENT
DTSTART;TZID=UTC:20260908T190000
DTEND;TZID=UTC:20260908T200000
DTSTAMP:20260423T171736
CREATED:20230203T195552Z
LAST-MODIFIED:20230203T195552Z
UID:10002963-1788894000-1788897600@dev.piercelibrary.org
SUMMARY:Book Club
DESCRIPTION:Book Club\nmeets the 2nd Tuesday of each month at 7:00 \n 
URL:https://dev.piercelibrary.org/event/book-club-28-2025-07-08/2026-09-08/
END:VEVENT
BEGIN:VEVENT
DTSTART;TZID=UTC:20260908T190000
DTEND;TZID=UTC:20260908T200000
DTSTAMP:20260423T171736
CREATED:20230203T195552Z
LAST-MODIFIED:20230203T195552Z
UID:10003161-1788894000-1788897600@dev.piercelibrary.org
SUMMARY:Book Club
DESCRIPTION:Book Club\nmeets the 2nd Tuesday of each month at 7:00 \n 
URL:https://dev.piercelibrary.org/event/book-club-28-2025-07-08/2026-09-08/
END:VEVENT
BEGIN:VEVENT
DTSTART;TZID=UTC:20260908T190000
DTEND;TZID=UTC:20260908T200000
DTSTAMP:20260423T171736
CREATED:20230203T195552Z
LAST-MODIFIED:20230203T195552Z
UID:10000110-1788894000-1788897600@dev.piercelibrary.org
SUMMARY:Book Club
DESCRIPTION:Book Club\nmeets the 2nd Tuesday of each month at 7:00 \n 
URL:https://dev.piercelibrary.org/event/book-club-28-2024-02-13/2026-09-08/
END:VEVENT
BEGIN:VEVENT
DTSTART;TZID=UTC:20260908T190000
DTEND;TZID=UTC:20260908T200000
DTSTAMP:20260423T171736
CREATED:20230203T195552Z
LAST-MODIFIED:20230203T195552Z
UID:10003343-1788894000-1788897600@dev.piercelibrary.org
SUMMARY:Book Club
DESCRIPTION:Book Club\nmeets the 2nd Tuesday of each month at 7:00 \n 
URL:https://dev.piercelibrary.org/event/book-club-28-2025-08-12/2026-09-08/
END:VEVENT
BEGIN:VEVENT
DTSTART;TZID=UTC:20260908T190000
DTEND;TZID=UTC:20260908T200000
DTSTAMP:20260423T171736
CREATED:20230203T195552Z
LAST-MODIFIED:20230203T195552Z
UID:10000450-1788894000-1788897600@dev.piercelibrary.org
SUMMARY:Book Club
DESCRIPTION:Book Club\nmeets the 2nd Tuesday of each month at 7:00 \n 
URL:https://dev.piercelibrary.org/event/book-club-28-2024-11-12/2026-09-08/
END:VEVENT
BEGIN:VEVENT
DTSTART;TZID=UTC:20260908T190000
DTEND;TZID=UTC:20260908T200000
DTSTAMP:20260423T171736
CREATED:20230203T195552Z
LAST-MODIFIED:20230203T195552Z
UID:10003518-1788894000-1788897600@dev.piercelibrary.org
SUMMARY:Book Club
DESCRIPTION:Book Club\nmeets the 2nd Tuesday of each month at 7:00 \n 
URL:https://dev.piercelibrary.org/event/book-club-28-2025-08-12/2026-09-08/
END:VEVENT
BEGIN:VEVENT
DTSTART;TZID=UTC:20260908T190000
DTEND;TZID=UTC:20260908T200000
DTSTAMP:20260423T171736
CREATED:20230203T195552Z
LAST-MODIFIED:20230203T195552Z
UID:10000726-1788894000-1788897600@dev.piercelibrary.org
SUMMARY:Book Club
DESCRIPTION:Book Club\nmeets the 2nd Tuesday of each month at 7:00 \n 
URL:https://dev.piercelibrary.org/event/book-club-28-2025-07-08/2026-09-08/
END:VEVENT
BEGIN:VEVENT
DTSTART;TZID=UTC:20260908T190000
DTEND;TZID=UTC:20260908T200000
DTSTAMP:20260423T171736
CREATED:20230203T195552Z
LAST-MODIFIED:20230203T195552Z
UID:10001511-1788894000-1788897600@dev.piercelibrary.org
SUMMARY:Book Club
DESCRIPTION:Book Club\nmeets the 2nd Tuesday of each month at 7:00 \n 
URL:https://dev.piercelibrary.org/event/book-club-28-2024-02-13/2026-09-08/
END:VEVENT
BEGIN:VEVENT
DTSTART;TZID=UTC:20260908T190000
DTEND;TZID=UTC:20260908T200000
DTSTAMP:20260423T171736
CREATED:20230203T195552Z
LAST-MODIFIED:20230203T195552Z
UID:10003902-1788894000-1788897600@dev.piercelibrary.org
SUMMARY:Book Club
DESCRIPTION:Book Club\nmeets the 2nd Tuesday of each month at 7:00 \n 
URL:https://dev.piercelibrary.org/event/book-club-28-2025-09-09/2026-09-08/
END:VEVENT
BEGIN:VEVENT
DTSTART;TZID=UTC:20260908T190000
DTEND;TZID=UTC:20260908T200000
DTSTAMP:20260423T171736
CREATED:20230203T195552Z
LAST-MODIFIED:20230203T195552Z
UID:10001756-1788894000-1788897600@dev.piercelibrary.org
SUMMARY:Book Club
DESCRIPTION:Book Club\nmeets the 2nd Tuesday of each month at 7:00 \n 
URL:https://dev.piercelibrary.org/event/book-club-28-2024-02-13/2026-09-08/
END:VEVENT
BEGIN:VEVENT
DTSTART;TZID=UTC:20260908T190000
DTEND;TZID=UTC:20260908T200000
DTSTAMP:20260423T171736
CREATED:20230203T195552Z
LAST-MODIFIED:20230203T195552Z
UID:10004280-1788894000-1788897600@dev.piercelibrary.org
SUMMARY:Book Club
DESCRIPTION:Book Club\nmeets the 2nd Tuesday of each month at 7:00 \n 
URL:https://dev.piercelibrary.org/event/book-club-28-2025-10-14/2026-09-08/
END:VEVENT
BEGIN:VEVENT
DTSTART;TZID=UTC:20260908T190000
DTEND;TZID=UTC:20260908T200000
DTSTAMP:20260423T171736
CREATED:20230203T195552Z
LAST-MODIFIED:20230203T195552Z
UID:10002123-1788894000-1788897600@dev.piercelibrary.org
SUMMARY:Book Club
DESCRIPTION:Book Club\nmeets the 2nd Tuesday of each month at 7:00 \n 
URL:https://dev.piercelibrary.org/event/book-club-28-2024-03-12/2026-09-08/
END:VEVENT
BEGIN:VEVENT
DTSTART;TZID=UTC:20260908T190000
DTEND;TZID=UTC:20260908T200000
DTSTAMP:20260423T171736
CREATED:20230203T195552Z
LAST-MODIFIED:20230203T195552Z
UID:10002321-1788894000-1788897600@dev.piercelibrary.org
SUMMARY:Book Club
DESCRIPTION:Book Club\nmeets the 2nd Tuesday of each month at 7:00 \n 
URL:https://dev.piercelibrary.org/event/book-club-28-2024-03-12/2026-09-08/
END:VEVENT
BEGIN:VEVENT
DTSTART;TZID=UTC:20260908T190000
DTEND;TZID=UTC:20260908T200000
DTSTAMP:20260423T171736
CREATED:20230203T195552Z
LAST-MODIFIED:20230203T195552Z
UID:10002506-1788894000-1788897600@dev.piercelibrary.org
SUMMARY:Book Club
DESCRIPTION:Book Club\nmeets the 2nd Tuesday of each month at 7:00 \n 
URL:https://dev.piercelibrary.org/event/book-club-28-2024-04-09/2026-09-08/
END:VEVENT
BEGIN:VEVENT
DTSTART;TZID=UTC:20260908T190000
DTEND;TZID=UTC:20260908T200000
DTSTAMP:20260423T171736
CREATED:20230203T195552Z
LAST-MODIFIED:20230203T195552Z
UID:10004694-1788894000-1788897600@dev.piercelibrary.org
SUMMARY:Book Club
DESCRIPTION:Book Club\nmeets the 2nd Tuesday of each month at 7:00 \n 
URL:https://dev.piercelibrary.org/event/book-club-28-2025-11-11/2026-09-08/
END:VEVENT
BEGIN:VEVENT
DTSTART;TZID=UTC:20260908T190000
DTEND;TZID=UTC:20260908T200000
DTSTAMP:20260423T171736
CREATED:20230203T195552Z
LAST-MODIFIED:20230203T195552Z
UID:10002726-1788894000-1788897600@dev.piercelibrary.org
SUMMARY:Book Club
DESCRIPTION:Book Club\nmeets the 2nd Tuesday of each month at 7:00 \n 
URL:https://dev.piercelibrary.org/event/book-club-28-2024-04-09/2026-09-08/
END:VEVENT
BEGIN:VEVENT
DTSTART;TZID=UTC:20260908T190000
DTEND;TZID=UTC:20260908T200000
DTSTAMP:20260423T171736
CREATED:20230203T195552Z
LAST-MODIFIED:20230203T195552Z
UID:10002936-1788894000-1788897600@dev.piercelibrary.org
SUMMARY:Book Club
DESCRIPTION:Book Club\nmeets the 2nd Tuesday of each month at 7:00 \n 
URL:https://dev.piercelibrary.org/event/book-club-28-2025-07-08/2026-09-08/
END:VEVENT
END:VCALENDAR