BEGIN:VCALENDAR
VERSION:2.0
PRODID:-//Allen F. Pierce Free Library - ECPv6.15.17//NONSGML v1.0//EN
CALSCALE:GREGORIAN
METHOD:PUBLISH
X-WR-CALNAME:Allen F. Pierce Free Library
X-ORIGINAL-URL:https://dev.piercelibrary.org
X-WR-CALDESC:Events for Allen F. Pierce Free Library
REFRESH-INTERVAL;VALUE=DURATION:PT1H
X-Robots-Tag:noindex
X-PUBLISHED-TTL:PT1H
BEGIN:VTIMEZONE
TZID:America/New_York
BEGIN:DAYLIGHT
TZOFFSETFROM:-0500
TZOFFSETTO:-0400
TZNAME:EDT
DTSTART:20290311T070000
END:DAYLIGHT
BEGIN:STANDARD
TZOFFSETFROM:-0400
TZOFFSETTO:-0500
TZNAME:EST
DTSTART:20291104T060000
END:STANDARD
BEGIN:DAYLIGHT
TZOFFSETFROM:-0500
TZOFFSETTO:-0400
TZNAME:EDT
DTSTART:20300310T070000
END:DAYLIGHT
BEGIN:STANDARD
TZOFFSETFROM:-0400
TZOFFSETTO:-0500
TZNAME:EST
DTSTART:20301103T060000
END:STANDARD
BEGIN:DAYLIGHT
TZOFFSETFROM:-0500
TZOFFSETTO:-0400
TZNAME:EDT
DTSTART:20310309T070000
END:DAYLIGHT
BEGIN:STANDARD
TZOFFSETFROM:-0400
TZOFFSETTO:-0500
TZNAME:EST
DTSTART:20311102T060000
END:STANDARD
END:VTIMEZONE
BEGIN:VEVENT
DTSTART;TZID=America/New_York:20300302T093000
DTEND;TZID=America/New_York:20300302T103000
DTSTAMP:20260422T190412
CREATED:20250102T204104Z
LAST-MODIFIED:20250102T204104Z
UID:10001077-1898674200-1898677800@dev.piercelibrary.org
SUMMARY:Preschool Story Hour 2026
DESCRIPTION:
URL:https://dev.piercelibrary.org/event/preschool-story-hour-2025/2030-03-02/
END:VEVENT
BEGIN:VEVENT
DTSTART;TZID=America/New_York:20300309T093000
DTEND;TZID=America/New_York:20300309T103000
DTSTAMP:20260422T190412
CREATED:20250102T204104Z
LAST-MODIFIED:20250102T204104Z
UID:10001078-1899279000-1899282600@dev.piercelibrary.org
SUMMARY:Preschool Story Hour 2026
DESCRIPTION:
URL:https://dev.piercelibrary.org/event/preschool-story-hour-2025/2030-03-09/
END:VEVENT
BEGIN:VEVENT
DTSTART;TZID=America/New_York:20300312T163000
DTEND;TZID=America/New_York:20300312T173000
DTSTAMP:20260422T190412
CREATED:20250306T130604Z
LAST-MODIFIED:20250306T130604Z
UID:10001182-1899563400-1899567000@dev.piercelibrary.org
SUMMARY:Career Link
DESCRIPTION:Meets 2nd and 4th Tuesday of each month 4:30 – 5:30
URL:https://dev.piercelibrary.org/event/career-link/2030-03-12/
END:VEVENT
BEGIN:VEVENT
DTSTART;TZID=America/New_York:20300316T093000
DTEND;TZID=America/New_York:20300316T103000
DTSTAMP:20260422T190412
CREATED:20250102T204104Z
LAST-MODIFIED:20250102T204104Z
UID:10001079-1899883800-1899887400@dev.piercelibrary.org
SUMMARY:Preschool Story Hour 2026
DESCRIPTION:
URL:https://dev.piercelibrary.org/event/preschool-story-hour-2025/2030-03-16/
END:VEVENT
BEGIN:VEVENT
DTSTART;TZID=America/New_York:20300323T093000
DTEND;TZID=America/New_York:20300323T103000
DTSTAMP:20260422T190412
CREATED:20250102T204104Z
LAST-MODIFIED:20250102T204104Z
UID:10001080-1900488600-1900492200@dev.piercelibrary.org
SUMMARY:Preschool Story Hour 2026
DESCRIPTION:
URL:https://dev.piercelibrary.org/event/preschool-story-hour-2025/2030-03-23/
END:VEVENT
BEGIN:VEVENT
DTSTART;TZID=America/New_York:20300330T093000
DTEND;TZID=America/New_York:20300330T103000
DTSTAMP:20260422T190412
CREATED:20250102T204104Z
LAST-MODIFIED:20250102T204104Z
UID:10001081-1901093400-1901097000@dev.piercelibrary.org
SUMMARY:Preschool Story Hour 2026
DESCRIPTION:
URL:https://dev.piercelibrary.org/event/preschool-story-hour-2025/2030-03-30/
END:VEVENT
BEGIN:VEVENT
DTSTART;TZID=America/New_York:20300406T093000
DTEND;TZID=America/New_York:20300406T103000
DTSTAMP:20260422T190412
CREATED:20250102T204104Z
LAST-MODIFIED:20250102T204104Z
UID:10001082-1901698200-1901701800@dev.piercelibrary.org
SUMMARY:Preschool Story Hour 2026
DESCRIPTION:
URL:https://dev.piercelibrary.org/event/preschool-story-hour-2025/2030-04-06/
END:VEVENT
BEGIN:VEVENT
DTSTART;TZID=America/New_York:20300409T163000
DTEND;TZID=America/New_York:20300409T173000
DTSTAMP:20260422T190412
CREATED:20250306T130604Z
LAST-MODIFIED:20250306T130604Z
UID:10001183-1901982600-1901986200@dev.piercelibrary.org
SUMMARY:Career Link
DESCRIPTION:Meets 2nd and 4th Tuesday of each month 4:30 – 5:30
URL:https://dev.piercelibrary.org/event/career-link/2030-04-09/
END:VEVENT
BEGIN:VEVENT
DTSTART;TZID=America/New_York:20300413T093000
DTEND;TZID=America/New_York:20300413T103000
DTSTAMP:20260422T190412
CREATED:20250102T204104Z
LAST-MODIFIED:20250102T204104Z
UID:10001083-1902303000-1902306600@dev.piercelibrary.org
SUMMARY:Preschool Story Hour 2026
DESCRIPTION:
URL:https://dev.piercelibrary.org/event/preschool-story-hour-2025/2030-04-13/
END:VEVENT
BEGIN:VEVENT
DTSTART;TZID=America/New_York:20300420T093000
DTEND;TZID=America/New_York:20300420T103000
DTSTAMP:20260422T190412
CREATED:20250102T204104Z
LAST-MODIFIED:20250102T204104Z
UID:10001084-1902907800-1902911400@dev.piercelibrary.org
SUMMARY:Preschool Story Hour 2026
DESCRIPTION:
URL:https://dev.piercelibrary.org/event/preschool-story-hour-2025/2030-04-20/
END:VEVENT
BEGIN:VEVENT
DTSTART;TZID=America/New_York:20300427T093000
DTEND;TZID=America/New_York:20300427T103000
DTSTAMP:20260422T190412
CREATED:20250102T204104Z
LAST-MODIFIED:20250102T204104Z
UID:10001085-1903512600-1903516200@dev.piercelibrary.org
SUMMARY:Preschool Story Hour 2026
DESCRIPTION:
URL:https://dev.piercelibrary.org/event/preschool-story-hour-2025/2030-04-27/
END:VEVENT
BEGIN:VEVENT
DTSTART;TZID=America/New_York:20300504T093000
DTEND;TZID=America/New_York:20300504T103000
DTSTAMP:20260422T190412
CREATED:20250102T204104Z
LAST-MODIFIED:20250102T204104Z
UID:10001086-1904117400-1904121000@dev.piercelibrary.org
SUMMARY:Preschool Story Hour 2026
DESCRIPTION:
URL:https://dev.piercelibrary.org/event/preschool-story-hour-2025/2030-05-04/
END:VEVENT
BEGIN:VEVENT
DTSTART;TZID=America/New_York:20300511T093000
DTEND;TZID=America/New_York:20300511T103000
DTSTAMP:20260422T190412
CREATED:20250102T204104Z
LAST-MODIFIED:20250102T204104Z
UID:10001087-1904722200-1904725800@dev.piercelibrary.org
SUMMARY:Preschool Story Hour 2026
DESCRIPTION:
URL:https://dev.piercelibrary.org/event/preschool-story-hour-2025/2030-05-11/
END:VEVENT
BEGIN:VEVENT
DTSTART;TZID=America/New_York:20300514T163000
DTEND;TZID=America/New_York:20300514T173000
DTSTAMP:20260422T190412
CREATED:20250306T130604Z
LAST-MODIFIED:20250306T130604Z
UID:10001184-1905006600-1905010200@dev.piercelibrary.org
SUMMARY:Career Link
DESCRIPTION:Meets 2nd and 4th Tuesday of each month 4:30 – 5:30
URL:https://dev.piercelibrary.org/event/career-link/2030-05-14/
END:VEVENT
BEGIN:VEVENT
DTSTART;TZID=America/New_York:20300518T093000
DTEND;TZID=America/New_York:20300518T103000
DTSTAMP:20260422T190412
CREATED:20250102T204104Z
LAST-MODIFIED:20250102T204104Z
UID:10001088-1905327000-1905330600@dev.piercelibrary.org
SUMMARY:Preschool Story Hour 2026
DESCRIPTION:
URL:https://dev.piercelibrary.org/event/preschool-story-hour-2025/2030-05-18/
END:VEVENT
BEGIN:VEVENT
DTSTART;TZID=America/New_York:20300525T093000
DTEND;TZID=America/New_York:20300525T103000
DTSTAMP:20260422T190412
CREATED:20250102T204104Z
LAST-MODIFIED:20250102T204104Z
UID:10001089-1905931800-1905935400@dev.piercelibrary.org
SUMMARY:Preschool Story Hour 2026
DESCRIPTION:
URL:https://dev.piercelibrary.org/event/preschool-story-hour-2025/2030-05-25/
END:VEVENT
BEGIN:VEVENT
DTSTART;TZID=America/New_York:20300601T093000
DTEND;TZID=America/New_York:20300601T103000
DTSTAMP:20260422T190412
CREATED:20250102T204104Z
LAST-MODIFIED:20250102T204104Z
UID:10001090-1906536600-1906540200@dev.piercelibrary.org
SUMMARY:Preschool Story Hour 2026
DESCRIPTION:
URL:https://dev.piercelibrary.org/event/preschool-story-hour-2025/2030-06-01/
END:VEVENT
BEGIN:VEVENT
DTSTART;TZID=America/New_York:20300608T093000
DTEND;TZID=America/New_York:20300608T103000
DTSTAMP:20260422T190412
CREATED:20250102T204104Z
LAST-MODIFIED:20250102T204104Z
UID:10001091-1907141400-1907145000@dev.piercelibrary.org
SUMMARY:Preschool Story Hour 2026
DESCRIPTION:
URL:https://dev.piercelibrary.org/event/preschool-story-hour-2025/2030-06-08/
END:VEVENT
BEGIN:VEVENT
DTSTART;TZID=America/New_York:20300611T163000
DTEND;TZID=America/New_York:20300611T173000
DTSTAMP:20260422T190412
CREATED:20250306T130604Z
LAST-MODIFIED:20250306T130604Z
UID:10001185-1907425800-1907429400@dev.piercelibrary.org
SUMMARY:Career Link
DESCRIPTION:Meets 2nd and 4th Tuesday of each month 4:30 – 5:30
URL:https://dev.piercelibrary.org/event/career-link/2030-06-11/
END:VEVENT
BEGIN:VEVENT
DTSTART;TZID=America/New_York:20300615T093000
DTEND;TZID=America/New_York:20300615T103000
DTSTAMP:20260422T190412
CREATED:20250102T204104Z
LAST-MODIFIED:20250102T204104Z
UID:10001092-1907746200-1907749800@dev.piercelibrary.org
SUMMARY:Preschool Story Hour 2026
DESCRIPTION:
URL:https://dev.piercelibrary.org/event/preschool-story-hour-2025/2030-06-15/
END:VEVENT
BEGIN:VEVENT
DTSTART;TZID=America/New_York:20300622T093000
DTEND;TZID=America/New_York:20300622T103000
DTSTAMP:20260422T190412
CREATED:20250102T204104Z
LAST-MODIFIED:20250102T204104Z
UID:10001093-1908351000-1908354600@dev.piercelibrary.org
SUMMARY:Preschool Story Hour 2026
DESCRIPTION:
URL:https://dev.piercelibrary.org/event/preschool-story-hour-2025/2030-06-22/
END:VEVENT
BEGIN:VEVENT
DTSTART;TZID=America/New_York:20300629T093000
DTEND;TZID=America/New_York:20300629T103000
DTSTAMP:20260422T190412
CREATED:20250102T204104Z
LAST-MODIFIED:20250102T204104Z
UID:10001094-1908955800-1908959400@dev.piercelibrary.org
SUMMARY:Preschool Story Hour 2026
DESCRIPTION:
URL:https://dev.piercelibrary.org/event/preschool-story-hour-2025/2030-06-29/
END:VEVENT
BEGIN:VEVENT
DTSTART;TZID=America/New_York:20300706T093000
DTEND;TZID=America/New_York:20300706T103000
DTSTAMP:20260422T190412
CREATED:20250102T204104Z
LAST-MODIFIED:20250102T204104Z
UID:10001095-1909560600-1909564200@dev.piercelibrary.org
SUMMARY:Preschool Story Hour 2026
DESCRIPTION:
URL:https://dev.piercelibrary.org/event/preschool-story-hour-2025/2030-07-06/
END:VEVENT
BEGIN:VEVENT
DTSTART;TZID=America/New_York:20300709T163000
DTEND;TZID=America/New_York:20300709T173000
DTSTAMP:20260422T190412
CREATED:20250306T130604Z
LAST-MODIFIED:20250306T130604Z
UID:10001186-1909845000-1909848600@dev.piercelibrary.org
SUMMARY:Career Link
DESCRIPTION:Meets 2nd and 4th Tuesday of each month 4:30 – 5:30
URL:https://dev.piercelibrary.org/event/career-link/2030-07-09/
END:VEVENT
BEGIN:VEVENT
DTSTART;TZID=America/New_York:20300713T093000
DTEND;TZID=America/New_York:20300713T103000
DTSTAMP:20260422T190412
CREATED:20250102T204104Z
LAST-MODIFIED:20250102T204104Z
UID:10001096-1910165400-1910169000@dev.piercelibrary.org
SUMMARY:Preschool Story Hour 2026
DESCRIPTION:
URL:https://dev.piercelibrary.org/event/preschool-story-hour-2025/2030-07-13/
END:VEVENT
BEGIN:VEVENT
DTSTART;TZID=America/New_York:20300720T093000
DTEND;TZID=America/New_York:20300720T103000
DTSTAMP:20260422T190412
CREATED:20250102T204104Z
LAST-MODIFIED:20250102T204104Z
UID:10001097-1910770200-1910773800@dev.piercelibrary.org
SUMMARY:Preschool Story Hour 2026
DESCRIPTION:
URL:https://dev.piercelibrary.org/event/preschool-story-hour-2025/2030-07-20/
END:VEVENT
BEGIN:VEVENT
DTSTART;TZID=America/New_York:20300727T093000
DTEND;TZID=America/New_York:20300727T103000
DTSTAMP:20260422T190412
CREATED:20250102T204104Z
LAST-MODIFIED:20250102T204104Z
UID:10001098-1911375000-1911378600@dev.piercelibrary.org
SUMMARY:Preschool Story Hour 2026
DESCRIPTION:
URL:https://dev.piercelibrary.org/event/preschool-story-hour-2025/2030-07-27/
END:VEVENT
BEGIN:VEVENT
DTSTART;TZID=America/New_York:20300803T093000
DTEND;TZID=America/New_York:20300803T103000
DTSTAMP:20260422T190412
CREATED:20250102T204104Z
LAST-MODIFIED:20250102T204104Z
UID:10001099-1911979800-1911983400@dev.piercelibrary.org
SUMMARY:Preschool Story Hour 2026
DESCRIPTION:
URL:https://dev.piercelibrary.org/event/preschool-story-hour-2025/2030-08-03/
END:VEVENT
BEGIN:VEVENT
DTSTART;TZID=America/New_York:20300810T093000
DTEND;TZID=America/New_York:20300810T103000
DTSTAMP:20260422T190412
CREATED:20250102T204104Z
LAST-MODIFIED:20250102T204104Z
UID:10001100-1912584600-1912588200@dev.piercelibrary.org
SUMMARY:Preschool Story Hour 2026
DESCRIPTION:
URL:https://dev.piercelibrary.org/event/preschool-story-hour-2025/2030-08-10/
END:VEVENT
BEGIN:VEVENT
DTSTART;TZID=America/New_York:20300813T163000
DTEND;TZID=America/New_York:20300813T173000
DTSTAMP:20260422T190412
CREATED:20250306T130604Z
LAST-MODIFIED:20250306T130604Z
UID:10001187-1912869000-1912872600@dev.piercelibrary.org
SUMMARY:Career Link
DESCRIPTION:Meets 2nd and 4th Tuesday of each month 4:30 – 5:30
URL:https://dev.piercelibrary.org/event/career-link/2030-08-13/
END:VEVENT
END:VCALENDAR