BEGIN:VCALENDAR
VERSION:2.0
PRODID:-//Allen F. Pierce Free Library - ECPv6.15.17//NONSGML v1.0//EN
CALSCALE:GREGORIAN
METHOD:PUBLISH
X-WR-CALNAME:Allen F. Pierce Free Library
X-ORIGINAL-URL:https://dev.piercelibrary.org
X-WR-CALDESC:Events for Allen F. Pierce Free Library
REFRESH-INTERVAL;VALUE=DURATION:PT1H
X-Robots-Tag:noindex
X-PUBLISHED-TTL:PT1H
BEGIN:VTIMEZONE
TZID:UTC
BEGIN:STANDARD
TZOFFSETFROM:+0000
TZOFFSETTO:+0000
TZNAME:UTC
DTSTART:20260101T000000
END:STANDARD
END:VTIMEZONE
BEGIN:VTIMEZONE
TZID:America/New_York
BEGIN:DAYLIGHT
TZOFFSETFROM:-0500
TZOFFSETTO:-0400
TZNAME:EDT
DTSTART:20260308T070000
END:DAYLIGHT
BEGIN:STANDARD
TZOFFSETFROM:-0400
TZOFFSETTO:-0500
TZNAME:EST
DTSTART:20261101T060000
END:STANDARD
BEGIN:DAYLIGHT
TZOFFSETFROM:-0500
TZOFFSETTO:-0400
TZNAME:EDT
DTSTART:20270314T070000
END:DAYLIGHT
BEGIN:STANDARD
TZOFFSETFROM:-0400
TZOFFSETTO:-0500
TZNAME:EST
DTSTART:20271107T060000
END:STANDARD
BEGIN:DAYLIGHT
TZOFFSETFROM:-0500
TZOFFSETTO:-0400
TZNAME:EDT
DTSTART:20280312T070000
END:DAYLIGHT
BEGIN:STANDARD
TZOFFSETFROM:-0400
TZOFFSETTO:-0500
TZNAME:EST
DTSTART:20281105T060000
END:STANDARD
END:VTIMEZONE
BEGIN:VEVENT
DTSTART;TZID=UTC:20270713T190000
DTEND;TZID=UTC:20270713T200000
DTSTAMP:20260424T012518
CREATED:20230203T195552Z
LAST-MODIFIED:20230203T195552Z
UID:10002889-1815505200-1815508800@dev.piercelibrary.org
SUMMARY:Book Club
DESCRIPTION:Book Club\nmeets the 2nd Tuesday of each month at 7:00 \n 
URL:https://dev.piercelibrary.org/event/book-club-28-2025-07-08/2027-07-13/
LOCATION:PA
END:VEVENT
BEGIN:VEVENT
DTSTART;TZID=UTC:20270713T190000
DTEND;TZID=UTC:20270713T200000
DTSTAMP:20260424T012518
CREATED:20230203T195552Z
LAST-MODIFIED:20230203T195552Z
UID:10003093-1815505200-1815508800@dev.piercelibrary.org
SUMMARY:Book Club
DESCRIPTION:Book Club\nmeets the 2nd Tuesday of each month at 7:00 \n 
URL:https://dev.piercelibrary.org/event/book-club-28-2025-07-08/2027-07-13/
LOCATION:PA
END:VEVENT
BEGIN:VEVENT
DTSTART;TZID=UTC:20270713T190000
DTEND;TZID=UTC:20270713T200000
DTSTAMP:20260424T012518
CREATED:20230203T195552Z
LAST-MODIFIED:20230203T195552Z
UID:10003233-1815505200-1815508800@dev.piercelibrary.org
SUMMARY:Book Club
DESCRIPTION:Book Club\nmeets the 2nd Tuesday of each month at 7:00 \n 
URL:https://dev.piercelibrary.org/event/book-club-28-2025-07-08/2027-07-13/
LOCATION:PA
END:VEVENT
BEGIN:VEVENT
DTSTART;TZID=UTC:20270713T190000
DTEND;TZID=UTC:20270713T200000
DTSTAMP:20260424T012518
CREATED:20230203T195552Z
LAST-MODIFIED:20230203T195552Z
UID:10003528-1815505200-1815508800@dev.piercelibrary.org
SUMMARY:Book Club
DESCRIPTION:Book Club\nmeets the 2nd Tuesday of each month at 7:00 \n 
URL:https://dev.piercelibrary.org/event/book-club-28-2025-08-12/2027-07-13/
LOCATION:PA
END:VEVENT
BEGIN:VEVENT
DTSTART;TZID=UTC:20270713T190000
DTEND;TZID=UTC:20270713T200000
DTSTAMP:20260424T012518
CREATED:20230203T195552Z
LAST-MODIFIED:20230203T195552Z
UID:10003668-1815505200-1815508800@dev.piercelibrary.org
SUMMARY:Book Club
DESCRIPTION:Book Club\nmeets the 2nd Tuesday of each month at 7:00 \n 
URL:https://dev.piercelibrary.org/event/book-club-28-2025-08-12/2027-07-13/
LOCATION:PA
END:VEVENT
BEGIN:VEVENT
DTSTART;TZID=UTC:20270713T190000
DTEND;TZID=UTC:20270713T200000
DTSTAMP:20260424T012518
CREATED:20230203T195552Z
LAST-MODIFIED:20230203T195552Z
UID:10003934-1815505200-1815508800@dev.piercelibrary.org
SUMMARY:Book Club
DESCRIPTION:Book Club\nmeets the 2nd Tuesday of each month at 7:00 \n 
URL:https://dev.piercelibrary.org/event/book-club-28-2025-09-09/2027-07-13/
LOCATION:PA
END:VEVENT
BEGIN:VEVENT
DTSTART;TZID=UTC:20270713T190000
DTEND;TZID=UTC:20270713T200000
DTSTAMP:20260424T012518
CREATED:20230203T195552Z
LAST-MODIFIED:20230203T195552Z
UID:10004074-1815505200-1815508800@dev.piercelibrary.org
SUMMARY:Book Club
DESCRIPTION:Book Club\nmeets the 2nd Tuesday of each month at 7:00 \n 
URL:https://dev.piercelibrary.org/event/book-club-28-2025-09-09/2027-07-13/
LOCATION:PA
END:VEVENT
BEGIN:VEVENT
DTSTART;TZID=UTC:20270713T190000
DTEND;TZID=UTC:20270713T200000
DTSTAMP:20260424T012518
CREATED:20230203T195552Z
LAST-MODIFIED:20230203T195552Z
UID:10004333-1815505200-1815508800@dev.piercelibrary.org
SUMMARY:Book Club
DESCRIPTION:Book Club\nmeets the 2nd Tuesday of each month at 7:00 \n 
URL:https://dev.piercelibrary.org/event/book-club-28-2025-10-14/2027-07-13/
LOCATION:PA
END:VEVENT
BEGIN:VEVENT
DTSTART;TZID=UTC:20270713T190000
DTEND;TZID=UTC:20270713T200000
DTSTAMP:20260424T012518
CREATED:20230203T195552Z
LAST-MODIFIED:20230203T195552Z
UID:10004465-1815505200-1815508800@dev.piercelibrary.org
SUMMARY:Book Club
DESCRIPTION:Book Club\nmeets the 2nd Tuesday of each month at 7:00 \n 
URL:https://dev.piercelibrary.org/event/book-club-28-2025-10-14/2027-07-13/
LOCATION:PA
END:VEVENT
BEGIN:VEVENT
DTSTART;TZID=UTC:20270713T190000
DTEND;TZID=UTC:20270713T200000
DTSTAMP:20260424T012518
CREATED:20230203T195552Z
LAST-MODIFIED:20230203T195552Z
UID:10004723-1815505200-1815508800@dev.piercelibrary.org
SUMMARY:Book Club
DESCRIPTION:Book Club\nmeets the 2nd Tuesday of each month at 7:00 \n 
URL:https://dev.piercelibrary.org/event/book-club-28-2025-11-11/2027-07-13/
LOCATION:PA
END:VEVENT
BEGIN:VEVENT
DTSTART;TZID=UTC:20270713T190000
DTEND;TZID=UTC:20270713T200000
DTSTAMP:20260424T012518
CREATED:20230203T195552Z
LAST-MODIFIED:20230203T195552Z
UID:10004839-1815505200-1815508800@dev.piercelibrary.org
SUMMARY:Book Club
DESCRIPTION:Book Club\nmeets the 2nd Tuesday of each month at 7:00 \n 
URL:https://dev.piercelibrary.org/event/book-club-28-2025-11-11/2027-07-13/
LOCATION:PA
END:VEVENT
BEGIN:VEVENT
DTSTART;TZID=UTC:20270713T190000
DTEND;TZID=UTC:20270713T200000
DTSTAMP:20260424T012518
CREATED:20230203T195552Z
LAST-MODIFIED:20230203T195552Z
UID:10000340-1815505200-1815508800@dev.piercelibrary.org
SUMMARY:Book Club
DESCRIPTION:Book Club\nmeets the 2nd Tuesday of each month at 7:00 \n 
URL:https://dev.piercelibrary.org/event/book-club-28-2024-08-13/2027-07-13/
LOCATION:PA
END:VEVENT
BEGIN:VEVENT
DTSTART;TZID=UTC:20270713T190000
DTEND;TZID=UTC:20270713T200000
DTSTAMP:20260424T012518
CREATED:20230203T195552Z
LAST-MODIFIED:20230203T195552Z
UID:10000640-1815505200-1815508800@dev.piercelibrary.org
SUMMARY:Book Club
DESCRIPTION:Book Club\nmeets the 2nd Tuesday of each month at 7:00 \n 
URL:https://dev.piercelibrary.org/event/book-club-28-2025-04-08/2027-07-13/
LOCATION:PA
END:VEVENT
BEGIN:VEVENT
DTSTART;TZID=UTC:20270713T190000
DTEND;TZID=UTC:20270713T200000
DTSTAMP:20260424T012518
CREATED:20230203T195552Z
LAST-MODIFIED:20230203T195552Z
UID:10001460-1815505200-1815508800@dev.piercelibrary.org
SUMMARY:Book Club
DESCRIPTION:Book Club\nmeets the 2nd Tuesday of each month at 7:00 \n 
URL:https://dev.piercelibrary.org/event/book-club-28-2024-02-13/2027-07-13/
LOCATION:PA
END:VEVENT
BEGIN:VEVENT
DTSTART;TZID=UTC:20270713T190000
DTEND;TZID=UTC:20270713T200000
DTSTAMP:20260424T012518
CREATED:20230203T195552Z
LAST-MODIFIED:20230203T195552Z
UID:10001680-1815505200-1815508800@dev.piercelibrary.org
SUMMARY:Book Club
DESCRIPTION:Book Club\nmeets the 2nd Tuesday of each month at 7:00 \n 
URL:https://dev.piercelibrary.org/event/book-club-28-2024-02-13/2027-07-13/
LOCATION:PA
END:VEVENT
BEGIN:VEVENT
DTSTART;TZID=UTC:20270713T190000
DTEND;TZID=UTC:20270713T200000
DTSTAMP:20260424T012518
CREATED:20230203T195552Z
LAST-MODIFIED:20230203T195552Z
UID:10001836-1815505200-1815508800@dev.piercelibrary.org
SUMMARY:Book Club
DESCRIPTION:Book Club\nmeets the 2nd Tuesday of each month at 7:00 \n 
URL:https://dev.piercelibrary.org/event/book-club-28-2024-02-13/2027-07-13/
LOCATION:PA
END:VEVENT
BEGIN:VEVENT
DTSTART;TZID=UTC:20270713T190000
DTEND;TZID=UTC:20270713T200000
DTSTAMP:20260424T012518
CREATED:20230203T195552Z
LAST-MODIFIED:20230203T195552Z
UID:10002106-1815505200-1815508800@dev.piercelibrary.org
SUMMARY:Book Club
DESCRIPTION:Book Club\nmeets the 2nd Tuesday of each month at 7:00 \n 
URL:https://dev.piercelibrary.org/event/book-club-28-2024-03-12/2027-07-13/
LOCATION:PA
END:VEVENT
BEGIN:VEVENT
DTSTART;TZID=UTC:20270713T190000
DTEND;TZID=UTC:20270713T200000
DTSTAMP:20260424T012518
CREATED:20230203T195552Z
LAST-MODIFIED:20230203T195552Z
UID:10002294-1815505200-1815508800@dev.piercelibrary.org
SUMMARY:Book Club
DESCRIPTION:Book Club\nmeets the 2nd Tuesday of each month at 7:00 \n 
URL:https://dev.piercelibrary.org/event/book-club-28-2024-03-12/2027-07-13/
LOCATION:PA
END:VEVENT
BEGIN:VEVENT
DTSTART;TZID=UTC:20270713T190000
DTEND;TZID=UTC:20270713T200000
DTSTAMP:20260424T012518
CREATED:20230203T195552Z
LAST-MODIFIED:20230203T195552Z
UID:10002418-1815505200-1815508800@dev.piercelibrary.org
SUMMARY:Book Club
DESCRIPTION:Book Club\nmeets the 2nd Tuesday of each month at 7:00 \n 
URL:https://dev.piercelibrary.org/event/book-club-28-2024-03-12/2027-07-13/
LOCATION:PA
END:VEVENT
BEGIN:VEVENT
DTSTART;TZID=UTC:20270713T190000
DTEND;TZID=UTC:20270713T200000
DTSTAMP:20260424T012518
CREATED:20230203T195552Z
LAST-MODIFIED:20230203T195552Z
UID:10002516-1815505200-1815508800@dev.piercelibrary.org
SUMMARY:Book Club
DESCRIPTION:Book Club\nmeets the 2nd Tuesday of each month at 7:00 \n 
URL:https://dev.piercelibrary.org/event/book-club-28-2024-04-09/2027-07-13/
LOCATION:PA
END:VEVENT
BEGIN:VEVENT
DTSTART;TZID=UTC:20270713T190000
DTEND;TZID=UTC:20270713T200000
DTSTAMP:20260424T012518
CREATED:20230203T195552Z
LAST-MODIFIED:20230203T195552Z
UID:10002736-1815505200-1815508800@dev.piercelibrary.org
SUMMARY:Book Club
DESCRIPTION:Book Club\nmeets the 2nd Tuesday of each month at 7:00 \n 
URL:https://dev.piercelibrary.org/event/book-club-28-2024-04-09/2027-07-13/
LOCATION:PA
END:VEVENT
BEGIN:VEVENT
DTSTART;TZID=UTC:20270713T190000
DTEND;TZID=UTC:20270713T200000
DTSTAMP:20260424T012518
CREATED:20230203T195552Z
LAST-MODIFIED:20230203T195552Z
UID:10002918-1815505200-1815508800@dev.piercelibrary.org
SUMMARY:Book Club
DESCRIPTION:Book Club\nmeets the 2nd Tuesday of each month at 7:00 \n 
URL:https://dev.piercelibrary.org/event/book-club-28-2025-07-08/2027-07-13/
LOCATION:PA
END:VEVENT
BEGIN:VEVENT
DTSTART;TZID=UTC:20270713T190000
DTEND;TZID=UTC:20270713T200000
DTSTAMP:20260424T012518
CREATED:20230203T195552Z
LAST-MODIFIED:20230203T195552Z
UID:10003114-1815505200-1815508800@dev.piercelibrary.org
SUMMARY:Book Club
DESCRIPTION:Book Club\nmeets the 2nd Tuesday of each month at 7:00 \n 
URL:https://dev.piercelibrary.org/event/book-club-28-2025-07-08/2027-07-13/
LOCATION:PA
END:VEVENT
BEGIN:VEVENT
DTSTART;TZID=UTC:20270713T190000
DTEND;TZID=UTC:20270713T200000
DTSTAMP:20260424T012518
CREATED:20230203T195552Z
LAST-MODIFIED:20230203T195552Z
UID:10003246-1815505200-1815508800@dev.piercelibrary.org
SUMMARY:Book Club
DESCRIPTION:Book Club\nmeets the 2nd Tuesday of each month at 7:00 \n 
URL:https://dev.piercelibrary.org/event/book-club-28-2025-07-08/2027-07-13/
LOCATION:PA
END:VEVENT
BEGIN:VEVENT
DTSTART;TZID=UTC:20270713T190000
DTEND;TZID=UTC:20270713T210000
DTSTAMP:20260424T012518
CREATED:20250306T131653Z
LAST-MODIFIED:20250306T131653Z
UID:10001213-1815505200-1815512400@dev.piercelibrary.org
SUMMARY:Book Club
DESCRIPTION:Book Club\nmeets the 2nd Tuesday of each month at 7:00 \n 
URL:https://dev.piercelibrary.org/event/book-club-28-2/2027-07-13/
LOCATION:PA
END:VEVENT
BEGIN:VEVENT
DTSTART;TZID=America/New_York:20270714T130000
DTEND;TZID=America/New_York:20270714T143000
DTSTAMP:20260424T012518
CREATED:20260216T153818Z
LAST-MODIFIED:20260216T153818Z
UID:10001328-1815570000-1815575400@dev.piercelibrary.org
SUMMARY:SUMMER READING 2026 - "Unearth a Story"
DESCRIPTION:This year’s summer reading theme is “Unearth a Story”\, maybe dinosaurs\, mythical creatures\, history\, earth moving equipment?\nCome check it out  Wednesdays 1:00 – 2:30 starting June 10th through July 22nd.
URL:https://dev.piercelibrary.org/event/summer-reading-2026-unearth-a-story/2027-07-14/
LOCATION:PA
END:VEVENT
BEGIN:VEVENT
DTSTART;TZID=America/New_York:20270717T093000
DTEND;TZID=America/New_York:20270717T103000
DTSTAMP:20260424T012518
CREATED:20250102T204104Z
LAST-MODIFIED:20250102T204104Z
UID:10000940-1815816600-1815820200@dev.piercelibrary.org
SUMMARY:Preschool Story Hour 2026
DESCRIPTION:
URL:https://dev.piercelibrary.org/event/preschool-story-hour-2025/2027-07-17/
LOCATION:PA
END:VEVENT
BEGIN:VEVENT
DTSTART;TZID=America/New_York:20270721T130000
DTEND;TZID=America/New_York:20270721T143000
DTSTAMP:20260424T012518
CREATED:20260216T153818Z
LAST-MODIFIED:20260216T153818Z
UID:10001329-1816174800-1816180200@dev.piercelibrary.org
SUMMARY:SUMMER READING 2026 - "Unearth a Story"
DESCRIPTION:This year’s summer reading theme is “Unearth a Story”\, maybe dinosaurs\, mythical creatures\, history\, earth moving equipment?\nCome check it out  Wednesdays 1:00 – 2:30 starting June 10th through July 22nd.
URL:https://dev.piercelibrary.org/event/summer-reading-2026-unearth-a-story/2027-07-21/
LOCATION:PA
END:VEVENT
BEGIN:VEVENT
DTSTART;TZID=America/New_York:20270724T093000
DTEND;TZID=America/New_York:20270724T103000
DTSTAMP:20260424T012518
CREATED:20250102T204104Z
LAST-MODIFIED:20250102T204104Z
UID:10000941-1816421400-1816425000@dev.piercelibrary.org
SUMMARY:Preschool Story Hour 2026
DESCRIPTION:
URL:https://dev.piercelibrary.org/event/preschool-story-hour-2025/2027-07-24/
LOCATION:PA
END:VEVENT
BEGIN:VEVENT
DTSTART;TZID=America/New_York:20270731T093000
DTEND;TZID=America/New_York:20270731T103000
DTSTAMP:20260424T012518
CREATED:20250102T204104Z
LAST-MODIFIED:20250102T204104Z
UID:10000942-1817026200-1817029800@dev.piercelibrary.org
SUMMARY:Preschool Story Hour 2026
DESCRIPTION:
URL:https://dev.piercelibrary.org/event/preschool-story-hour-2025/2027-07-31/
LOCATION:PA
END:VEVENT
END:VCALENDAR