BEGIN:VCALENDAR
VERSION:2.0
PRODID:-//Allen F. Pierce Free Library - ECPv6.15.17//NONSGML v1.0//EN
CALSCALE:GREGORIAN
METHOD:PUBLISH
X-WR-CALNAME:Allen F. Pierce Free Library
X-ORIGINAL-URL:https://dev.piercelibrary.org
X-WR-CALDESC:Events for Allen F. Pierce Free Library
REFRESH-INTERVAL;VALUE=DURATION:PT1H
X-Robots-Tag:noindex
X-PUBLISHED-TTL:PT1H
BEGIN:VTIMEZONE
TZID:UTC
BEGIN:STANDARD
TZOFFSETFROM:+0000
TZOFFSETTO:+0000
TZNAME:UTC
DTSTART:20250101T000000
END:STANDARD
END:VTIMEZONE
BEGIN:VEVENT
DTSTART;TZID=UTC:20260609T190000
DTEND;TZID=UTC:20260609T200000
DTSTAMP:20260423T100721
CREATED:20230203T195552Z
LAST-MODIFIED:20230203T195552Z
UID:10003899-1781031600-1781035200@dev.piercelibrary.org
SUMMARY:Book Club
DESCRIPTION:Book Club\nmeets the 2nd Tuesday of each month at 7:00 \n 
URL:https://dev.piercelibrary.org/event/book-club-28-2025-09-09/2026-06-09/
END:VEVENT
BEGIN:VEVENT
DTSTART;TZID=UTC:20260609T190000
DTEND;TZID=UTC:20260609T200000
DTSTAMP:20260423T100721
CREATED:20230203T195552Z
LAST-MODIFIED:20230203T195552Z
UID:10002171-1781031600-1781035200@dev.piercelibrary.org
SUMMARY:Book Club
DESCRIPTION:Book Club\nmeets the 2nd Tuesday of each month at 7:00 \n 
URL:https://dev.piercelibrary.org/event/book-club-28-2024-03-12/2026-06-09/
END:VEVENT
BEGIN:VEVENT
DTSTART;TZID=UTC:20260609T190000
DTEND;TZID=UTC:20260609T200000
DTSTAMP:20260423T100721
CREATED:20230203T195552Z
LAST-MODIFIED:20230203T195552Z
UID:10002195-1781031600-1781035200@dev.piercelibrary.org
SUMMARY:Book Club
DESCRIPTION:Book Club\nmeets the 2nd Tuesday of each month at 7:00 \n 
URL:https://dev.piercelibrary.org/event/book-club-28-2024-03-12/2026-06-09/
END:VEVENT
BEGIN:VEVENT
DTSTART;TZID=UTC:20260609T190000
DTEND;TZID=UTC:20260609T200000
DTSTAMP:20260423T100721
CREATED:20230203T195552Z
LAST-MODIFIED:20230203T195552Z
UID:10004340-1781031600-1781035200@dev.piercelibrary.org
SUMMARY:Book Club
DESCRIPTION:Book Club\nmeets the 2nd Tuesday of each month at 7:00 \n 
URL:https://dev.piercelibrary.org/event/book-club-28-2025-10-14/2026-06-09/
END:VEVENT
BEGIN:VEVENT
DTSTART;TZID=UTC:20260609T190000
DTEND;TZID=UTC:20260609T200000
DTSTAMP:20260423T100721
CREATED:20230203T195552Z
LAST-MODIFIED:20230203T195552Z
UID:10004556-1781031600-1781035200@dev.piercelibrary.org
SUMMARY:Book Club
DESCRIPTION:Book Club\nmeets the 2nd Tuesday of each month at 7:00 \n 
URL:https://dev.piercelibrary.org/event/book-club-28-2025-11-11/2026-06-09/
END:VEVENT
BEGIN:VEVENT
DTSTART;TZID=UTC:20260609T190000
DTEND;TZID=UTC:20260609T200000
DTSTAMP:20260423T100721
CREATED:20230203T195552Z
LAST-MODIFIED:20230203T195552Z
UID:10002534-1781031600-1781035200@dev.piercelibrary.org
SUMMARY:Book Club
DESCRIPTION:Book Club\nmeets the 2nd Tuesday of each month at 7:00 \n 
URL:https://dev.piercelibrary.org/event/book-club-28-2024-04-09/2026-06-09/
END:VEVENT
BEGIN:VEVENT
DTSTART;TZID=UTC:20260609T190000
DTEND;TZID=UTC:20260609T200000
DTSTAMP:20260423T100721
CREATED:20230203T195552Z
LAST-MODIFIED:20230203T195552Z
UID:10004628-1781031600-1781035200@dev.piercelibrary.org
SUMMARY:Book Club
DESCRIPTION:Book Club\nmeets the 2nd Tuesday of each month at 7:00 \n 
URL:https://dev.piercelibrary.org/event/book-club-28-2025-11-11/2026-06-09/
END:VEVENT
BEGIN:VEVENT
DTSTART;TZID=UTC:20260609T190000
DTEND;TZID=UTC:20260609T200000
DTSTAMP:20260423T100721
CREATED:20230203T195552Z
LAST-MODIFIED:20230203T195552Z
UID:10002648-1781031600-1781035200@dev.piercelibrary.org
SUMMARY:Book Club
DESCRIPTION:Book Club\nmeets the 2nd Tuesday of each month at 7:00 \n 
URL:https://dev.piercelibrary.org/event/book-club-28-2024-04-09/2026-06-09/
END:VEVENT
BEGIN:VEVENT
DTSTART;TZID=UTC:20260609T190000
DTEND;TZID=UTC:20260609T200000
DTSTAMP:20260423T100721
CREATED:20230203T195552Z
LAST-MODIFIED:20230203T195552Z
UID:10002768-1781031600-1781035200@dev.piercelibrary.org
SUMMARY:Book Club
DESCRIPTION:Book Club\nmeets the 2nd Tuesday of each month at 7:00 \n 
URL:https://dev.piercelibrary.org/event/book-club-28-2024-04-09/2026-06-09/
END:VEVENT
BEGIN:VEVENT
DTSTART;TZID=UTC:20260609T190000
DTEND;TZID=UTC:20260609T200000
DTSTAMP:20260423T100721
CREATED:20230203T195552Z
LAST-MODIFIED:20230203T195552Z
UID:10002876-1781031600-1781035200@dev.piercelibrary.org
SUMMARY:Book Club
DESCRIPTION:Book Club\nmeets the 2nd Tuesday of each month at 7:00 \n 
URL:https://dev.piercelibrary.org/event/book-club-28-2025-07-08/2026-06-09/
END:VEVENT
BEGIN:VEVENT
DTSTART;TZID=UTC:20260609T190000
DTEND;TZID=UTC:20260609T200000
DTSTAMP:20260423T100721
CREATED:20230203T195552Z
LAST-MODIFIED:20230203T195552Z
UID:10002986-1781031600-1781035200@dev.piercelibrary.org
SUMMARY:Book Club
DESCRIPTION:Book Club\nmeets the 2nd Tuesday of each month at 7:00 \n 
URL:https://dev.piercelibrary.org/event/book-club-28-2025-07-08/2026-06-09/
END:VEVENT
BEGIN:VEVENT
DTSTART;TZID=UTC:20260609T190000
DTEND;TZID=UTC:20260609T200000
DTSTAMP:20260423T100721
CREATED:20230203T195552Z
LAST-MODIFIED:20230203T195552Z
UID:10000153-1781031600-1781035200@dev.piercelibrary.org
SUMMARY:Book Club
DESCRIPTION:Book Club\nmeets the 2nd Tuesday of each month at 7:00 \n 
URL:https://dev.piercelibrary.org/event/book-club-28-2024-03-12/2026-06-09/
END:VEVENT
BEGIN:VEVENT
DTSTART;TZID=UTC:20260609T190000
DTEND;TZID=UTC:20260609T200000
DTSTAMP:20260423T100721
CREATED:20230203T195552Z
LAST-MODIFIED:20230203T195552Z
UID:10003058-1781031600-1781035200@dev.piercelibrary.org
SUMMARY:Book Club
DESCRIPTION:Book Club\nmeets the 2nd Tuesday of each month at 7:00 \n 
URL:https://dev.piercelibrary.org/event/book-club-28-2025-07-08/2026-06-09/
END:VEVENT
BEGIN:VEVENT
DTSTART;TZID=UTC:20260609T190000
DTEND;TZID=UTC:20260609T200000
DTSTAMP:20260423T100721
CREATED:20230203T195552Z
LAST-MODIFIED:20230203T195552Z
UID:10000327-1781031600-1781035200@dev.piercelibrary.org
SUMMARY:Book Club
DESCRIPTION:Book Club\nmeets the 2nd Tuesday of each month at 7:00 \n 
URL:https://dev.piercelibrary.org/event/book-club-28-2024-08-13/2026-06-09/
END:VEVENT
BEGIN:VEVENT
DTSTART;TZID=UTC:20260609T190000
DTEND;TZID=UTC:20260609T200000
DTSTAMP:20260423T100721
CREATED:20230203T195552Z
LAST-MODIFIED:20230203T195552Z
UID:10003368-1781031600-1781035200@dev.piercelibrary.org
SUMMARY:Book Club
DESCRIPTION:Book Club\nmeets the 2nd Tuesday of each month at 7:00 \n 
URL:https://dev.piercelibrary.org/event/book-club-28-2025-08-12/2026-06-09/
END:VEVENT
BEGIN:VEVENT
DTSTART;TZID=UTC:20260609T190000
DTEND;TZID=UTC:20260609T200000
DTSTAMP:20260423T100721
CREATED:20230203T195552Z
LAST-MODIFIED:20230203T195552Z
UID:10003852-1781031600-1781035200@dev.piercelibrary.org
SUMMARY:Book Club
DESCRIPTION:Book Club\nmeets the 2nd Tuesday of each month at 7:00 \n 
URL:https://dev.piercelibrary.org/event/book-club-28-2025-09-09/2026-06-09/
END:VEVENT
BEGIN:VEVENT
DTSTART;TZID=UTC:20260609T190000
DTEND;TZID=UTC:20260609T200000
DTSTAMP:20260423T100721
CREATED:20230203T195552Z
LAST-MODIFIED:20230203T195552Z
UID:10003876-1781031600-1781035200@dev.piercelibrary.org
SUMMARY:Book Club
DESCRIPTION:Book Club\nmeets the 2nd Tuesday of each month at 7:00 \n 
URL:https://dev.piercelibrary.org/event/book-club-28-2025-09-09/2026-06-09/
END:VEVENT
BEGIN:VEVENT
DTSTART;TZID=UTC:20260609T190000
DTEND;TZID=UTC:20260609T200000
DTSTAMP:20260423T100721
CREATED:20230203T195552Z
LAST-MODIFIED:20230203T195552Z
UID:10002065-1781031600-1781035200@dev.piercelibrary.org
SUMMARY:Book Club
DESCRIPTION:Book Club\nmeets the 2nd Tuesday of each month at 7:00 \n 
URL:https://dev.piercelibrary.org/event/book-club-28-2024-03-12/2026-06-09/
END:VEVENT
BEGIN:VEVENT
DTSTART;TZID=UTC:20260609T190000
DTEND;TZID=UTC:20260609T200000
DTSTAMP:20260423T100721
CREATED:20230203T195552Z
LAST-MODIFIED:20230203T195552Z
UID:10004205-1781031600-1781035200@dev.piercelibrary.org
SUMMARY:Book Club
DESCRIPTION:Book Club\nmeets the 2nd Tuesday of each month at 7:00 \n 
URL:https://dev.piercelibrary.org/event/book-club-28-2025-10-14/2026-06-09/
END:VEVENT
BEGIN:VEVENT
DTSTART;TZID=UTC:20260609T190000
DTEND;TZID=UTC:20260609T200000
DTSTAMP:20260423T100721
CREATED:20230203T195552Z
LAST-MODIFIED:20230203T195552Z
UID:10004277-1781031600-1781035200@dev.piercelibrary.org
SUMMARY:Book Club
DESCRIPTION:Book Club\nmeets the 2nd Tuesday of each month at 7:00 \n 
URL:https://dev.piercelibrary.org/event/book-club-28-2025-10-14/2026-06-09/
END:VEVENT
BEGIN:VEVENT
DTSTART;TZID=UTC:20260609T190000
DTEND;TZID=UTC:20260609T200000
DTSTAMP:20260423T100721
CREATED:20230203T195552Z
LAST-MODIFIED:20230203T195552Z
UID:10004581-1781031600-1781035200@dev.piercelibrary.org
SUMMARY:Book Club
DESCRIPTION:Book Club\nmeets the 2nd Tuesday of each month at 7:00 \n 
URL:https://dev.piercelibrary.org/event/book-club-28-2025-11-11/2026-06-09/
END:VEVENT
BEGIN:VEVENT
DTSTART;TZID=UTC:20260609T190000
DTEND;TZID=UTC:20260609T200000
DTSTAMP:20260423T100721
CREATED:20230203T195552Z
LAST-MODIFIED:20230203T195552Z
UID:10004605-1781031600-1781035200@dev.piercelibrary.org
SUMMARY:Book Club
DESCRIPTION:Book Club\nmeets the 2nd Tuesday of each month at 7:00 \n 
URL:https://dev.piercelibrary.org/event/book-club-28-2025-11-11/2026-06-09/
END:VEVENT
BEGIN:VEVENT
DTSTART;TZID=UTC:20260609T190000
DTEND;TZID=UTC:20260609T200000
DTSTAMP:20260423T100721
CREATED:20230203T195552Z
LAST-MODIFIED:20230203T195552Z
UID:10002809-1781031600-1781035200@dev.piercelibrary.org
SUMMARY:Book Club
DESCRIPTION:Book Club\nmeets the 2nd Tuesday of each month at 7:00 \n 
URL:https://dev.piercelibrary.org/event/book-club-28-2024-04-09/2026-06-09/
END:VEVENT
BEGIN:VEVENT
DTSTART;TZID=UTC:20260609T190000
DTEND;TZID=UTC:20260609T200000
DTSTAMP:20260423T100721
CREATED:20230203T195552Z
LAST-MODIFIED:20230203T195552Z
UID:10003011-1781031600-1781035200@dev.piercelibrary.org
SUMMARY:Book Club
DESCRIPTION:Book Club\nmeets the 2nd Tuesday of each month at 7:00 \n 
URL:https://dev.piercelibrary.org/event/book-club-28-2025-07-08/2026-06-09/
END:VEVENT
BEGIN:VEVENT
DTSTART;TZID=UTC:20260609T190000
DTEND;TZID=UTC:20260609T200000
DTSTAMP:20260423T100721
CREATED:20230203T195552Z
LAST-MODIFIED:20230203T195552Z
UID:10003035-1781031600-1781035200@dev.piercelibrary.org
SUMMARY:Book Club
DESCRIPTION:Book Club\nmeets the 2nd Tuesday of each month at 7:00 \n 
URL:https://dev.piercelibrary.org/event/book-club-28-2025-07-08/2026-06-09/
END:VEVENT
BEGIN:VEVENT
DTSTART;TZID=UTC:20260609T190000
DTEND;TZID=UTC:20260609T200000
DTSTAMP:20260423T100721
CREATED:20230203T195552Z
LAST-MODIFIED:20230203T195552Z
UID:10000368-1781031600-1781035200@dev.piercelibrary.org
SUMMARY:Book Club
DESCRIPTION:Book Club\nmeets the 2nd Tuesday of each month at 7:00 \n 
URL:https://dev.piercelibrary.org/event/book-club-28-2024-09-10/2026-06-09/
END:VEVENT
BEGIN:VEVENT
DTSTART;TZID=UTC:20260609T190000
DTEND;TZID=UTC:20260609T200000
DTSTAMP:20260423T100721
CREATED:20230203T195552Z
LAST-MODIFIED:20230203T195552Z
UID:10000522-1781031600-1781035200@dev.piercelibrary.org
SUMMARY:Book Club
DESCRIPTION:Book Club\nmeets the 2nd Tuesday of each month at 7:00 \n 
URL:https://dev.piercelibrary.org/event/book-club-28-2025-01-14/2026-06-09/
END:VEVENT
BEGIN:VEVENT
DTSTART;TZID=UTC:20260609T190000
DTEND;TZID=UTC:20260609T200000
DTSTAMP:20260423T100721
CREATED:20230203T195552Z
LAST-MODIFIED:20230203T195552Z
UID:10000660-1781031600-1781035200@dev.piercelibrary.org
SUMMARY:Book Club
DESCRIPTION:Book Club\nmeets the 2nd Tuesday of each month at 7:00 \n 
URL:https://dev.piercelibrary.org/event/book-club-28-2025-05-13/2026-06-09/
END:VEVENT
BEGIN:VEVENT
DTSTART;TZID=UTC:20260609T190000
DTEND;TZID=UTC:20260609T200000
DTSTAMP:20260423T100721
CREATED:20230203T195552Z
LAST-MODIFIED:20230203T195552Z
UID:10000782-1781031600-1781035200@dev.piercelibrary.org
SUMMARY:Book Club
DESCRIPTION:Book Club\nmeets the 2nd Tuesday of each month at 7:00 \n 
URL:https://dev.piercelibrary.org/event/book-club-28-2025-09-09/2026-06-09/
END:VEVENT
BEGIN:VEVENT
DTSTART;TZID=UTC:20260609T190000
DTEND;TZID=UTC:20260609T200000
DTSTAMP:20260423T100721
CREATED:20230203T195552Z
LAST-MODIFIED:20230203T195552Z
UID:10001478-1781031600-1781035200@dev.piercelibrary.org
SUMMARY:Book Club
DESCRIPTION:Book Club\nmeets the 2nd Tuesday of each month at 7:00 \n 
URL:https://dev.piercelibrary.org/event/book-club-28-2024-02-13/2026-06-09/
END:VEVENT
END:VCALENDAR