BEGIN:VCALENDAR
VERSION:2.0
PRODID:-//Allen F. Pierce Free Library - ECPv6.15.17//NONSGML v1.0//EN
CALSCALE:GREGORIAN
METHOD:PUBLISH
X-WR-CALNAME:Allen F. Pierce Free Library
X-ORIGINAL-URL:https://dev.piercelibrary.org
X-WR-CALDESC:Events for Allen F. Pierce Free Library
REFRESH-INTERVAL;VALUE=DURATION:PT1H
X-Robots-Tag:noindex
X-PUBLISHED-TTL:PT1H
BEGIN:VTIMEZONE
TZID:America/New_York
BEGIN:DAYLIGHT
TZOFFSETFROM:-0500
TZOFFSETTO:-0400
TZNAME:EDT
DTSTART:20270314T070000
END:DAYLIGHT
BEGIN:STANDARD
TZOFFSETFROM:-0400
TZOFFSETTO:-0500
TZNAME:EST
DTSTART:20271107T060000
END:STANDARD
BEGIN:DAYLIGHT
TZOFFSETFROM:-0500
TZOFFSETTO:-0400
TZNAME:EDT
DTSTART:20280312T070000
END:DAYLIGHT
BEGIN:STANDARD
TZOFFSETFROM:-0400
TZOFFSETTO:-0500
TZNAME:EST
DTSTART:20281105T060000
END:STANDARD
BEGIN:DAYLIGHT
TZOFFSETFROM:-0500
TZOFFSETTO:-0400
TZNAME:EDT
DTSTART:20290311T070000
END:DAYLIGHT
BEGIN:STANDARD
TZOFFSETFROM:-0400
TZOFFSETTO:-0500
TZNAME:EST
DTSTART:20291104T060000
END:STANDARD
END:VTIMEZONE
BEGIN:VEVENT
DTSTART;TZID=America/New_York:20281007T093000
DTEND;TZID=America/New_York:20281007T103000
DTSTAMP:20260422T181149
CREATED:20250102T204104Z
LAST-MODIFIED:20250102T204104Z
UID:10001004-1854523800-1854527400@dev.piercelibrary.org
SUMMARY:Preschool Story Hour 2026
DESCRIPTION:
URL:https://dev.piercelibrary.org/event/preschool-story-hour-2025/2028-10-07/
END:VEVENT
BEGIN:VEVENT
DTSTART;TZID=America/New_York:20280930T093000
DTEND;TZID=America/New_York:20280930T103000
DTSTAMP:20260422T181149
CREATED:20250102T204104Z
LAST-MODIFIED:20250102T204104Z
UID:10001003-1853919000-1853922600@dev.piercelibrary.org
SUMMARY:Preschool Story Hour 2026
DESCRIPTION:
URL:https://dev.piercelibrary.org/event/preschool-story-hour-2025/2028-09-30/
END:VEVENT
BEGIN:VEVENT
DTSTART;TZID=America/New_York:20280923T093000
DTEND;TZID=America/New_York:20280923T103000
DTSTAMP:20260422T181149
CREATED:20250102T204104Z
LAST-MODIFIED:20250102T204104Z
UID:10001002-1853314200-1853317800@dev.piercelibrary.org
SUMMARY:Preschool Story Hour 2026
DESCRIPTION:
URL:https://dev.piercelibrary.org/event/preschool-story-hour-2025/2028-09-23/
END:VEVENT
BEGIN:VEVENT
DTSTART;TZID=America/New_York:20280916T093000
DTEND;TZID=America/New_York:20280916T103000
DTSTAMP:20260422T181149
CREATED:20250102T204104Z
LAST-MODIFIED:20250102T204104Z
UID:10001001-1852709400-1852713000@dev.piercelibrary.org
SUMMARY:Preschool Story Hour 2026
DESCRIPTION:
URL:https://dev.piercelibrary.org/event/preschool-story-hour-2025/2028-09-16/
END:VEVENT
BEGIN:VEVENT
DTSTART;TZID=America/New_York:20280912T163000
DTEND;TZID=America/New_York:20280912T173000
DTSTAMP:20260422T181149
CREATED:20250306T130604Z
LAST-MODIFIED:20250306T130604Z
UID:10001164-1852389000-1852392600@dev.piercelibrary.org
SUMMARY:Career Link
DESCRIPTION:Meets 2nd and 4th Tuesday of each month 4:30 – 5:30
URL:https://dev.piercelibrary.org/event/career-link/2028-09-12/
END:VEVENT
BEGIN:VEVENT
DTSTART;TZID=America/New_York:20280909T093000
DTEND;TZID=America/New_York:20280909T103000
DTSTAMP:20260422T181149
CREATED:20250102T204104Z
LAST-MODIFIED:20250102T204104Z
UID:10001000-1852104600-1852108200@dev.piercelibrary.org
SUMMARY:Preschool Story Hour 2026
DESCRIPTION:
URL:https://dev.piercelibrary.org/event/preschool-story-hour-2025/2028-09-09/
END:VEVENT
BEGIN:VEVENT
DTSTART;TZID=America/New_York:20280902T093000
DTEND;TZID=America/New_York:20280902T103000
DTSTAMP:20260422T181149
CREATED:20250102T204104Z
LAST-MODIFIED:20250102T204104Z
UID:10000999-1851499800-1851503400@dev.piercelibrary.org
SUMMARY:Preschool Story Hour 2026
DESCRIPTION:
URL:https://dev.piercelibrary.org/event/preschool-story-hour-2025/2028-09-02/
END:VEVENT
BEGIN:VEVENT
DTSTART;TZID=America/New_York:20280826T093000
DTEND;TZID=America/New_York:20280826T103000
DTSTAMP:20260422T181149
CREATED:20250102T204104Z
LAST-MODIFIED:20250102T204104Z
UID:10000998-1850895000-1850898600@dev.piercelibrary.org
SUMMARY:Preschool Story Hour 2026
DESCRIPTION:
URL:https://dev.piercelibrary.org/event/preschool-story-hour-2025/2028-08-26/
END:VEVENT
BEGIN:VEVENT
DTSTART;TZID=America/New_York:20280819T093000
DTEND;TZID=America/New_York:20280819T103000
DTSTAMP:20260422T181149
CREATED:20250102T204104Z
LAST-MODIFIED:20250102T204104Z
UID:10000997-1850290200-1850293800@dev.piercelibrary.org
SUMMARY:Preschool Story Hour 2026
DESCRIPTION:
URL:https://dev.piercelibrary.org/event/preschool-story-hour-2025/2028-08-19/
END:VEVENT
BEGIN:VEVENT
DTSTART;TZID=America/New_York:20280812T093000
DTEND;TZID=America/New_York:20280812T103000
DTSTAMP:20260422T181149
CREATED:20250102T204104Z
LAST-MODIFIED:20250102T204104Z
UID:10000996-1849685400-1849689000@dev.piercelibrary.org
SUMMARY:Preschool Story Hour 2026
DESCRIPTION:
URL:https://dev.piercelibrary.org/event/preschool-story-hour-2025/2028-08-12/
END:VEVENT
BEGIN:VEVENT
DTSTART;TZID=America/New_York:20280808T163000
DTEND;TZID=America/New_York:20280808T173000
DTSTAMP:20260422T181149
CREATED:20250306T130604Z
LAST-MODIFIED:20250306T130604Z
UID:10001163-1849365000-1849368600@dev.piercelibrary.org
SUMMARY:Career Link
DESCRIPTION:Meets 2nd and 4th Tuesday of each month 4:30 – 5:30
URL:https://dev.piercelibrary.org/event/career-link/2028-08-08/
END:VEVENT
BEGIN:VEVENT
DTSTART;TZID=America/New_York:20280805T093000
DTEND;TZID=America/New_York:20280805T103000
DTSTAMP:20260422T181149
CREATED:20250102T204104Z
LAST-MODIFIED:20250102T204104Z
UID:10000995-1849080600-1849084200@dev.piercelibrary.org
SUMMARY:Preschool Story Hour 2026
DESCRIPTION:
URL:https://dev.piercelibrary.org/event/preschool-story-hour-2025/2028-08-05/
END:VEVENT
BEGIN:VEVENT
DTSTART;TZID=America/New_York:20280729T093000
DTEND;TZID=America/New_York:20280729T103000
DTSTAMP:20260422T181149
CREATED:20250102T204104Z
LAST-MODIFIED:20250102T204104Z
UID:10000994-1848475800-1848479400@dev.piercelibrary.org
SUMMARY:Preschool Story Hour 2026
DESCRIPTION:
URL:https://dev.piercelibrary.org/event/preschool-story-hour-2025/2028-07-29/
END:VEVENT
BEGIN:VEVENT
DTSTART;TZID=America/New_York:20280722T093000
DTEND;TZID=America/New_York:20280722T103000
DTSTAMP:20260422T181149
CREATED:20250102T204104Z
LAST-MODIFIED:20250102T204104Z
UID:10000993-1847871000-1847874600@dev.piercelibrary.org
SUMMARY:Preschool Story Hour 2026
DESCRIPTION:
URL:https://dev.piercelibrary.org/event/preschool-story-hour-2025/2028-07-22/
END:VEVENT
BEGIN:VEVENT
DTSTART;TZID=America/New_York:20280715T093000
DTEND;TZID=America/New_York:20280715T103000
DTSTAMP:20260422T181149
CREATED:20250102T204104Z
LAST-MODIFIED:20250102T204104Z
UID:10000992-1847266200-1847269800@dev.piercelibrary.org
SUMMARY:Preschool Story Hour 2026
DESCRIPTION:
URL:https://dev.piercelibrary.org/event/preschool-story-hour-2025/2028-07-15/
END:VEVENT
BEGIN:VEVENT
DTSTART;TZID=America/New_York:20280711T163000
DTEND;TZID=America/New_York:20280711T173000
DTSTAMP:20260422T181149
CREATED:20250306T130604Z
LAST-MODIFIED:20250306T130604Z
UID:10001162-1846945800-1846949400@dev.piercelibrary.org
SUMMARY:Career Link
DESCRIPTION:Meets 2nd and 4th Tuesday of each month 4:30 – 5:30
URL:https://dev.piercelibrary.org/event/career-link/2028-07-11/
END:VEVENT
BEGIN:VEVENT
DTSTART;TZID=America/New_York:20280708T093000
DTEND;TZID=America/New_York:20280708T103000
DTSTAMP:20260422T181149
CREATED:20250102T204104Z
LAST-MODIFIED:20250102T204104Z
UID:10000991-1846661400-1846665000@dev.piercelibrary.org
SUMMARY:Preschool Story Hour 2026
DESCRIPTION:
URL:https://dev.piercelibrary.org/event/preschool-story-hour-2025/2028-07-08/
END:VEVENT
BEGIN:VEVENT
DTSTART;TZID=America/New_York:20280701T093000
DTEND;TZID=America/New_York:20280701T103000
DTSTAMP:20260422T181149
CREATED:20250102T204104Z
LAST-MODIFIED:20250102T204104Z
UID:10000990-1846056600-1846060200@dev.piercelibrary.org
SUMMARY:Preschool Story Hour 2026
DESCRIPTION:
URL:https://dev.piercelibrary.org/event/preschool-story-hour-2025/2028-07-01/
END:VEVENT
BEGIN:VEVENT
DTSTART;TZID=America/New_York:20280624T093000
DTEND;TZID=America/New_York:20280624T103000
DTSTAMP:20260422T181149
CREATED:20250102T204104Z
LAST-MODIFIED:20250102T204104Z
UID:10000989-1845451800-1845455400@dev.piercelibrary.org
SUMMARY:Preschool Story Hour 2026
DESCRIPTION:
URL:https://dev.piercelibrary.org/event/preschool-story-hour-2025/2028-06-24/
END:VEVENT
BEGIN:VEVENT
DTSTART;TZID=America/New_York:20280617T093000
DTEND;TZID=America/New_York:20280617T103000
DTSTAMP:20260422T181149
CREATED:20250102T204104Z
LAST-MODIFIED:20250102T204104Z
UID:10000988-1844847000-1844850600@dev.piercelibrary.org
SUMMARY:Preschool Story Hour 2026
DESCRIPTION:
URL:https://dev.piercelibrary.org/event/preschool-story-hour-2025/2028-06-17/
END:VEVENT
BEGIN:VEVENT
DTSTART;TZID=America/New_York:20280613T163000
DTEND;TZID=America/New_York:20280613T173000
DTSTAMP:20260422T181149
CREATED:20250306T130604Z
LAST-MODIFIED:20250306T130604Z
UID:10001161-1844526600-1844530200@dev.piercelibrary.org
SUMMARY:Career Link
DESCRIPTION:Meets 2nd and 4th Tuesday of each month 4:30 – 5:30
URL:https://dev.piercelibrary.org/event/career-link/2028-06-13/
END:VEVENT
BEGIN:VEVENT
DTSTART;TZID=America/New_York:20280610T093000
DTEND;TZID=America/New_York:20280610T103000
DTSTAMP:20260422T181149
CREATED:20250102T204104Z
LAST-MODIFIED:20250102T204104Z
UID:10000987-1844242200-1844245800@dev.piercelibrary.org
SUMMARY:Preschool Story Hour 2026
DESCRIPTION:
URL:https://dev.piercelibrary.org/event/preschool-story-hour-2025/2028-06-10/
END:VEVENT
BEGIN:VEVENT
DTSTART;TZID=America/New_York:20280603T093000
DTEND;TZID=America/New_York:20280603T103000
DTSTAMP:20260422T181149
CREATED:20250102T204104Z
LAST-MODIFIED:20250102T204104Z
UID:10000986-1843637400-1843641000@dev.piercelibrary.org
SUMMARY:Preschool Story Hour 2026
DESCRIPTION:
URL:https://dev.piercelibrary.org/event/preschool-story-hour-2025/2028-06-03/
END:VEVENT
BEGIN:VEVENT
DTSTART;TZID=America/New_York:20280527T093000
DTEND;TZID=America/New_York:20280527T103000
DTSTAMP:20260422T181149
CREATED:20250102T204104Z
LAST-MODIFIED:20250102T204104Z
UID:10000985-1843032600-1843036200@dev.piercelibrary.org
SUMMARY:Preschool Story Hour 2026
DESCRIPTION:
URL:https://dev.piercelibrary.org/event/preschool-story-hour-2025/2028-05-27/
END:VEVENT
BEGIN:VEVENT
DTSTART;TZID=America/New_York:20280520T093000
DTEND;TZID=America/New_York:20280520T103000
DTSTAMP:20260422T181149
CREATED:20250102T204104Z
LAST-MODIFIED:20250102T204104Z
UID:10000984-1842427800-1842431400@dev.piercelibrary.org
SUMMARY:Preschool Story Hour 2026
DESCRIPTION:
URL:https://dev.piercelibrary.org/event/preschool-story-hour-2025/2028-05-20/
END:VEVENT
BEGIN:VEVENT
DTSTART;TZID=America/New_York:20280513T093000
DTEND;TZID=America/New_York:20280513T103000
DTSTAMP:20260422T181149
CREATED:20250102T204104Z
LAST-MODIFIED:20250102T204104Z
UID:10000983-1841823000-1841826600@dev.piercelibrary.org
SUMMARY:Preschool Story Hour 2026
DESCRIPTION:
URL:https://dev.piercelibrary.org/event/preschool-story-hour-2025/2028-05-13/
END:VEVENT
BEGIN:VEVENT
DTSTART;TZID=America/New_York:20280509T163000
DTEND;TZID=America/New_York:20280509T173000
DTSTAMP:20260422T181149
CREATED:20250306T130604Z
LAST-MODIFIED:20250306T130604Z
UID:10001160-1841502600-1841506200@dev.piercelibrary.org
SUMMARY:Career Link
DESCRIPTION:Meets 2nd and 4th Tuesday of each month 4:30 – 5:30
URL:https://dev.piercelibrary.org/event/career-link/2028-05-09/
END:VEVENT
BEGIN:VEVENT
DTSTART;TZID=America/New_York:20280506T093000
DTEND;TZID=America/New_York:20280506T103000
DTSTAMP:20260422T181149
CREATED:20250102T204104Z
LAST-MODIFIED:20250102T204104Z
UID:10000982-1841218200-1841221800@dev.piercelibrary.org
SUMMARY:Preschool Story Hour 2026
DESCRIPTION:
URL:https://dev.piercelibrary.org/event/preschool-story-hour-2025/2028-05-06/
END:VEVENT
BEGIN:VEVENT
DTSTART;TZID=America/New_York:20280429T093000
DTEND;TZID=America/New_York:20280429T103000
DTSTAMP:20260422T181149
CREATED:20250102T204104Z
LAST-MODIFIED:20250102T204104Z
UID:10000981-1840613400-1840617000@dev.piercelibrary.org
SUMMARY:Preschool Story Hour 2026
DESCRIPTION:
URL:https://dev.piercelibrary.org/event/preschool-story-hour-2025/2028-04-29/
END:VEVENT
BEGIN:VEVENT
DTSTART;TZID=America/New_York:20280422T093000
DTEND;TZID=America/New_York:20280422T103000
DTSTAMP:20260422T181149
CREATED:20250102T204104Z
LAST-MODIFIED:20250102T204104Z
UID:10000980-1840008600-1840012200@dev.piercelibrary.org
SUMMARY:Preschool Story Hour 2026
DESCRIPTION:
URL:https://dev.piercelibrary.org/event/preschool-story-hour-2025/2028-04-22/
END:VEVENT
END:VCALENDAR