BEGIN:VCALENDAR
VERSION:2.0
PRODID:-//Allen F. Pierce Free Library - ECPv6.15.17//NONSGML v1.0//EN
CALSCALE:GREGORIAN
METHOD:PUBLISH
X-WR-CALNAME:Allen F. Pierce Free Library
X-ORIGINAL-URL:https://dev.piercelibrary.org
X-WR-CALDESC:Events for Allen F. Pierce Free Library
REFRESH-INTERVAL;VALUE=DURATION:PT1H
X-Robots-Tag:noindex
X-PUBLISHED-TTL:PT1H
BEGIN:VTIMEZONE
TZID:UTC
BEGIN:STANDARD
TZOFFSETFROM:+0000
TZOFFSETTO:+0000
TZNAME:UTC
DTSTART:20230101T000000
END:STANDARD
END:VTIMEZONE
BEGIN:VEVENT
DTSTART;TZID=UTC:20240813T190000
DTEND;TZID=UTC:20240813T200000
DTSTAMP:20260419T140945
CREATED:20230203T195552Z
LAST-MODIFIED:20230203T195552Z
UID:10000085-1723575600-1723579200@dev.piercelibrary.org
SUMMARY:Book Club
DESCRIPTION:Book Club\nmeets the 2nd Tuesday of each month at 7:00 \n 
URL:https://dev.piercelibrary.org/event/book-club-28-2024-02-13/2024-08-13/
END:VEVENT
BEGIN:VEVENT
DTSTART;TZID=UTC:20240813T190000
DTEND;TZID=UTC:20240813T200000
DTSTAMP:20260419T140945
CREATED:20230203T195552Z
LAST-MODIFIED:20230203T195552Z
UID:10000131-1723575600-1723579200@dev.piercelibrary.org
SUMMARY:Book Club
DESCRIPTION:Book Club\nmeets the 2nd Tuesday of each month at 7:00 \n 
URL:https://dev.piercelibrary.org/event/book-club-28-2024-03-12/2024-08-13/
END:VEVENT
BEGIN:VEVENT
DTSTART;TZID=UTC:20240808T100000
DTEND;TZID=UTC:20240808T230000
DTSTAMP:20260419T140945
CREATED:20240501T160959Z
LAST-MODIFIED:20240501T160959Z
UID:10000068-1723111200-1723158000@dev.piercelibrary.org
SUMMARY:Summer Reading Grades 3+
DESCRIPTION:SUMMER READING
URL:https://dev.piercelibrary.org/event/summer-reading-grades-3-2024-07-18/2024-08-08/
END:VEVENT
BEGIN:VEVENT
DTSTART;TZID=UTC:20240808T100000
DTEND;TZID=UTC:20240808T230000
DTSTAMP:20260419T140945
CREATED:20240501T160959Z
LAST-MODIFIED:20240501T160959Z
UID:10000061-1723111200-1723158000@dev.piercelibrary.org
SUMMARY:Summer Reading Grades 3+
DESCRIPTION:SUMMER READING
URL:https://dev.piercelibrary.org/event/summer-reading-grades-3-2024-08-01/2024-08-08/
END:VEVENT
BEGIN:VEVENT
DTSTART;TZID=UTC:20240808T100000
DTEND;TZID=UTC:20240808T230000
DTSTAMP:20260419T140945
CREATED:20240501T160959Z
LAST-MODIFIED:20240501T160959Z
UID:10000063-1723111200-1723158000@dev.piercelibrary.org
SUMMARY:Summer Reading Grades 3+
DESCRIPTION:SUMMER READING
URL:https://dev.piercelibrary.org/event/summer-reading-grades-3-2024-08-08/2024-08-08/
END:VEVENT
BEGIN:VEVENT
DTSTART;TZID=UTC:20240807T100000
DTEND;TZID=UTC:20240807T110000
DTSTAMP:20260419T140945
CREATED:20240501T160816Z
LAST-MODIFIED:20240501T160816Z
UID:10000077-1723024800-1723028400@dev.piercelibrary.org
SUMMARY:Summer Reading K-2
DESCRIPTION:
URL:https://dev.piercelibrary.org/event/summer-reading-k-2-2024-08-07/2024-08-07/
LOCATION:Allen F Pierce Library\, 34 Fenner Ave\, Troy\, PA\, 16947
END:VEVENT
BEGIN:VEVENT
DTSTART;TZID=UTC:20240807T100000
DTEND;TZID=UTC:20240807T110000
DTSTAMP:20260419T140945
CREATED:20240501T160816Z
LAST-MODIFIED:20240501T160816Z
UID:10000072-1723024800-1723028400@dev.piercelibrary.org
SUMMARY:Summer Reading K-2
DESCRIPTION:
URL:https://dev.piercelibrary.org/event/summer-reading-k-2-2024-07-17/2024-08-07/
LOCATION:Allen F Pierce Library\, 34 Fenner Ave\, Troy\, PA\, 16947
END:VEVENT
BEGIN:VEVENT
DTSTART;TZID=UTC:20240807T100000
DTEND;TZID=UTC:20240807T110000
DTSTAMP:20260419T140945
CREATED:20240501T160816Z
LAST-MODIFIED:20240501T160816Z
UID:10000075-1723024800-1723028400@dev.piercelibrary.org
SUMMARY:Summer Reading K-2
DESCRIPTION:
URL:https://dev.piercelibrary.org/event/summer-reading-k-2-2024-07-31/2024-08-07/
LOCATION:Allen F Pierce Library\, 34 Fenner Ave\, Troy\, PA\, 16947
END:VEVENT
BEGIN:VEVENT
DTSTART;TZID=UTC:20240801T100000
DTEND;TZID=UTC:20240801T230000
DTSTAMP:20260419T140945
CREATED:20240501T160959Z
LAST-MODIFIED:20240501T160959Z
UID:10000067-1722506400-1722553200@dev.piercelibrary.org
SUMMARY:Summer Reading Grades 3+
DESCRIPTION:SUMMER READING
URL:https://dev.piercelibrary.org/event/summer-reading-grades-3-2024-07-18/2024-08-01/
END:VEVENT
BEGIN:VEVENT
DTSTART;TZID=UTC:20240801T100000
DTEND;TZID=UTC:20240801T230000
DTSTAMP:20260419T140945
CREATED:20240501T160959Z
LAST-MODIFIED:20240501T160959Z
UID:10000060-1722506400-1722553200@dev.piercelibrary.org
SUMMARY:Summer Reading Grades 3+
DESCRIPTION:SUMMER READING
URL:https://dev.piercelibrary.org/event/summer-reading-grades-3-2024-08-01/2024-08-01/
END:VEVENT
BEGIN:VEVENT
DTSTART;TZID=UTC:20240731T100000
DTEND;TZID=UTC:20240731T110000
DTSTAMP:20260419T140945
CREATED:20240501T160816Z
LAST-MODIFIED:20240501T160816Z
UID:10000071-1722420000-1722423600@dev.piercelibrary.org
SUMMARY:Summer Reading K-2
DESCRIPTION:
URL:https://dev.piercelibrary.org/event/summer-reading-k-2-2024-07-17/2024-07-31/
LOCATION:Allen F Pierce Library\, 34 Fenner Ave\, Troy\, PA\, 16947
END:VEVENT
BEGIN:VEVENT
DTSTART;TZID=UTC:20240731T100000
DTEND;TZID=UTC:20240731T110000
DTSTAMP:20260419T140945
CREATED:20240501T160816Z
LAST-MODIFIED:20240501T160816Z
UID:10000074-1722420000-1722423600@dev.piercelibrary.org
SUMMARY:Summer Reading K-2
DESCRIPTION:
URL:https://dev.piercelibrary.org/event/summer-reading-k-2-2024-07-31/2024-07-31/
LOCATION:Allen F Pierce Library\, 34 Fenner Ave\, Troy\, PA\, 16947
END:VEVENT
BEGIN:VEVENT
DTSTART;TZID=UTC:20240718T100000
DTEND;TZID=UTC:20240718T230000
DTSTAMP:20260419T140945
CREATED:20240501T160959Z
LAST-MODIFIED:20240501T160959Z
UID:10000066-1721296800-1721343600@dev.piercelibrary.org
SUMMARY:Summer Reading Grades 3+
DESCRIPTION:SUMMER READING
URL:https://dev.piercelibrary.org/event/summer-reading-grades-3-2024-07-18/2024-07-18/
END:VEVENT
BEGIN:VEVENT
DTSTART;TZID=UTC:20240717T100000
DTEND;TZID=UTC:20240717T110000
DTSTAMP:20260419T140945
CREATED:20240501T160816Z
LAST-MODIFIED:20240501T160816Z
UID:10000070-1721210400-1721214000@dev.piercelibrary.org
SUMMARY:Summer Reading K-2
DESCRIPTION:
URL:https://dev.piercelibrary.org/event/summer-reading-k-2-2024-07-17/2024-07-17/
LOCATION:Allen F Pierce Library\, 34 Fenner Ave\, Troy\, PA\, 16947
END:VEVENT
BEGIN:VEVENT
DTSTART;TZID=UTC:20240709T190000
DTEND;TZID=UTC:20240709T200000
DTSTAMP:20260419T140945
CREATED:20230203T195552Z
LAST-MODIFIED:20230203T195552Z
UID:10000262-1720551600-1720555200@dev.piercelibrary.org
SUMMARY:Book Club
DESCRIPTION:Book Club\nmeets the 2nd Tuesday of each month at 7:00 \n 
URL:https://dev.piercelibrary.org/event/book-club-28-2024-07-09/2024-07-09/
END:VEVENT
BEGIN:VEVENT
DTSTART;TZID=UTC:20240709T190000
DTEND;TZID=UTC:20240709T200000
DTSTAMP:20260419T140945
CREATED:20230203T195552Z
LAST-MODIFIED:20230203T195552Z
UID:10000219-1720551600-1720555200@dev.piercelibrary.org
SUMMARY:Book Club
DESCRIPTION:Book Club\nmeets the 2nd Tuesday of each month at 7:00 \n 
URL:https://dev.piercelibrary.org/event/book-club-28-2024-05-14/2024-07-09/
END:VEVENT
BEGIN:VEVENT
DTSTART;TZID=UTC:20240709T190000
DTEND;TZID=UTC:20240709T200000
DTSTAMP:20260419T140945
CREATED:20230203T195552Z
LAST-MODIFIED:20230203T195552Z
UID:10000175-1720551600-1720555200@dev.piercelibrary.org
SUMMARY:Book Club
DESCRIPTION:Book Club\nmeets the 2nd Tuesday of each month at 7:00 \n 
URL:https://dev.piercelibrary.org/event/book-club-28-2024-04-09/2024-07-09/
END:VEVENT
BEGIN:VEVENT
DTSTART;TZID=UTC:20240709T190000
DTEND;TZID=UTC:20240709T200000
DTSTAMP:20260419T140945
CREATED:20230203T195552Z
LAST-MODIFIED:20230203T195552Z
UID:10000084-1720551600-1720555200@dev.piercelibrary.org
SUMMARY:Book Club
DESCRIPTION:Book Club\nmeets the 2nd Tuesday of each month at 7:00 \n 
URL:https://dev.piercelibrary.org/event/book-club-28-2024-02-13/2024-07-09/
END:VEVENT
BEGIN:VEVENT
DTSTART;TZID=UTC:20240709T190000
DTEND;TZID=UTC:20240709T200000
DTSTAMP:20260419T140945
CREATED:20230203T195552Z
LAST-MODIFIED:20230203T195552Z
UID:10000130-1720551600-1720555200@dev.piercelibrary.org
SUMMARY:Book Club
DESCRIPTION:Book Club\nmeets the 2nd Tuesday of each month at 7:00 \n 
URL:https://dev.piercelibrary.org/event/book-club-28-2024-03-12/2024-07-09/
END:VEVENT
BEGIN:VEVENT
DTSTART;TZID=UTC:20240518T130000
DTEND;TZID=UTC:20240518T143000
DTSTAMP:20260419T140945
CREATED:20231211T175644Z
LAST-MODIFIED:20231211T175644Z
UID:10000047-1716037200-1716042600@dev.piercelibrary.org
SUMMARY:STEM - Special Activity Together
DESCRIPTION:On the 3rd Saturday of each month from January through May is STEM Saturday from 1:00 – 2:30 (best for 3rd grade to 8th grade age children) \nJanuary – Build a zipline basket for your snowman\nFebruary – Learn about your heart
URL:https://dev.piercelibrary.org/event/stem-special-activity-together-2024-04-20/2024-05-18/
END:VEVENT
BEGIN:VEVENT
DTSTART;TZID=UTC:20240518T130000
DTEND;TZID=UTC:20240518T143000
DTSTAMP:20260419T140945
CREATED:20231211T175644Z
LAST-MODIFIED:20231211T175644Z
UID:10000053-1716037200-1716042600@dev.piercelibrary.org
SUMMARY:STEM - Special Activity Together
DESCRIPTION:On the 3rd Saturday of each month from January through May is STEM Saturday from 1:00 – 2:30 (best for 3rd grade to 8th grade age children) \nJanuary – Build a zipline basket for your snowman\nFebruary – Learn about your heart
URL:https://dev.piercelibrary.org/event/stem-special-activity-together-2024-05-18/2024-05-18/
END:VEVENT
BEGIN:VEVENT
DTSTART;TZID=UTC:20240518T130000
DTEND;TZID=UTC:20240518T143000
DTSTAMP:20260419T140945
CREATED:20231211T175644Z
LAST-MODIFIED:20231211T175644Z
UID:10000042-1716037200-1716042600@dev.piercelibrary.org
SUMMARY:STEM - Special Activity Together
DESCRIPTION:On the 3rd Saturday of each month from January through May is STEM Saturday from 1:00 – 2:30 (best for 3rd grade to 8th grade age children) \nJanuary – Build a zipline basket for your snowman\nFebruary – Learn about your heart
URL:https://dev.piercelibrary.org/event/stem-special-activity-together-2024-02-17/2024-05-18/
END:VEVENT
BEGIN:VEVENT
DTSTART;TZID=UTC:20240518T130000
DTEND;TZID=UTC:20240518T143000
DTSTAMP:20260419T140945
CREATED:20231211T175644Z
LAST-MODIFIED:20231211T175644Z
UID:10000045-1716037200-1716042600@dev.piercelibrary.org
SUMMARY:STEM - Special Activity Together
DESCRIPTION:On the 3rd Saturday of each month from January through May is STEM Saturday from 1:00 – 2:30 (best for 3rd grade to 8th grade age children) \nJanuary – Build a zipline basket for your snowman\nFebruary – Learn about your heart
URL:https://dev.piercelibrary.org/event/stem-special-activity-together-2024-03-16/2024-05-18/
END:VEVENT
BEGIN:VEVENT
DTSTART;TZID=UTC:20240515T150000
DTEND;TZID=UTC:20240515T163000
DTSTAMP:20260419T140945
CREATED:20231018T132750Z
LAST-MODIFIED:20231018T132750Z
UID:10000022-1715785200-1715790600@dev.piercelibrary.org
SUMMARY:STEM Wednesday
DESCRIPTION:November – Make a ship from Legos that floats\, how much cargo can it hold?\nDecember – No STEM\, it’s Christmas\nJanuary – create a zip line for a marshmallow snowperson\nFebruary – How does your heart work?\nMarch –\nApril –\nMay – \n 
URL:https://dev.piercelibrary.org/event/stem-wednesday-2024-05-15/2024-05-15/
END:VEVENT
BEGIN:VEVENT
DTSTART;TZID=UTC:20240515T150000
DTEND;TZID=UTC:20240515T163000
DTSTAMP:20260419T140945
CREATED:20231018T132750Z
LAST-MODIFIED:20231018T132750Z
UID:10000016-1715785200-1715790600@dev.piercelibrary.org
SUMMARY:STEM Wednesday
DESCRIPTION:November – Make a ship from Legos that floats\, how much cargo can it hold?\nDecember – No STEM\, it’s Christmas\nJanuary – create a zip line for a marshmallow snowperson\nFebruary – How does your heart work?\nMarch –\nApril –\nMay – \n 
URL:https://dev.piercelibrary.org/event/stem-wednesday-2024-02-21/2024-05-15/
END:VEVENT
BEGIN:VEVENT
DTSTART;TZID=UTC:20240515T150000
DTEND;TZID=UTC:20240515T163000
DTSTAMP:20260419T140945
CREATED:20231018T132750Z
LAST-MODIFIED:20231018T132750Z
UID:10000019-1715785200-1715790600@dev.piercelibrary.org
SUMMARY:STEM Wednesday
DESCRIPTION:November – Make a ship from Legos that floats\, how much cargo can it hold?\nDecember – No STEM\, it’s Christmas\nJanuary – create a zip line for a marshmallow snowperson\nFebruary – How does your heart work?\nMarch –\nApril –\nMay – \n 
URL:https://dev.piercelibrary.org/event/stem-wednesday-2024-03-20/2024-05-15/
END:VEVENT
BEGIN:VEVENT
DTSTART;TZID=UTC:20240515T150000
DTEND;TZID=UTC:20240515T163000
DTSTAMP:20260419T140945
CREATED:20231018T132750Z
LAST-MODIFIED:20231018T132750Z
UID:10000012-1715785200-1715790600@dev.piercelibrary.org
SUMMARY:STEM Wednesday
DESCRIPTION:November – Make a ship from Legos that floats\, how much cargo can it hold?\nDecember – No STEM\, it’s Christmas\nJanuary – create a zip line for a marshmallow snowperson\nFebruary – How does your heart work?\nMarch –\nApril –\nMay – \n 
URL:https://dev.piercelibrary.org/event/stem-wednesday-2024-01-17/2024-05-15/
END:VEVENT
BEGIN:VEVENT
DTSTART;TZID=UTC:20240515T150000
DTEND;TZID=UTC:20240515T163000
DTSTAMP:20260419T140945
CREATED:20231018T132750Z
LAST-MODIFIED:20231018T132750Z
UID:10000021-1715785200-1715790600@dev.piercelibrary.org
SUMMARY:STEM Wednesday
DESCRIPTION:November – Make a ship from Legos that floats\, how much cargo can it hold?\nDecember – No STEM\, it’s Christmas\nJanuary – create a zip line for a marshmallow snowperson\nFebruary – How does your heart work?\nMarch –\nApril –\nMay – \n 
URL:https://dev.piercelibrary.org/event/stem-wednesday-2024-04-17/2024-05-15/
END:VEVENT
BEGIN:VEVENT
DTSTART;TZID=UTC:20240514T190000
DTEND;TZID=UTC:20240514T200000
DTSTAMP:20260419T140945
CREATED:20230203T195552Z
LAST-MODIFIED:20230203T195552Z
UID:10000218-1715713200-1715716800@dev.piercelibrary.org
SUMMARY:Book Club
DESCRIPTION:Book Club\nmeets the 2nd Tuesday of each month at 7:00 \n 
URL:https://dev.piercelibrary.org/event/book-club-28-2024-05-14/2024-05-14/
END:VEVENT
BEGIN:VEVENT
DTSTART;TZID=UTC:20240514T190000
DTEND;TZID=UTC:20240514T200000
DTSTAMP:20260419T140945
CREATED:20230203T195552Z
LAST-MODIFIED:20230203T195552Z
UID:10000174-1715713200-1715716800@dev.piercelibrary.org
SUMMARY:Book Club
DESCRIPTION:Book Club\nmeets the 2nd Tuesday of each month at 7:00 \n 
URL:https://dev.piercelibrary.org/event/book-club-28-2024-04-09/2024-05-14/
END:VEVENT
END:VCALENDAR