BEGIN:VCALENDAR
VERSION:2.0
PRODID:-//Allen F. Pierce Free Library - ECPv6.15.17//NONSGML v1.0//EN
CALSCALE:GREGORIAN
METHOD:PUBLISH
X-WR-CALNAME:Allen F. Pierce Free Library
X-ORIGINAL-URL:https://dev.piercelibrary.org
X-WR-CALDESC:Events for Allen F. Pierce Free Library
REFRESH-INTERVAL;VALUE=DURATION:PT1H
X-Robots-Tag:noindex
X-PUBLISHED-TTL:PT1H
BEGIN:VTIMEZONE
TZID:UTC
BEGIN:STANDARD
TZOFFSETFROM:+0000
TZOFFSETTO:+0000
TZNAME:UTC
DTSTART:20260101T000000
END:STANDARD
END:VTIMEZONE
BEGIN:VEVENT
DTSTART;TZID=UTC:20270713T190000
DTEND;TZID=UTC:20270713T200000
DTSTAMP:20260423T164616
CREATED:20230203T195552Z
LAST-MODIFIED:20230203T195552Z
UID:10002294-1815505200-1815508800@dev.piercelibrary.org
SUMMARY:Book Club
DESCRIPTION:Book Club\nmeets the 2nd Tuesday of each month at 7:00 \n 
URL:https://dev.piercelibrary.org/event/book-club-28-2024-03-12/2027-07-13/
END:VEVENT
BEGIN:VEVENT
DTSTART;TZID=UTC:20270713T190000
DTEND;TZID=UTC:20270713T200000
DTSTAMP:20260423T164616
CREATED:20230203T195552Z
LAST-MODIFIED:20230203T195552Z
UID:10002736-1815505200-1815508800@dev.piercelibrary.org
SUMMARY:Book Club
DESCRIPTION:Book Club\nmeets the 2nd Tuesday of each month at 7:00 \n 
URL:https://dev.piercelibrary.org/event/book-club-28-2024-04-09/2027-07-13/
END:VEVENT
BEGIN:VEVENT
DTSTART;TZID=UTC:20270713T190000
DTEND;TZID=UTC:20270713T200000
DTSTAMP:20260423T164616
CREATED:20230203T195552Z
LAST-MODIFIED:20230203T195552Z
UID:10003024-1815505200-1815508800@dev.piercelibrary.org
SUMMARY:Book Club
DESCRIPTION:Book Club\nmeets the 2nd Tuesday of each month at 7:00 \n 
URL:https://dev.piercelibrary.org/event/book-club-28-2025-07-08/2027-07-13/
END:VEVENT
BEGIN:VEVENT
DTSTART;TZID=UTC:20270713T190000
DTEND;TZID=UTC:20270713T200000
DTSTAMP:20260423T164616
CREATED:20230203T195552Z
LAST-MODIFIED:20230203T195552Z
UID:10003204-1815505200-1815508800@dev.piercelibrary.org
SUMMARY:Book Club
DESCRIPTION:Book Club\nmeets the 2nd Tuesday of each month at 7:00 \n 
URL:https://dev.piercelibrary.org/event/book-club-28-2025-07-08/2027-07-13/
END:VEVENT
BEGIN:VEVENT
DTSTART;TZID=UTC:20270713T190000
DTEND;TZID=UTC:20270713T200000
DTSTAMP:20260423T164616
CREATED:20230203T195552Z
LAST-MODIFIED:20230203T195552Z
UID:10003288-1815505200-1815508800@dev.piercelibrary.org
SUMMARY:Book Club
DESCRIPTION:Book Club\nmeets the 2nd Tuesday of each month at 7:00 \n 
URL:https://dev.piercelibrary.org/event/book-club-28-2025-07-08/2027-07-13/
END:VEVENT
BEGIN:VEVENT
DTSTART;TZID=UTC:20270713T190000
DTEND;TZID=UTC:20270713T200000
DTSTAMP:20260423T164616
CREATED:20230203T195552Z
LAST-MODIFIED:20230203T195552Z
UID:10003434-1815505200-1815508800@dev.piercelibrary.org
SUMMARY:Book Club
DESCRIPTION:Book Club\nmeets the 2nd Tuesday of each month at 7:00 \n 
URL:https://dev.piercelibrary.org/event/book-club-28-2025-08-12/2027-07-13/
END:VEVENT
BEGIN:VEVENT
DTSTART;TZID=UTC:20270713T190000
DTEND;TZID=UTC:20270713T200000
DTSTAMP:20260423T164616
CREATED:20230203T195552Z
LAST-MODIFIED:20230203T195552Z
UID:10000498-1815505200-1815508800@dev.piercelibrary.org
SUMMARY:Book Club
DESCRIPTION:Book Club\nmeets the 2nd Tuesday of each month at 7:00 \n 
URL:https://dev.piercelibrary.org/event/book-club-28-2024-12-10/2027-07-13/
END:VEVENT
BEGIN:VEVENT
DTSTART;TZID=UTC:20270713T190000
DTEND;TZID=UTC:20270713T200000
DTSTAMP:20260423T164616
CREATED:20230203T195552Z
LAST-MODIFIED:20230203T195552Z
UID:10003654-1815505200-1815508800@dev.piercelibrary.org
SUMMARY:Book Club
DESCRIPTION:Book Club\nmeets the 2nd Tuesday of each month at 7:00 \n 
URL:https://dev.piercelibrary.org/event/book-club-28-2025-08-12/2027-07-13/
END:VEVENT
BEGIN:VEVENT
DTSTART;TZID=UTC:20270713T190000
DTEND;TZID=UTC:20270713T200000
DTSTAMP:20260423T164616
CREATED:20230203T195552Z
LAST-MODIFIED:20230203T195552Z
UID:10003714-1815505200-1815508800@dev.piercelibrary.org
SUMMARY:Book Club
DESCRIPTION:Book Club\nmeets the 2nd Tuesday of each month at 7:00 \n 
URL:https://dev.piercelibrary.org/event/book-club-28-2025-08-12/2027-07-13/
END:VEVENT
BEGIN:VEVENT
DTSTART;TZID=UTC:20270713T190000
DTEND;TZID=UTC:20270713T200000
DTSTAMP:20260423T164616
CREATED:20230203T195552Z
LAST-MODIFIED:20230203T195552Z
UID:10000606-1815505200-1815508800@dev.piercelibrary.org
SUMMARY:Book Club
DESCRIPTION:Book Club\nmeets the 2nd Tuesday of each month at 7:00 \n 
URL:https://dev.piercelibrary.org/event/book-club-28-2025-03-11/2027-07-13/
END:VEVENT
BEGIN:VEVENT
DTSTART;TZID=UTC:20270713T190000
DTEND;TZID=UTC:20270713T200000
DTSTAMP:20260423T164616
CREATED:20230203T195552Z
LAST-MODIFIED:20230203T195552Z
UID:10003912-1815505200-1815508800@dev.piercelibrary.org
SUMMARY:Book Club
DESCRIPTION:Book Club\nmeets the 2nd Tuesday of each month at 7:00 \n 
URL:https://dev.piercelibrary.org/event/book-club-28-2025-09-09/2027-07-13/
END:VEVENT
BEGIN:VEVENT
DTSTART;TZID=UTC:20270713T190000
DTEND;TZID=UTC:20270713T200000
DTSTAMP:20260423T164616
CREATED:20230203T195552Z
LAST-MODIFIED:20230203T195552Z
UID:10004012-1815505200-1815508800@dev.piercelibrary.org
SUMMARY:Book Club
DESCRIPTION:Book Club\nmeets the 2nd Tuesday of each month at 7:00 \n 
URL:https://dev.piercelibrary.org/event/book-club-28-2025-09-09/2027-07-13/
END:VEVENT
BEGIN:VEVENT
DTSTART;TZID=UTC:20270713T190000
DTEND;TZID=UTC:20270713T200000
DTSTAMP:20260423T164616
CREATED:20230203T195552Z
LAST-MODIFIED:20230203T195552Z
UID:10001460-1815505200-1815508800@dev.piercelibrary.org
SUMMARY:Book Club
DESCRIPTION:Book Club\nmeets the 2nd Tuesday of each month at 7:00 \n 
URL:https://dev.piercelibrary.org/event/book-club-28-2024-02-13/2027-07-13/
END:VEVENT
BEGIN:VEVENT
DTSTART;TZID=UTC:20270713T190000
DTEND;TZID=UTC:20270713T200000
DTSTAMP:20260423T164616
CREATED:20230203T195552Z
LAST-MODIFIED:20230203T195552Z
UID:10004144-1815505200-1815508800@dev.piercelibrary.org
SUMMARY:Book Club
DESCRIPTION:Book Club\nmeets the 2nd Tuesday of each month at 7:00 \n 
URL:https://dev.piercelibrary.org/event/book-club-28-2025-09-09/2027-07-13/
END:VEVENT
BEGIN:VEVENT
DTSTART;TZID=UTC:20270713T190000
DTEND;TZID=UTC:20270713T200000
DTSTAMP:20260423T164616
CREATED:20230203T195552Z
LAST-MODIFIED:20230203T195552Z
UID:10004267-1815505200-1815508800@dev.piercelibrary.org
SUMMARY:Book Club
DESCRIPTION:Book Club\nmeets the 2nd Tuesday of each month at 7:00 \n 
URL:https://dev.piercelibrary.org/event/book-club-28-2025-10-14/2027-07-13/
END:VEVENT
BEGIN:VEVENT
DTSTART;TZID=UTC:20270713T190000
DTEND;TZID=UTC:20270713T200000
DTSTAMP:20260423T164616
CREATED:20230203T195552Z
LAST-MODIFIED:20230203T195552Z
UID:10001725-1815505200-1815508800@dev.piercelibrary.org
SUMMARY:Book Club
DESCRIPTION:Book Club\nmeets the 2nd Tuesday of each month at 7:00 \n 
URL:https://dev.piercelibrary.org/event/book-club-28-2024-02-13/2027-07-13/
END:VEVENT
BEGIN:VEVENT
DTSTART;TZID=UTC:20270713T190000
DTEND;TZID=UTC:20270713T200000
DTSTAMP:20260423T164616
CREATED:20230203T195552Z
LAST-MODIFIED:20230203T195552Z
UID:10004407-1815505200-1815508800@dev.piercelibrary.org
SUMMARY:Book Club
DESCRIPTION:Book Club\nmeets the 2nd Tuesday of each month at 7:00 \n 
URL:https://dev.piercelibrary.org/event/book-club-28-2025-10-14/2027-07-13/
END:VEVENT
BEGIN:VEVENT
DTSTART;TZID=UTC:20270713T190000
DTEND;TZID=UTC:20270713T200000
DTSTAMP:20260423T164616
CREATED:20230203T195552Z
LAST-MODIFIED:20230203T195552Z
UID:10001785-1815505200-1815508800@dev.piercelibrary.org
SUMMARY:Book Club
DESCRIPTION:Book Club\nmeets the 2nd Tuesday of each month at 7:00 \n 
URL:https://dev.piercelibrary.org/event/book-club-28-2024-02-13/2027-07-13/
END:VEVENT
BEGIN:VEVENT
DTSTART;TZID=UTC:20270713T190000
DTEND;TZID=UTC:20270713T200000
DTSTAMP:20260423T164616
CREATED:20230203T195552Z
LAST-MODIFIED:20230203T195552Z
UID:10004515-1815505200-1815508800@dev.piercelibrary.org
SUMMARY:Book Club
DESCRIPTION:Book Club\nmeets the 2nd Tuesday of each month at 7:00 \n 
URL:https://dev.piercelibrary.org/event/book-club-28-2025-10-14/2027-07-13/
END:VEVENT
BEGIN:VEVENT
DTSTART;TZID=UTC:20270713T190000
DTEND;TZID=UTC:20270713T200000
DTSTAMP:20260423T164616
CREATED:20230203T195552Z
LAST-MODIFIED:20230203T195552Z
UID:10004641-1815505200-1815508800@dev.piercelibrary.org
SUMMARY:Book Club
DESCRIPTION:Book Club\nmeets the 2nd Tuesday of each month at 7:00 \n 
URL:https://dev.piercelibrary.org/event/book-club-28-2025-11-11/2027-07-13/
END:VEVENT
BEGIN:VEVENT
DTSTART;TZID=UTC:20270713T190000
DTEND;TZID=UTC:20270713T200000
DTSTAMP:20260423T164616
CREATED:20230203T195552Z
LAST-MODIFIED:20230203T195552Z
UID:10002019-1815505200-1815508800@dev.piercelibrary.org
SUMMARY:Book Club
DESCRIPTION:Book Club\nmeets the 2nd Tuesday of each month at 7:00 \n 
URL:https://dev.piercelibrary.org/event/book-club-28-2024-03-12/2027-07-13/
END:VEVENT
BEGIN:VEVENT
DTSTART;TZID=UTC:20270713T190000
DTEND;TZID=UTC:20270713T200000
DTSTAMP:20260423T164616
CREATED:20230203T195552Z
LAST-MODIFIED:20230203T195552Z
UID:10004741-1815505200-1815508800@dev.piercelibrary.org
SUMMARY:Book Club
DESCRIPTION:Book Club\nmeets the 2nd Tuesday of each month at 7:00 \n 
URL:https://dev.piercelibrary.org/event/book-club-28-2025-11-11/2027-07-13/
END:VEVENT
BEGIN:VEVENT
DTSTART;TZID=UTC:20270713T190000
DTEND;TZID=UTC:20270713T200000
DTSTAMP:20260423T164616
CREATED:20230203T195552Z
LAST-MODIFIED:20230203T195552Z
UID:10002159-1815505200-1815508800@dev.piercelibrary.org
SUMMARY:Book Club
DESCRIPTION:Book Club\nmeets the 2nd Tuesday of each month at 7:00 \n 
URL:https://dev.piercelibrary.org/event/book-club-28-2024-03-12/2027-07-13/
END:VEVENT
BEGIN:VEVENT
DTSTART;TZID=UTC:20270713T190000
DTEND;TZID=UTC:20270713T200000
DTSTAMP:20260423T164616
CREATED:20230203T195552Z
LAST-MODIFIED:20230203T195552Z
UID:10004873-1815505200-1815508800@dev.piercelibrary.org
SUMMARY:Book Club
DESCRIPTION:Book Club\nmeets the 2nd Tuesday of each month at 7:00 \n 
URL:https://dev.piercelibrary.org/event/book-club-28-2025-11-11/2027-07-13/
END:VEVENT
BEGIN:VEVENT
DTSTART;TZID=UTC:20270713T190000
DTEND;TZID=UTC:20270713T200000
DTSTAMP:20260423T164616
CREATED:20230203T195552Z
LAST-MODIFIED:20230203T195552Z
UID:10002379-1815505200-1815508800@dev.piercelibrary.org
SUMMARY:Book Club
DESCRIPTION:Book Club\nmeets the 2nd Tuesday of each month at 7:00 \n 
URL:https://dev.piercelibrary.org/event/book-club-28-2024-03-12/2027-07-13/
END:VEVENT
BEGIN:VEVENT
DTSTART;TZID=UTC:20270713T190000
DTEND;TZID=UTC:20270713T200000
DTSTAMP:20260423T164616
CREATED:20230203T195552Z
LAST-MODIFIED:20230203T195552Z
UID:10002439-1815505200-1815508800@dev.piercelibrary.org
SUMMARY:Book Club
DESCRIPTION:Book Club\nmeets the 2nd Tuesday of each month at 7:00 \n 
URL:https://dev.piercelibrary.org/event/book-club-28-2024-03-12/2027-07-13/
END:VEVENT
BEGIN:VEVENT
DTSTART;TZID=UTC:20270713T190000
DTEND;TZID=UTC:20270713T200000
DTSTAMP:20260423T164616
CREATED:20230203T195552Z
LAST-MODIFIED:20230203T195552Z
UID:10002577-1815505200-1815508800@dev.piercelibrary.org
SUMMARY:Book Club
DESCRIPTION:Book Club\nmeets the 2nd Tuesday of each month at 7:00 \n 
URL:https://dev.piercelibrary.org/event/book-club-28-2024-04-09/2027-07-13/
END:VEVENT
BEGIN:VEVENT
DTSTART;TZID=UTC:20270713T190000
DTEND;TZID=UTC:20270713T200000
DTSTAMP:20260423T164616
CREATED:20230203T195552Z
LAST-MODIFIED:20230203T195552Z
UID:10002661-1815505200-1815508800@dev.piercelibrary.org
SUMMARY:Book Club
DESCRIPTION:Book Club\nmeets the 2nd Tuesday of each month at 7:00 \n 
URL:https://dev.piercelibrary.org/event/book-club-28-2024-04-09/2027-07-13/
END:VEVENT
BEGIN:VEVENT
DTSTART;TZID=UTC:20270713T190000
DTEND;TZID=UTC:20270713T200000
DTSTAMP:20260423T164616
CREATED:20230203T195552Z
LAST-MODIFIED:20230203T195552Z
UID:10003093-1815505200-1815508800@dev.piercelibrary.org
SUMMARY:Book Club
DESCRIPTION:Book Club\nmeets the 2nd Tuesday of each month at 7:00 \n 
URL:https://dev.piercelibrary.org/event/book-club-28-2025-07-08/2027-07-13/
END:VEVENT
BEGIN:VEVENT
DTSTART;TZID=UTC:20270713T190000
DTEND;TZID=UTC:20270713T200000
DTSTAMP:20260423T164616
CREATED:20230203T195552Z
LAST-MODIFIED:20230203T195552Z
UID:10003153-1815505200-1815508800@dev.piercelibrary.org
SUMMARY:Book Club
DESCRIPTION:Book Club\nmeets the 2nd Tuesday of each month at 7:00 \n 
URL:https://dev.piercelibrary.org/event/book-club-28-2025-07-08/2027-07-13/
END:VEVENT
END:VCALENDAR