BEGIN:VCALENDAR
VERSION:2.0
PRODID:-//Allen F. Pierce Free Library - ECPv6.15.17//NONSGML v1.0//EN
CALSCALE:GREGORIAN
METHOD:PUBLISH
X-ORIGINAL-URL:https://dev.piercelibrary.org
X-WR-CALDESC:Events for Allen F. Pierce Free Library
REFRESH-INTERVAL;VALUE=DURATION:PT1H
X-Robots-Tag:noindex
X-PUBLISHED-TTL:PT1H
BEGIN:VTIMEZONE
TZID:UTC
BEGIN:STANDARD
TZOFFSETFROM:+0000
TZOFFSETTO:+0000
TZNAME:UTC
DTSTART:20260101T000000
END:STANDARD
END:VTIMEZONE
BEGIN:VEVENT
DTSTART;TZID=UTC:20270112T190000
DTEND;TZID=UTC:20270112T200000
DTSTAMP:20260422T142735
CREATED:20230203T195552Z
LAST-MODIFIED:20230203T195552Z
UID:10002967-1799780400-1799784000@dev.piercelibrary.org
SUMMARY:Book Club
DESCRIPTION:Book Club\nmeets the 2nd Tuesday of each month at 7:00 \n 
URL:https://dev.piercelibrary.org/event/book-club-28-2025-07-08/2027-01-12/
END:VEVENT
BEGIN:VEVENT
DTSTART;TZID=UTC:20270112T190000
DTEND;TZID=UTC:20270112T200000
DTSTAMP:20260422T142735
CREATED:20230203T195552Z
LAST-MODIFIED:20230203T195552Z
UID:10003147-1799780400-1799784000@dev.piercelibrary.org
SUMMARY:Book Club
DESCRIPTION:Book Club\nmeets the 2nd Tuesday of each month at 7:00 \n 
URL:https://dev.piercelibrary.org/event/book-club-28-2025-07-08/2027-01-12/
END:VEVENT
BEGIN:VEVENT
DTSTART;TZID=UTC:20270112T190000
DTEND;TZID=UTC:20270112T200000
DTSTAMP:20260422T142735
CREATED:20230203T195552Z
LAST-MODIFIED:20230203T195552Z
UID:10003453-1799780400-1799784000@dev.piercelibrary.org
SUMMARY:Book Club
DESCRIPTION:Book Club\nmeets the 2nd Tuesday of each month at 7:00 \n 
URL:https://dev.piercelibrary.org/event/book-club-28-2025-08-12/2027-01-12/
END:VEVENT
BEGIN:VEVENT
DTSTART;TZID=UTC:20270112T190000
DTEND;TZID=UTC:20270112T200000
DTSTAMP:20260422T142735
CREATED:20230203T195552Z
LAST-MODIFIED:20230203T195552Z
UID:10003617-1799780400-1799784000@dev.piercelibrary.org
SUMMARY:Book Club
DESCRIPTION:Book Club\nmeets the 2nd Tuesday of each month at 7:00 \n 
URL:https://dev.piercelibrary.org/event/book-club-28-2025-08-12/2027-01-12/
END:VEVENT
BEGIN:VEVENT
DTSTART;TZID=UTC:20270112T190000
DTEND;TZID=UTC:20270112T200000
DTSTAMP:20260422T142735
CREATED:20230203T195552Z
LAST-MODIFIED:20230203T195552Z
UID:10003928-1799780400-1799784000@dev.piercelibrary.org
SUMMARY:Book Club
DESCRIPTION:Book Club\nmeets the 2nd Tuesday of each month at 7:00 \n 
URL:https://dev.piercelibrary.org/event/book-club-28-2025-09-09/2027-01-12/
END:VEVENT
BEGIN:VEVENT
DTSTART;TZID=UTC:20270112T190000
DTEND;TZID=UTC:20270112T200000
DTSTAMP:20260422T142735
CREATED:20230203T195552Z
LAST-MODIFIED:20230203T195552Z
UID:10000160-1799780400-1799784000@dev.piercelibrary.org
SUMMARY:Book Club
DESCRIPTION:Book Club\nmeets the 2nd Tuesday of each month at 7:00 \n 
URL:https://dev.piercelibrary.org/event/book-club-28-2024-03-12/2027-01-12/
END:VEVENT
BEGIN:VEVENT
DTSTART;TZID=UTC:20270112T190000
DTEND;TZID=UTC:20270112T200000
DTSTAMP:20260422T142735
CREATED:20230203T195552Z
LAST-MODIFIED:20230203T195552Z
UID:10000492-1799780400-1799784000@dev.piercelibrary.org
SUMMARY:Book Club
DESCRIPTION:Book Club\nmeets the 2nd Tuesday of each month at 7:00 \n 
URL:https://dev.piercelibrary.org/event/book-club-28-2024-12-10/2027-01-12/
END:VEVENT
BEGIN:VEVENT
DTSTART;TZID=UTC:20270112T190000
DTEND;TZID=UTC:20270112T200000
DTSTAMP:20260422T142735
CREATED:20230203T195552Z
LAST-MODIFIED:20230203T195552Z
UID:10004212-1799780400-1799784000@dev.piercelibrary.org
SUMMARY:Book Club
DESCRIPTION:Book Club\nmeets the 2nd Tuesday of each month at 7:00 \n 
URL:https://dev.piercelibrary.org/event/book-club-28-2025-10-14/2027-01-12/
END:VEVENT
BEGIN:VEVENT
DTSTART;TZID=UTC:20270112T190000
DTEND;TZID=UTC:20270112T200000
DTSTAMP:20260422T142735
CREATED:20230203T195552Z
LAST-MODIFIED:20230203T195552Z
UID:10000760-1799780400-1799784000@dev.piercelibrary.org
SUMMARY:Book Club
DESCRIPTION:Book Club\nmeets the 2nd Tuesday of each month at 7:00 \n 
URL:https://dev.piercelibrary.org/event/book-club-28-2025-08-12/2027-01-12/
END:VEVENT
BEGIN:VEVENT
DTSTART;TZID=UTC:20270112T190000
DTEND;TZID=UTC:20270112T200000
DTSTAMP:20260422T142735
CREATED:20230203T195552Z
LAST-MODIFIED:20230203T195552Z
UID:10004384-1799780400-1799784000@dev.piercelibrary.org
SUMMARY:Book Club
DESCRIPTION:Book Club\nmeets the 2nd Tuesday of each month at 7:00 \n 
URL:https://dev.piercelibrary.org/event/book-club-28-2025-10-14/2027-01-12/
END:VEVENT
BEGIN:VEVENT
DTSTART;TZID=UTC:20270112T190000
DTEND;TZID=UTC:20270112T200000
DTSTAMP:20260422T142735
CREATED:20230203T195552Z
LAST-MODIFIED:20230203T195552Z
UID:10001572-1799780400-1799784000@dev.piercelibrary.org
SUMMARY:Book Club
DESCRIPTION:Book Club\nmeets the 2nd Tuesday of each month at 7:00 \n 
URL:https://dev.piercelibrary.org/event/book-club-28-2024-02-13/2027-01-12/
END:VEVENT
BEGIN:VEVENT
DTSTART;TZID=UTC:20270112T190000
DTEND;TZID=UTC:20270112T200000
DTSTAMP:20260422T142735
CREATED:20230203T195552Z
LAST-MODIFIED:20230203T195552Z
UID:10004459-1799780400-1799784000@dev.piercelibrary.org
SUMMARY:Book Club
DESCRIPTION:Book Club\nmeets the 2nd Tuesday of each month at 7:00 \n 
URL:https://dev.piercelibrary.org/event/book-club-28-2025-10-14/2027-01-12/
END:VEVENT
BEGIN:VEVENT
DTSTART;TZID=UTC:20270112T190000
DTEND;TZID=UTC:20270112T200000
DTSTAMP:20260422T142735
CREATED:20230203T195552Z
LAST-MODIFIED:20230203T195552Z
UID:10001760-1799780400-1799784000@dev.piercelibrary.org
SUMMARY:Book Club
DESCRIPTION:Book Club\nmeets the 2nd Tuesday of each month at 7:00 \n 
URL:https://dev.piercelibrary.org/event/book-club-28-2024-02-13/2027-01-12/
END:VEVENT
BEGIN:VEVENT
DTSTART;TZID=UTC:20270112T190000
DTEND;TZID=UTC:20270112T200000
DTSTAMP:20260422T142735
CREATED:20230203T195552Z
LAST-MODIFIED:20230203T195552Z
UID:10004678-1799780400-1799784000@dev.piercelibrary.org
SUMMARY:Book Club
DESCRIPTION:Book Club\nmeets the 2nd Tuesday of each month at 7:00 \n 
URL:https://dev.piercelibrary.org/event/book-club-28-2025-11-11/2027-01-12/
END:VEVENT
BEGIN:VEVENT
DTSTART;TZID=UTC:20270112T190000
DTEND;TZID=UTC:20270112T200000
DTSTAMP:20260422T142735
CREATED:20230203T195552Z
LAST-MODIFIED:20230203T195552Z
UID:10004797-1799780400-1799784000@dev.piercelibrary.org
SUMMARY:Book Club
DESCRIPTION:Book Club\nmeets the 2nd Tuesday of each month at 7:00 \n 
URL:https://dev.piercelibrary.org/event/book-club-28-2025-11-11/2027-01-12/
END:VEVENT
BEGIN:VEVENT
DTSTART;TZID=UTC:20270112T190000
DTEND;TZID=UTC:20270112T200000
DTSTAMP:20260422T142735
CREATED:20230203T195552Z
LAST-MODIFIED:20230203T195552Z
UID:10002072-1799780400-1799784000@dev.piercelibrary.org
SUMMARY:Book Club
DESCRIPTION:Book Club\nmeets the 2nd Tuesday of each month at 7:00 \n 
URL:https://dev.piercelibrary.org/event/book-club-28-2024-03-12/2027-01-12/
END:VEVENT
BEGIN:VEVENT
DTSTART;TZID=UTC:20270112T190000
DTEND;TZID=UTC:20270112T200000
DTSTAMP:20260422T142735
CREATED:20230203T195552Z
LAST-MODIFIED:20230203T195552Z
UID:10002268-1799780400-1799784000@dev.piercelibrary.org
SUMMARY:Book Club
DESCRIPTION:Book Club\nmeets the 2nd Tuesday of each month at 7:00 \n 
URL:https://dev.piercelibrary.org/event/book-club-28-2024-03-12/2027-01-12/
END:VEVENT
BEGIN:VEVENT
DTSTART;TZID=UTC:20270112T190000
DTEND;TZID=UTC:20270112T200000
DTSTAMP:20260422T142735
CREATED:20230203T195552Z
LAST-MODIFIED:20230203T195552Z
UID:10002541-1799780400-1799784000@dev.piercelibrary.org
SUMMARY:Book Club
DESCRIPTION:Book Club\nmeets the 2nd Tuesday of each month at 7:00 \n 
URL:https://dev.piercelibrary.org/event/book-club-28-2024-04-09/2027-01-12/
END:VEVENT
BEGIN:VEVENT
DTSTART;TZID=UTC:20270112T190000
DTEND;TZID=UTC:20270112T200000
DTSTAMP:20260422T142735
CREATED:20230203T195552Z
LAST-MODIFIED:20230203T195552Z
UID:10002753-1799780400-1799784000@dev.piercelibrary.org
SUMMARY:Book Club
DESCRIPTION:Book Club\nmeets the 2nd Tuesday of each month at 7:00 \n 
URL:https://dev.piercelibrary.org/event/book-club-28-2024-04-09/2027-01-12/
END:VEVENT
BEGIN:VEVENT
DTSTART;TZID=UTC:20270112T190000
DTEND;TZID=UTC:20270112T200000
DTSTAMP:20260422T142735
CREATED:20230203T195552Z
LAST-MODIFIED:20230203T195552Z
UID:10002940-1799780400-1799784000@dev.piercelibrary.org
SUMMARY:Book Club
DESCRIPTION:Book Club\nmeets the 2nd Tuesday of each month at 7:00 \n 
URL:https://dev.piercelibrary.org/event/book-club-28-2025-07-08/2027-01-12/
END:VEVENT
BEGIN:VEVENT
DTSTART;TZID=UTC:20270112T190000
DTEND;TZID=UTC:20270112T200000
DTSTAMP:20260422T142735
CREATED:20230203T195552Z
LAST-MODIFIED:20230203T195552Z
UID:10003128-1799780400-1799784000@dev.piercelibrary.org
SUMMARY:Book Club
DESCRIPTION:Book Club\nmeets the 2nd Tuesday of each month at 7:00 \n 
URL:https://dev.piercelibrary.org/event/book-club-28-2025-07-08/2027-01-12/
END:VEVENT
BEGIN:VEVENT
DTSTART;TZID=UTC:20270112T190000
DTEND;TZID=UTC:20270112T200000
DTSTAMP:20260422T142735
CREATED:20230203T195552Z
LAST-MODIFIED:20230203T195552Z
UID:10003428-1799780400-1799784000@dev.piercelibrary.org
SUMMARY:Book Club
DESCRIPTION:Book Club\nmeets the 2nd Tuesday of each month at 7:00 \n 
URL:https://dev.piercelibrary.org/event/book-club-28-2025-08-12/2027-01-12/
END:VEVENT
BEGIN:VEVENT
DTSTART;TZID=UTC:20270112T190000
DTEND;TZID=UTC:20270112T200000
DTSTAMP:20260422T142735
CREATED:20230203T195552Z
LAST-MODIFIED:20230203T195552Z
UID:10003600-1799780400-1799784000@dev.piercelibrary.org
SUMMARY:Book Club
DESCRIPTION:Book Club\nmeets the 2nd Tuesday of each month at 7:00 \n 
URL:https://dev.piercelibrary.org/event/book-club-28-2025-08-12/2027-01-12/
END:VEVENT
BEGIN:VEVENT
DTSTART;TZID=UTC:20270112T190000
DTEND;TZID=UTC:20270112T200000
DTSTAMP:20260422T142735
CREATED:20230203T195552Z
LAST-MODIFIED:20230203T195552Z
UID:10003675-1799780400-1799784000@dev.piercelibrary.org
SUMMARY:Book Club
DESCRIPTION:Book Club\nmeets the 2nd Tuesday of each month at 7:00 \n 
URL:https://dev.piercelibrary.org/event/book-club-28-2025-08-12/2027-01-12/
END:VEVENT
BEGIN:VEVENT
DTSTART;TZID=UTC:20270112T190000
DTEND;TZID=UTC:20270112T200000
DTSTAMP:20260422T142735
CREATED:20230203T195552Z
LAST-MODIFIED:20230203T195552Z
UID:10003906-1799780400-1799784000@dev.piercelibrary.org
SUMMARY:Book Club
DESCRIPTION:Book Club\nmeets the 2nd Tuesday of each month at 7:00 \n 
URL:https://dev.piercelibrary.org/event/book-club-28-2025-09-09/2027-01-12/
END:VEVENT
BEGIN:VEVENT
DTSTART;TZID=UTC:20270112T190000
DTEND;TZID=UTC:20270112T200000
DTSTAMP:20260422T142735
CREATED:20230203T195552Z
LAST-MODIFIED:20230203T195552Z
UID:10000114-1799780400-1799784000@dev.piercelibrary.org
SUMMARY:Book Club
DESCRIPTION:Book Club\nmeets the 2nd Tuesday of each month at 7:00 \n 
URL:https://dev.piercelibrary.org/event/book-club-28-2024-02-13/2027-01-12/
END:VEVENT
BEGIN:VEVENT
DTSTART;TZID=UTC:20270112T190000
DTEND;TZID=UTC:20270112T200000
DTSTAMP:20260422T142735
CREATED:20230203T195552Z
LAST-MODIFIED:20230203T195552Z
UID:10004054-1799780400-1799784000@dev.piercelibrary.org
SUMMARY:Book Club
DESCRIPTION:Book Club\nmeets the 2nd Tuesday of each month at 7:00 \n 
URL:https://dev.piercelibrary.org/event/book-club-28-2025-09-09/2027-01-12/
END:VEVENT
BEGIN:VEVENT
DTSTART;TZID=UTC:20270112T190000
DTEND;TZID=UTC:20270112T200000
DTSTAMP:20260422T142735
CREATED:20230203T195552Z
LAST-MODIFIED:20230203T195552Z
UID:10000454-1799780400-1799784000@dev.piercelibrary.org
SUMMARY:Book Club
DESCRIPTION:Book Club\nmeets the 2nd Tuesday of each month at 7:00 \n 
URL:https://dev.piercelibrary.org/event/book-club-28-2024-11-12/2027-01-12/
END:VEVENT
BEGIN:VEVENT
DTSTART;TZID=UTC:20270112T190000
DTEND;TZID=UTC:20270112T200000
DTSTAMP:20260422T142735
CREATED:20230203T195552Z
LAST-MODIFIED:20230203T195552Z
UID:10004186-1799780400-1799784000@dev.piercelibrary.org
SUMMARY:Book Club
DESCRIPTION:Book Club\nmeets the 2nd Tuesday of each month at 7:00 \n 
URL:https://dev.piercelibrary.org/event/book-club-28-2025-10-14/2027-01-12/
END:VEVENT
BEGIN:VEVENT
DTSTART;TZID=UTC:20270112T190000
DTEND;TZID=UTC:20270112T200000
DTSTAMP:20260422T142735
CREATED:20230203T195552Z
LAST-MODIFIED:20230203T195552Z
UID:10000730-1799780400-1799784000@dev.piercelibrary.org
SUMMARY:Book Club
DESCRIPTION:Book Club\nmeets the 2nd Tuesday of each month at 7:00 \n 
URL:https://dev.piercelibrary.org/event/book-club-28-2025-07-08/2027-01-12/
END:VEVENT
END:VCALENDAR