BEGIN:VCALENDAR
VERSION:2.0
PRODID:-//Allen F. Pierce Free Library - ECPv6.15.17//NONSGML v1.0//EN
CALSCALE:GREGORIAN
METHOD:PUBLISH
X-WR-CALNAME:Allen F. Pierce Free Library
X-ORIGINAL-URL:https://dev.piercelibrary.org
X-WR-CALDESC:Events for Allen F. Pierce Free Library
REFRESH-INTERVAL;VALUE=DURATION:PT1H
X-Robots-Tag:noindex
X-PUBLISHED-TTL:PT1H
BEGIN:VTIMEZONE
TZID:UTC
BEGIN:STANDARD
TZOFFSETFROM:+0000
TZOFFSETTO:+0000
TZNAME:UTC
DTSTART:20230101T000000
END:STANDARD
END:VTIMEZONE
BEGIN:VEVENT
DTSTART;TZID=UTC:20241112T190000
DTEND;TZID=UTC:20241112T200000
DTSTAMP:20260419T085736
CREATED:20230203T195552Z
LAST-MODIFIED:20230203T195552Z
UID:10000349-1731438000-1731441600@dev.piercelibrary.org
SUMMARY:Book Club
DESCRIPTION:Book Club\nmeets the 2nd Tuesday of each month at 7:00 \n 
URL:https://dev.piercelibrary.org/event/book-club-28-2024-09-10/2024-11-12/
END:VEVENT
BEGIN:VEVENT
DTSTART;TZID=UTC:20241112T190000
DTEND;TZID=UTC:20241112T200000
DTSTAMP:20260419T085736
CREATED:20230203T195552Z
LAST-MODIFIED:20230203T195552Z
UID:10000088-1731438000-1731441600@dev.piercelibrary.org
SUMMARY:Book Club
DESCRIPTION:Book Club\nmeets the 2nd Tuesday of each month at 7:00 \n 
URL:https://dev.piercelibrary.org/event/book-club-28-2024-02-13/2024-11-12/
END:VEVENT
BEGIN:VEVENT
DTSTART;TZID=UTC:20241112T190000
DTEND;TZID=UTC:20241112T200000
DTSTAMP:20260419T085736
CREATED:20230203T195552Z
LAST-MODIFIED:20230203T195552Z
UID:10000308-1731438000-1731441600@dev.piercelibrary.org
SUMMARY:Book Club
DESCRIPTION:Book Club\nmeets the 2nd Tuesday of each month at 7:00 \n 
URL:https://dev.piercelibrary.org/event/book-club-28-2024-08-13/2024-11-12/
END:VEVENT
BEGIN:VEVENT
DTSTART;TZID=UTC:20241112T190000
DTEND;TZID=UTC:20241112T200000
DTSTAMP:20260419T085736
CREATED:20230203T195552Z
LAST-MODIFIED:20230203T195552Z
UID:10000389-1731438000-1731441600@dev.piercelibrary.org
SUMMARY:Book Club
DESCRIPTION:Book Club\nmeets the 2nd Tuesday of each month at 7:00 \n 
URL:https://dev.piercelibrary.org/event/book-club-28-2024-10-08/2024-11-12/
END:VEVENT
BEGIN:VEVENT
DTSTART;TZID=UTC:20241112T190000
DTEND;TZID=UTC:20241112T200000
DTSTAMP:20260419T085736
CREATED:20230203T195552Z
LAST-MODIFIED:20230203T195552Z
UID:10000134-1731438000-1731441600@dev.piercelibrary.org
SUMMARY:Book Club
DESCRIPTION:Book Club\nmeets the 2nd Tuesday of each month at 7:00 \n 
URL:https://dev.piercelibrary.org/event/book-club-28-2024-03-12/2024-11-12/
END:VEVENT
BEGIN:VEVENT
DTSTART;TZID=UTC:20241112T190000
DTEND;TZID=UTC:20241112T200000
DTSTAMP:20260419T085736
CREATED:20230203T195552Z
LAST-MODIFIED:20230203T195552Z
UID:10000266-1731438000-1731441600@dev.piercelibrary.org
SUMMARY:Book Club
DESCRIPTION:Book Club\nmeets the 2nd Tuesday of each month at 7:00 \n 
URL:https://dev.piercelibrary.org/event/book-club-28-2024-07-09/2024-11-12/
END:VEVENT
BEGIN:VEVENT
DTSTART;TZID=UTC:20241008T190000
DTEND;TZID=UTC:20241008T200000
DTSTAMP:20260419T085736
CREATED:20230203T195552Z
LAST-MODIFIED:20230203T195552Z
UID:10000348-1728414000-1728417600@dev.piercelibrary.org
SUMMARY:Book Club
DESCRIPTION:Book Club\nmeets the 2nd Tuesday of each month at 7:00 \n 
URL:https://dev.piercelibrary.org/event/book-club-28-2024-09-10/2024-10-08/
END:VEVENT
BEGIN:VEVENT
DTSTART;TZID=UTC:20241008T190000
DTEND;TZID=UTC:20241008T200000
DTSTAMP:20260419T085736
CREATED:20230203T195552Z
LAST-MODIFIED:20230203T195552Z
UID:10000087-1728414000-1728417600@dev.piercelibrary.org
SUMMARY:Book Club
DESCRIPTION:Book Club\nmeets the 2nd Tuesday of each month at 7:00 \n 
URL:https://dev.piercelibrary.org/event/book-club-28-2024-02-13/2024-10-08/
END:VEVENT
BEGIN:VEVENT
DTSTART;TZID=UTC:20241008T190000
DTEND;TZID=UTC:20241008T200000
DTSTAMP:20260419T085736
CREATED:20230203T195552Z
LAST-MODIFIED:20230203T195552Z
UID:10000307-1728414000-1728417600@dev.piercelibrary.org
SUMMARY:Book Club
DESCRIPTION:Book Club\nmeets the 2nd Tuesday of each month at 7:00 \n 
URL:https://dev.piercelibrary.org/event/book-club-28-2024-08-13/2024-10-08/
END:VEVENT
BEGIN:VEVENT
DTSTART;TZID=UTC:20241008T190000
DTEND;TZID=UTC:20241008T200000
DTSTAMP:20260419T085736
CREATED:20230203T195552Z
LAST-MODIFIED:20230203T195552Z
UID:10000388-1728414000-1728417600@dev.piercelibrary.org
SUMMARY:Book Club
DESCRIPTION:Book Club\nmeets the 2nd Tuesday of each month at 7:00 \n 
URL:https://dev.piercelibrary.org/event/book-club-28-2024-10-08/2024-10-08/
END:VEVENT
BEGIN:VEVENT
DTSTART;TZID=UTC:20241008T190000
DTEND;TZID=UTC:20241008T200000
DTSTAMP:20260419T085736
CREATED:20230203T195552Z
LAST-MODIFIED:20230203T195552Z
UID:10000133-1728414000-1728417600@dev.piercelibrary.org
SUMMARY:Book Club
DESCRIPTION:Book Club\nmeets the 2nd Tuesday of each month at 7:00 \n 
URL:https://dev.piercelibrary.org/event/book-club-28-2024-03-12/2024-10-08/
END:VEVENT
BEGIN:VEVENT
DTSTART;TZID=UTC:20241008T190000
DTEND;TZID=UTC:20241008T200000
DTSTAMP:20260419T085736
CREATED:20230203T195552Z
LAST-MODIFIED:20230203T195552Z
UID:10000265-1728414000-1728417600@dev.piercelibrary.org
SUMMARY:Book Club
DESCRIPTION:Book Club\nmeets the 2nd Tuesday of each month at 7:00 \n 
URL:https://dev.piercelibrary.org/event/book-club-28-2024-07-09/2024-10-08/
END:VEVENT
BEGIN:VEVENT
DTSTART;TZID=UTC:20241008T190000
DTEND;TZID=UTC:20241008T200000
DTSTAMP:20260419T085736
CREATED:20230203T195552Z
LAST-MODIFIED:20230203T195552Z
UID:10000178-1728414000-1728417600@dev.piercelibrary.org
SUMMARY:Book Club
DESCRIPTION:Book Club\nmeets the 2nd Tuesday of each month at 7:00 \n 
URL:https://dev.piercelibrary.org/event/book-club-28-2024-04-09/2024-10-08/
END:VEVENT
BEGIN:VEVENT
DTSTART;TZID=UTC:20241008T190000
DTEND;TZID=UTC:20241008T200000
DTSTAMP:20260419T085736
CREATED:20230203T195552Z
LAST-MODIFIED:20230203T195552Z
UID:10000222-1728414000-1728417600@dev.piercelibrary.org
SUMMARY:Book Club
DESCRIPTION:Book Club\nmeets the 2nd Tuesday of each month at 7:00 \n 
URL:https://dev.piercelibrary.org/event/book-club-28-2024-05-14/2024-10-08/
END:VEVENT
BEGIN:VEVENT
DTSTART;TZID=UTC:20240910T190000
DTEND;TZID=UTC:20240910T200000
DTSTAMP:20260419T085736
CREATED:20230203T195552Z
LAST-MODIFIED:20230203T195552Z
UID:10000347-1725994800-1725998400@dev.piercelibrary.org
SUMMARY:Book Club
DESCRIPTION:Book Club\nmeets the 2nd Tuesday of each month at 7:00 \n 
URL:https://dev.piercelibrary.org/event/book-club-28-2024-09-10/2024-09-10/
END:VEVENT
BEGIN:VEVENT
DTSTART;TZID=UTC:20240910T190000
DTEND;TZID=UTC:20240910T200000
DTSTAMP:20260419T085736
CREATED:20230203T195552Z
LAST-MODIFIED:20230203T195552Z
UID:10000086-1725994800-1725998400@dev.piercelibrary.org
SUMMARY:Book Club
DESCRIPTION:Book Club\nmeets the 2nd Tuesday of each month at 7:00 \n 
URL:https://dev.piercelibrary.org/event/book-club-28-2024-02-13/2024-09-10/
END:VEVENT
BEGIN:VEVENT
DTSTART;TZID=UTC:20240910T190000
DTEND;TZID=UTC:20240910T200000
DTSTAMP:20260419T085736
CREATED:20230203T195552Z
LAST-MODIFIED:20230203T195552Z
UID:10000306-1725994800-1725998400@dev.piercelibrary.org
SUMMARY:Book Club
DESCRIPTION:Book Club\nmeets the 2nd Tuesday of each month at 7:00 \n 
URL:https://dev.piercelibrary.org/event/book-club-28-2024-08-13/2024-09-10/
END:VEVENT
BEGIN:VEVENT
DTSTART;TZID=UTC:20240910T190000
DTEND;TZID=UTC:20240910T200000
DTSTAMP:20260419T085736
CREATED:20230203T195552Z
LAST-MODIFIED:20230203T195552Z
UID:10000132-1725994800-1725998400@dev.piercelibrary.org
SUMMARY:Book Club
DESCRIPTION:Book Club\nmeets the 2nd Tuesday of each month at 7:00 \n 
URL:https://dev.piercelibrary.org/event/book-club-28-2024-03-12/2024-09-10/
END:VEVENT
BEGIN:VEVENT
DTSTART;TZID=UTC:20240910T190000
DTEND;TZID=UTC:20240910T200000
DTSTAMP:20260419T085736
CREATED:20230203T195552Z
LAST-MODIFIED:20230203T195552Z
UID:10000264-1725994800-1725998400@dev.piercelibrary.org
SUMMARY:Book Club
DESCRIPTION:Book Club\nmeets the 2nd Tuesday of each month at 7:00 \n 
URL:https://dev.piercelibrary.org/event/book-club-28-2024-07-09/2024-09-10/
END:VEVENT
BEGIN:VEVENT
DTSTART;TZID=UTC:20240910T190000
DTEND;TZID=UTC:20240910T200000
DTSTAMP:20260419T085736
CREATED:20230203T195552Z
LAST-MODIFIED:20230203T195552Z
UID:10000177-1725994800-1725998400@dev.piercelibrary.org
SUMMARY:Book Club
DESCRIPTION:Book Club\nmeets the 2nd Tuesday of each month at 7:00 \n 
URL:https://dev.piercelibrary.org/event/book-club-28-2024-04-09/2024-09-10/
END:VEVENT
BEGIN:VEVENT
DTSTART;TZID=UTC:20240910T190000
DTEND;TZID=UTC:20240910T200000
DTSTAMP:20260419T085736
CREATED:20230203T195552Z
LAST-MODIFIED:20230203T195552Z
UID:10000221-1725994800-1725998400@dev.piercelibrary.org
SUMMARY:Book Club
DESCRIPTION:Book Club\nmeets the 2nd Tuesday of each month at 7:00 \n 
URL:https://dev.piercelibrary.org/event/book-club-28-2024-05-14/2024-09-10/
END:VEVENT
BEGIN:VEVENT
DTSTART;TZID=UTC:20240815T100000
DTEND;TZID=UTC:20240815T230000
DTSTAMP:20260419T085736
CREATED:20240501T160959Z
LAST-MODIFIED:20240501T160959Z
UID:10000065-1723716000-1723762800@dev.piercelibrary.org
SUMMARY:Summer Reading Grades 3+
DESCRIPTION:SUMMER READING
URL:https://dev.piercelibrary.org/event/summer-reading-grades-3-2024-08-15/2024-08-15/
END:VEVENT
BEGIN:VEVENT
DTSTART;TZID=UTC:20240815T100000
DTEND;TZID=UTC:20240815T230000
DTSTAMP:20260419T085736
CREATED:20240501T160959Z
LAST-MODIFIED:20240501T160959Z
UID:10000069-1723716000-1723762800@dev.piercelibrary.org
SUMMARY:Summer Reading Grades 3+
DESCRIPTION:SUMMER READING
URL:https://dev.piercelibrary.org/event/summer-reading-grades-3-2024-07-18/2024-08-15/
END:VEVENT
BEGIN:VEVENT
DTSTART;TZID=UTC:20240815T100000
DTEND;TZID=UTC:20240815T230000
DTSTAMP:20260419T085736
CREATED:20240501T160959Z
LAST-MODIFIED:20240501T160959Z
UID:10000062-1723716000-1723762800@dev.piercelibrary.org
SUMMARY:Summer Reading Grades 3+
DESCRIPTION:SUMMER READING
URL:https://dev.piercelibrary.org/event/summer-reading-grades-3-2024-08-01/2024-08-15/
END:VEVENT
BEGIN:VEVENT
DTSTART;TZID=UTC:20240815T100000
DTEND;TZID=UTC:20240815T230000
DTSTAMP:20260419T085736
CREATED:20240501T160959Z
LAST-MODIFIED:20240501T160959Z
UID:10000064-1723716000-1723762800@dev.piercelibrary.org
SUMMARY:Summer Reading Grades 3+
DESCRIPTION:SUMMER READING
URL:https://dev.piercelibrary.org/event/summer-reading-grades-3-2024-08-08/2024-08-15/
END:VEVENT
BEGIN:VEVENT
DTSTART;TZID=UTC:20240814T100000
DTEND;TZID=UTC:20240814T110000
DTSTAMP:20260419T085736
CREATED:20240501T160816Z
LAST-MODIFIED:20240501T160816Z
UID:10000078-1723629600-1723633200@dev.piercelibrary.org
SUMMARY:Summer Reading K-2
DESCRIPTION:
URL:https://dev.piercelibrary.org/event/summer-reading-k-2-2024-08-07/2024-08-14/
LOCATION:Allen F Pierce Library\, 34 Fenner Ave\, Troy\, PA\, 16947
END:VEVENT
BEGIN:VEVENT
DTSTART;TZID=UTC:20240814T100000
DTEND;TZID=UTC:20240814T110000
DTSTAMP:20260419T085736
CREATED:20240501T160816Z
LAST-MODIFIED:20240501T160816Z
UID:10000079-1723629600-1723633200@dev.piercelibrary.org
SUMMARY:Summer Reading K-2
DESCRIPTION:
URL:https://dev.piercelibrary.org/event/summer-reading-k-2-2024-08-14/2024-08-14/
LOCATION:Allen F Pierce Library\, 34 Fenner Ave\, Troy\, PA\, 16947
END:VEVENT
BEGIN:VEVENT
DTSTART;TZID=UTC:20240814T100000
DTEND;TZID=UTC:20240814T110000
DTSTAMP:20260419T085737
CREATED:20240501T160816Z
LAST-MODIFIED:20240501T160816Z
UID:10000073-1723629600-1723633200@dev.piercelibrary.org
SUMMARY:Summer Reading K-2
DESCRIPTION:
URL:https://dev.piercelibrary.org/event/summer-reading-k-2-2024-07-17/2024-08-14/
LOCATION:Allen F Pierce Library\, 34 Fenner Ave\, Troy\, PA\, 16947
END:VEVENT
BEGIN:VEVENT
DTSTART;TZID=UTC:20240814T100000
DTEND;TZID=UTC:20240814T110000
DTSTAMP:20260419T085737
CREATED:20240501T160816Z
LAST-MODIFIED:20240501T160816Z
UID:10000076-1723629600-1723633200@dev.piercelibrary.org
SUMMARY:Summer Reading K-2
DESCRIPTION:
URL:https://dev.piercelibrary.org/event/summer-reading-k-2-2024-07-31/2024-08-14/
LOCATION:Allen F Pierce Library\, 34 Fenner Ave\, Troy\, PA\, 16947
END:VEVENT
BEGIN:VEVENT
DTSTART;TZID=UTC:20240813T190000
DTEND;TZID=UTC:20240813T200000
DTSTAMP:20260419T085737
CREATED:20230203T195552Z
LAST-MODIFIED:20230203T195552Z
UID:10000085-1723575600-1723579200@dev.piercelibrary.org
SUMMARY:Book Club
DESCRIPTION:Book Club\nmeets the 2nd Tuesday of each month at 7:00 \n 
URL:https://dev.piercelibrary.org/event/book-club-28-2024-02-13/2024-08-13/
END:VEVENT
END:VCALENDAR