BEGIN:VCALENDAR
VERSION:2.0
PRODID:-//Allen F. Pierce Free Library - ECPv6.15.17//NONSGML v1.0//EN
CALSCALE:GREGORIAN
METHOD:PUBLISH
X-WR-CALNAME:Allen F. Pierce Free Library
X-ORIGINAL-URL:https://dev.piercelibrary.org
X-WR-CALDESC:Events for Allen F. Pierce Free Library
REFRESH-INTERVAL;VALUE=DURATION:PT1H
X-Robots-Tag:noindex
X-PUBLISHED-TTL:PT1H
BEGIN:VTIMEZONE
TZID:UTC
BEGIN:STANDARD
TZOFFSETFROM:+0000
TZOFFSETTO:+0000
TZNAME:UTC
DTSTART:20270101T000000
END:STANDARD
END:VTIMEZONE
BEGIN:VEVENT
DTSTART;TZID=UTC:20280111T190000
DTEND;TZID=UTC:20280111T200000
DTSTAMP:20260423T025859
CREATED:20230203T195552Z
LAST-MODIFIED:20230203T195552Z
UID:10004539-1831230000-1831233600@dev.piercelibrary.org
SUMMARY:Book Club
DESCRIPTION:Book Club\nmeets the 2nd Tuesday of each month at 7:00 \n 
URL:https://dev.piercelibrary.org/event/book-club-28-2025-10-14/2028-01-11/
END:VEVENT
BEGIN:VEVENT
DTSTART;TZID=UTC:20280111T190000
DTEND;TZID=UTC:20280111T200000
DTSTAMP:20260423T025859
CREATED:20230203T195552Z
LAST-MODIFIED:20230203T195552Z
UID:10000261-1831230000-1831233600@dev.piercelibrary.org
SUMMARY:Book Club
DESCRIPTION:Book Club\nmeets the 2nd Tuesday of each month at 7:00 \n 
URL:https://dev.piercelibrary.org/event/book-club-28-2024-05-14/2028-01-11/
END:VEVENT
BEGIN:VEVENT
DTSTART;TZID=UTC:20280111T190000
DTEND;TZID=UTC:20280111T200000
DTSTAMP:20260423T025859
CREATED:20230203T195552Z
LAST-MODIFIED:20230203T195552Z
UID:10000427-1831230000-1831233600@dev.piercelibrary.org
SUMMARY:Book Club
DESCRIPTION:Book Club\nmeets the 2nd Tuesday of each month at 7:00 \n 
URL:https://dev.piercelibrary.org/event/book-club-28-2024-10-08/2028-01-11/
END:VEVENT
BEGIN:VEVENT
DTSTART;TZID=UTC:20280111T190000
DTEND;TZID=UTC:20280111T200000
DTSTAMP:20260423T025859
CREATED:20230203T195552Z
LAST-MODIFIED:20230203T195552Z
UID:10000577-1831230000-1831233600@dev.piercelibrary.org
SUMMARY:Book Club
DESCRIPTION:Book Club\nmeets the 2nd Tuesday of each month at 7:00 \n 
URL:https://dev.piercelibrary.org/event/book-club-28-2025-02-11/2028-01-11/
END:VEVENT
BEGIN:VEVENT
DTSTART;TZID=UTC:20280111T190000
DTEND;TZID=UTC:20280111T200000
DTSTAMP:20260423T025859
CREATED:20230203T195552Z
LAST-MODIFIED:20230203T195552Z
UID:10000711-1831230000-1831233600@dev.piercelibrary.org
SUMMARY:Book Club
DESCRIPTION:Book Club\nmeets the 2nd Tuesday of each month at 7:00 \n 
URL:https://dev.piercelibrary.org/event/book-club-28-2025-06-10/2028-01-11/
END:VEVENT
BEGIN:VEVENT
DTSTART;TZID=UTC:20280111T190000
DTEND;TZID=UTC:20280111T200000
DTSTAMP:20260423T025859
CREATED:20230203T195552Z
LAST-MODIFIED:20230203T195552Z
UID:10000829-1831230000-1831233600@dev.piercelibrary.org
SUMMARY:Book Club
DESCRIPTION:Book Club\nmeets the 2nd Tuesday of each month at 7:00 \n 
URL:https://dev.piercelibrary.org/event/book-club-28-2025-10-14/2028-01-11/
END:VEVENT
BEGIN:VEVENT
DTSTART;TZID=UTC:20280111T190000
DTEND;TZID=UTC:20280111T200000
DTSTAMP:20260423T025859
CREATED:20230203T195552Z
LAST-MODIFIED:20230203T195552Z
UID:10001527-1831230000-1831233600@dev.piercelibrary.org
SUMMARY:Book Club
DESCRIPTION:Book Club\nmeets the 2nd Tuesday of each month at 7:00 \n 
URL:https://dev.piercelibrary.org/event/book-club-28-2024-02-13/2028-01-11/
END:VEVENT
BEGIN:VEVENT
DTSTART;TZID=UTC:20280111T190000
DTEND;TZID=UTC:20280111T200000
DTSTAMP:20260423T025859
CREATED:20230203T195552Z
LAST-MODIFIED:20230203T195552Z
UID:10001637-1831230000-1831233600@dev.piercelibrary.org
SUMMARY:Book Club
DESCRIPTION:Book Club\nmeets the 2nd Tuesday of each month at 7:00 \n 
URL:https://dev.piercelibrary.org/event/book-club-28-2024-02-13/2028-01-11/
END:VEVENT
BEGIN:VEVENT
DTSTART;TZID=UTC:20280111T190000
DTEND;TZID=UTC:20280111T200000
DTSTAMP:20260423T025859
CREATED:20230203T195552Z
LAST-MODIFIED:20230203T195552Z
UID:10001731-1831230000-1831233600@dev.piercelibrary.org
SUMMARY:Book Club
DESCRIPTION:Book Club\nmeets the 2nd Tuesday of each month at 7:00 \n 
URL:https://dev.piercelibrary.org/event/book-club-28-2024-02-13/2028-01-11/
END:VEVENT
BEGIN:VEVENT
DTSTART;TZID=UTC:20280111T190000
DTEND;TZID=UTC:20280111T200000
DTSTAMP:20260423T025859
CREATED:20230203T195552Z
LAST-MODIFIED:20230203T195552Z
UID:10001809-1831230000-1831233600@dev.piercelibrary.org
SUMMARY:Book Club
DESCRIPTION:Book Club\nmeets the 2nd Tuesday of each month at 7:00 \n 
URL:https://dev.piercelibrary.org/event/book-club-28-2024-02-13/2028-01-11/
END:VEVENT
BEGIN:VEVENT
DTSTART;TZID=UTC:20280111T190000
DTEND;TZID=UTC:20280111T200000
DTSTAMP:20260423T025859
CREATED:20230203T195552Z
LAST-MODIFIED:20230203T195552Z
UID:10001871-1831230000-1831233600@dev.piercelibrary.org
SUMMARY:Book Club
DESCRIPTION:Book Club\nmeets the 2nd Tuesday of each month at 7:00 \n 
URL:https://dev.piercelibrary.org/event/book-club-28-2024-02-13/2028-01-11/
END:VEVENT
BEGIN:VEVENT
DTSTART;TZID=UTC:20280111T190000
DTEND;TZID=UTC:20280111T200000
DTSTAMP:20260423T025859
CREATED:20230203T195552Z
LAST-MODIFIED:20230203T195552Z
UID:10001917-1831230000-1831233600@dev.piercelibrary.org
SUMMARY:Book Club
DESCRIPTION:Book Club\nmeets the 2nd Tuesday of each month at 7:00 \n 
URL:https://dev.piercelibrary.org/event/book-club-28-2024-02-13/2028-01-11/
END:VEVENT
BEGIN:VEVENT
DTSTART;TZID=UTC:20280111T190000
DTEND;TZID=UTC:20280111T200000
DTSTAMP:20260423T025859
CREATED:20230203T195552Z
LAST-MODIFIED:20230203T195552Z
UID:10001947-1831230000-1831233600@dev.piercelibrary.org
SUMMARY:Book Club
DESCRIPTION:Book Club\nmeets the 2nd Tuesday of each month at 7:00 \n 
URL:https://dev.piercelibrary.org/event/book-club-28-2024-02-13/2028-01-11/
END:VEVENT
BEGIN:VEVENT
DTSTART;TZID=UTC:20280111T190000
DTEND;TZID=UTC:20280111T200000
DTSTAMP:20260423T025859
CREATED:20230203T195552Z
LAST-MODIFIED:20230203T195552Z
UID:10001961-1831230000-1831233600@dev.piercelibrary.org
SUMMARY:Book Club
DESCRIPTION:Book Club\nmeets the 2nd Tuesday of each month at 7:00 \n 
URL:https://dev.piercelibrary.org/event/book-club-28-2024-02-13/2028-01-11/
END:VEVENT
BEGIN:VEVENT
DTSTART;TZID=UTC:20280111T190000
DTEND;TZID=UTC:20280111T200000
DTSTAMP:20260423T025859
CREATED:20230203T195552Z
LAST-MODIFIED:20230203T195552Z
UID:10002490-1831230000-1831233600@dev.piercelibrary.org
SUMMARY:Book Club
DESCRIPTION:Book Club\nmeets the 2nd Tuesday of each month at 7:00 \n 
URL:https://dev.piercelibrary.org/event/book-club-28-2024-03-12/2028-01-11/
END:VEVENT
BEGIN:VEVENT
DTSTART;TZID=UTC:20280111T190000
DTEND;TZID=UTC:20280111T200000
DTSTAMP:20260423T025859
CREATED:20230203T195552Z
LAST-MODIFIED:20230203T195552Z
UID:10002612-1831230000-1831233600@dev.piercelibrary.org
SUMMARY:Book Club
DESCRIPTION:Book Club\nmeets the 2nd Tuesday of each month at 7:00 \n 
URL:https://dev.piercelibrary.org/event/book-club-28-2024-04-09/2028-01-11/
END:VEVENT
BEGIN:VEVENT
DTSTART;TZID=UTC:20280111T190000
DTEND;TZID=UTC:20280111T200000
DTSTAMP:20260423T025859
CREATED:20230203T195552Z
LAST-MODIFIED:20230203T195552Z
UID:10002718-1831230000-1831233600@dev.piercelibrary.org
SUMMARY:Book Club
DESCRIPTION:Book Club\nmeets the 2nd Tuesday of each month at 7:00 \n 
URL:https://dev.piercelibrary.org/event/book-club-28-2024-04-09/2028-01-11/
END:VEVENT
BEGIN:VEVENT
DTSTART;TZID=UTC:20280111T190000
DTEND;TZID=UTC:20280111T200000
DTSTAMP:20260423T025859
CREATED:20230203T195552Z
LAST-MODIFIED:20230203T195552Z
UID:10002808-1831230000-1831233600@dev.piercelibrary.org
SUMMARY:Book Club
DESCRIPTION:Book Club\nmeets the 2nd Tuesday of each month at 7:00 \n 
URL:https://dev.piercelibrary.org/event/book-club-28-2024-04-09/2028-01-11/
END:VEVENT
BEGIN:VEVENT
DTSTART;TZID=UTC:20280111T190000
DTEND;TZID=UTC:20280111T200000
DTSTAMP:20260423T025859
CREATED:20230203T195552Z
LAST-MODIFIED:20230203T195552Z
UID:10002895-1831230000-1831233600@dev.piercelibrary.org
SUMMARY:Book Club
DESCRIPTION:Book Club\nmeets the 2nd Tuesday of each month at 7:00 \n 
URL:https://dev.piercelibrary.org/event/book-club-28-2025-07-08/2028-01-11/
END:VEVENT
BEGIN:VEVENT
DTSTART;TZID=UTC:20280111T190000
DTEND;TZID=UTC:20280111T200000
DTSTAMP:20260423T025859
CREATED:20230203T195552Z
LAST-MODIFIED:20230203T195552Z
UID:10003005-1831230000-1831233600@dev.piercelibrary.org
SUMMARY:Book Club
DESCRIPTION:Book Club\nmeets the 2nd Tuesday of each month at 7:00 \n 
URL:https://dev.piercelibrary.org/event/book-club-28-2025-07-08/2028-01-11/
END:VEVENT
BEGIN:VEVENT
DTSTART;TZID=UTC:20280111T190000
DTEND;TZID=UTC:20280111T200000
DTSTAMP:20260423T025859
CREATED:20230203T195552Z
LAST-MODIFIED:20230203T195552Z
UID:10003099-1831230000-1831233600@dev.piercelibrary.org
SUMMARY:Book Club
DESCRIPTION:Book Club\nmeets the 2nd Tuesday of each month at 7:00 \n 
URL:https://dev.piercelibrary.org/event/book-club-28-2025-07-08/2028-01-11/
END:VEVENT
BEGIN:VEVENT
DTSTART;TZID=UTC:20280111T190000
DTEND;TZID=UTC:20280111T200000
DTSTAMP:20260423T025859
CREATED:20230203T195552Z
LAST-MODIFIED:20230203T195552Z
UID:10003177-1831230000-1831233600@dev.piercelibrary.org
SUMMARY:Book Club
DESCRIPTION:Book Club\nmeets the 2nd Tuesday of each month at 7:00 \n 
URL:https://dev.piercelibrary.org/event/book-club-28-2025-07-08/2028-01-11/
END:VEVENT
BEGIN:VEVENT
DTSTART;TZID=UTC:20280111T190000
DTEND;TZID=UTC:20280111T200000
DTSTAMP:20260423T025859
CREATED:20230203T195552Z
LAST-MODIFIED:20230203T195552Z
UID:10003239-1831230000-1831233600@dev.piercelibrary.org
SUMMARY:Book Club
DESCRIPTION:Book Club\nmeets the 2nd Tuesday of each month at 7:00 \n 
URL:https://dev.piercelibrary.org/event/book-club-28-2025-07-08/2028-01-11/
END:VEVENT
BEGIN:VEVENT
DTSTART;TZID=UTC:20280111T190000
DTEND;TZID=UTC:20280111T200000
DTSTAMP:20260423T025859
CREATED:20230203T195552Z
LAST-MODIFIED:20230203T195552Z
UID:10003285-1831230000-1831233600@dev.piercelibrary.org
SUMMARY:Book Club
DESCRIPTION:Book Club\nmeets the 2nd Tuesday of each month at 7:00 \n 
URL:https://dev.piercelibrary.org/event/book-club-28-2025-07-08/2028-01-11/
END:VEVENT
BEGIN:VEVENT
DTSTART;TZID=UTC:20280111T190000
DTEND;TZID=UTC:20280111T200000
DTSTAMP:20260423T025859
CREATED:20230203T195552Z
LAST-MODIFIED:20230203T195552Z
UID:10003315-1831230000-1831233600@dev.piercelibrary.org
SUMMARY:Book Club
DESCRIPTION:Book Club\nmeets the 2nd Tuesday of each month at 7:00 \n 
URL:https://dev.piercelibrary.org/event/book-club-28-2025-07-08/2028-01-11/
END:VEVENT
BEGIN:VEVENT
DTSTART;TZID=UTC:20280111T190000
DTEND;TZID=UTC:20280111T200000
DTSTAMP:20260423T025859
CREATED:20230203T195552Z
LAST-MODIFIED:20230203T195552Z
UID:10003329-1831230000-1831233600@dev.piercelibrary.org
SUMMARY:Book Club
DESCRIPTION:Book Club\nmeets the 2nd Tuesday of each month at 7:00 \n 
URL:https://dev.piercelibrary.org/event/book-club-28-2025-07-08/2028-01-11/
END:VEVENT
BEGIN:VEVENT
DTSTART;TZID=UTC:20280111T190000
DTEND;TZID=UTC:20280111T200000
DTSTAMP:20260423T025859
CREATED:20230203T195552Z
LAST-MODIFIED:20230203T195552Z
UID:10003846-1831230000-1831233600@dev.piercelibrary.org
SUMMARY:Book Club
DESCRIPTION:Book Club\nmeets the 2nd Tuesday of each month at 7:00 \n 
URL:https://dev.piercelibrary.org/event/book-club-28-2025-09-09/2028-01-11/
END:VEVENT
BEGIN:VEVENT
DTSTART;TZID=UTC:20280111T190000
DTEND;TZID=UTC:20280111T200000
DTSTAMP:20260423T025859
CREATED:20230203T195552Z
LAST-MODIFIED:20230203T195552Z
UID:10003940-1831230000-1831233600@dev.piercelibrary.org
SUMMARY:Book Club
DESCRIPTION:Book Club\nmeets the 2nd Tuesday of each month at 7:00 \n 
URL:https://dev.piercelibrary.org/event/book-club-28-2025-09-09/2028-01-11/
END:VEVENT
BEGIN:VEVENT
DTSTART;TZID=UTC:20280111T190000
DTEND;TZID=UTC:20280111T200000
DTSTAMP:20260423T025859
CREATED:20230203T195552Z
LAST-MODIFIED:20230203T195552Z
UID:10004018-1831230000-1831233600@dev.piercelibrary.org
SUMMARY:Book Club
DESCRIPTION:Book Club\nmeets the 2nd Tuesday of each month at 7:00 \n 
URL:https://dev.piercelibrary.org/event/book-club-28-2025-09-09/2028-01-11/
END:VEVENT
BEGIN:VEVENT
DTSTART;TZID=UTC:20280111T190000
DTEND;TZID=UTC:20280111T200000
DTSTAMP:20260423T025859
CREATED:20230203T195552Z
LAST-MODIFIED:20230203T195552Z
UID:10004080-1831230000-1831233600@dev.piercelibrary.org
SUMMARY:Book Club
DESCRIPTION:Book Club\nmeets the 2nd Tuesday of each month at 7:00 \n 
URL:https://dev.piercelibrary.org/event/book-club-28-2025-09-09/2028-01-11/
END:VEVENT
END:VCALENDAR