BEGIN:VCALENDAR
VERSION:2.0
PRODID:-//Allen F. Pierce Free Library - ECPv6.15.17//NONSGML v1.0//EN
CALSCALE:GREGORIAN
METHOD:PUBLISH
X-WR-CALNAME:Allen F. Pierce Free Library
X-ORIGINAL-URL:https://dev.piercelibrary.org
X-WR-CALDESC:Events for Allen F. Pierce Free Library
REFRESH-INTERVAL;VALUE=DURATION:PT1H
X-Robots-Tag:noindex
X-PUBLISHED-TTL:PT1H
BEGIN:VTIMEZONE
TZID:UTC
BEGIN:STANDARD
TZOFFSETFROM:+0000
TZOFFSETTO:+0000
TZNAME:UTC
DTSTART:20260101T000000
END:STANDARD
END:VTIMEZONE
BEGIN:VTIMEZONE
TZID:America/New_York
BEGIN:DAYLIGHT
TZOFFSETFROM:-0500
TZOFFSETTO:-0400
TZNAME:EDT
DTSTART:20260308T070000
END:DAYLIGHT
BEGIN:STANDARD
TZOFFSETFROM:-0400
TZOFFSETTO:-0500
TZNAME:EST
DTSTART:20261101T060000
END:STANDARD
BEGIN:DAYLIGHT
TZOFFSETFROM:-0500
TZOFFSETTO:-0400
TZNAME:EDT
DTSTART:20270314T070000
END:DAYLIGHT
BEGIN:STANDARD
TZOFFSETFROM:-0400
TZOFFSETTO:-0500
TZNAME:EST
DTSTART:20271107T060000
END:STANDARD
BEGIN:DAYLIGHT
TZOFFSETFROM:-0500
TZOFFSETTO:-0400
TZNAME:EDT
DTSTART:20280312T070000
END:DAYLIGHT
BEGIN:STANDARD
TZOFFSETFROM:-0400
TZOFFSETTO:-0500
TZNAME:EST
DTSTART:20281105T060000
END:STANDARD
BEGIN:DAYLIGHT
TZOFFSETFROM:-0500
TZOFFSETTO:-0400
TZNAME:EDT
DTSTART:20290311T070000
END:DAYLIGHT
BEGIN:STANDARD
TZOFFSETFROM:-0400
TZOFFSETTO:-0500
TZNAME:EST
DTSTART:20291104T060000
END:STANDARD
END:VTIMEZONE
BEGIN:VEVENT
DTSTART;TZID=UTC:20280111T190000
DTEND;TZID=UTC:20280111T200000
DTSTAMP:20260423T113843
CREATED:20230203T195552Z
LAST-MODIFIED:20230203T195552Z
UID:10004494-1831230000-1831233600@dev.piercelibrary.org
SUMMARY:Book Club
DESCRIPTION:Book Club\nmeets the 2nd Tuesday of each month at 7:00 \n 
URL:https://dev.piercelibrary.org/event/book-club-28-2025-10-14/2028-01-11/
END:VEVENT
BEGIN:VEVENT
DTSTART;TZID=UTC:20280111T190000
DTEND;TZID=UTC:20280111T200000
DTSTAMP:20260423T113843
CREATED:20230203T195552Z
LAST-MODIFIED:20230203T195552Z
UID:10002454-1831230000-1831233600@dev.piercelibrary.org
SUMMARY:Book Club
DESCRIPTION:Book Club\nmeets the 2nd Tuesday of each month at 7:00 \n 
URL:https://dev.piercelibrary.org/event/book-club-28-2024-03-12/2028-01-11/
END:VEVENT
BEGIN:VEVENT
DTSTART;TZID=UTC:20280111T190000
DTEND;TZID=UTC:20280111T200000
DTSTAMP:20260423T113843
CREATED:20230203T195552Z
LAST-MODIFIED:20230203T195552Z
UID:10002462-1831230000-1831233600@dev.piercelibrary.org
SUMMARY:Book Club
DESCRIPTION:Book Club\nmeets the 2nd Tuesday of each month at 7:00 \n 
URL:https://dev.piercelibrary.org/event/book-club-28-2024-03-12/2028-01-11/
END:VEVENT
BEGIN:VEVENT
DTSTART;TZID=UTC:20280111T190000
DTEND;TZID=UTC:20280111T200000
DTSTAMP:20260423T113843
CREATED:20230203T195552Z
LAST-MODIFIED:20230203T195552Z
UID:10004534-1831230000-1831233600@dev.piercelibrary.org
SUMMARY:Book Club
DESCRIPTION:Book Club\nmeets the 2nd Tuesday of each month at 7:00 \n 
URL:https://dev.piercelibrary.org/event/book-club-28-2025-10-14/2028-01-11/
END:VEVENT
BEGIN:VEVENT
DTSTART;TZID=UTC:20280111T190000
DTEND;TZID=UTC:20280111T200000
DTSTAMP:20260423T113843
CREATED:20230203T195552Z
LAST-MODIFIED:20230203T195552Z
UID:10004710-1831230000-1831233600@dev.piercelibrary.org
SUMMARY:Book Club
DESCRIPTION:Book Club\nmeets the 2nd Tuesday of each month at 7:00 \n 
URL:https://dev.piercelibrary.org/event/book-club-28-2025-11-11/2028-01-11/
END:VEVENT
BEGIN:VEVENT
DTSTART;TZID=America/New_York:20280111T163000
DTEND;TZID=America/New_York:20280111T173000
DTSTAMP:20260423T113843
CREATED:20250306T130604Z
LAST-MODIFIED:20250306T130604Z
UID:10001156-1831221000-1831224600@dev.piercelibrary.org
SUMMARY:Career Link
DESCRIPTION:Meets 2nd and 4th Tuesday of each month 4:30 – 5:30
URL:https://dev.piercelibrary.org/event/career-link/2028-01-11/
END:VEVENT
BEGIN:VEVENT
DTSTART;TZID=America/New_York:20280108T093000
DTEND;TZID=America/New_York:20280108T103000
DTSTAMP:20260423T113843
CREATED:20250102T204104Z
LAST-MODIFIED:20250102T204104Z
UID:10000965-1830936600-1830940200@dev.piercelibrary.org
SUMMARY:Preschool Story Hour 2026
DESCRIPTION:
URL:https://dev.piercelibrary.org/event/preschool-story-hour-2025/2028-01-08/
END:VEVENT
BEGIN:VEVENT
DTSTART;TZID=America/New_York:20280101T093000
DTEND;TZID=America/New_York:20280101T103000
DTSTAMP:20260423T113843
CREATED:20250102T204104Z
LAST-MODIFIED:20250102T204104Z
UID:10000964-1830331800-1830335400@dev.piercelibrary.org
SUMMARY:Preschool Story Hour 2026
DESCRIPTION:
URL:https://dev.piercelibrary.org/event/preschool-story-hour-2025/2028-01-01/
END:VEVENT
BEGIN:VEVENT
DTSTART;TZID=America/New_York:20271225T093000
DTEND;TZID=America/New_York:20271225T103000
DTSTAMP:20260423T113843
CREATED:20250102T204104Z
LAST-MODIFIED:20250102T204104Z
UID:10000963-1829727000-1829730600@dev.piercelibrary.org
SUMMARY:Preschool Story Hour 2026
DESCRIPTION:
URL:https://dev.piercelibrary.org/event/preschool-story-hour-2025/2027-12-25/
END:VEVENT
BEGIN:VEVENT
DTSTART;TZID=America/New_York:20271218T093000
DTEND;TZID=America/New_York:20271218T103000
DTSTAMP:20260423T113843
CREATED:20250102T204104Z
LAST-MODIFIED:20250102T204104Z
UID:10000962-1829122200-1829125800@dev.piercelibrary.org
SUMMARY:Preschool Story Hour 2026
DESCRIPTION:
URL:https://dev.piercelibrary.org/event/preschool-story-hour-2025/2027-12-18/
END:VEVENT
BEGIN:VEVENT
DTSTART;TZID=UTC:20271214T190000
DTEND;TZID=UTC:20271214T210000
DTSTAMP:20260423T113843
CREATED:20250306T131653Z
LAST-MODIFIED:20250306T131653Z
UID:10001218-1828810800-1828818000@dev.piercelibrary.org
SUMMARY:Book Club
DESCRIPTION:Book Club\nmeets the 2nd Tuesday of each month at 7:00 \n 
URL:https://dev.piercelibrary.org/event/book-club-28-2/2027-12-14/
END:VEVENT
BEGIN:VEVENT
DTSTART;TZID=UTC:20271214T190000
DTEND;TZID=UTC:20271214T200000
DTSTAMP:20260423T113843
CREATED:20230203T195552Z
LAST-MODIFIED:20230203T195552Z
UID:10000125-1828810800-1828814400@dev.piercelibrary.org
SUMMARY:Book Club
DESCRIPTION:Book Club\nmeets the 2nd Tuesday of each month at 7:00 \n 
URL:https://dev.piercelibrary.org/event/book-club-28-2024-02-13/2027-12-14/
END:VEVENT
BEGIN:VEVENT
DTSTART;TZID=UTC:20271214T190000
DTEND;TZID=UTC:20271214T200000
DTSTAMP:20260423T113843
CREATED:20230203T195552Z
LAST-MODIFIED:20230203T195552Z
UID:10002807-1828810800-1828814400@dev.piercelibrary.org
SUMMARY:Book Club
DESCRIPTION:Book Club\nmeets the 2nd Tuesday of each month at 7:00 \n 
URL:https://dev.piercelibrary.org/event/book-club-28-2024-04-09/2027-12-14/
END:VEVENT
BEGIN:VEVENT
DTSTART;TZID=UTC:20271214T190000
DTEND;TZID=UTC:20271214T200000
DTSTAMP:20260423T113843
CREATED:20230203T195552Z
LAST-MODIFIED:20230203T195552Z
UID:10004863-1828810800-1828814400@dev.piercelibrary.org
SUMMARY:Book Club
DESCRIPTION:Book Club\nmeets the 2nd Tuesday of each month at 7:00 \n 
URL:https://dev.piercelibrary.org/event/book-club-28-2025-11-11/2027-12-14/
END:VEVENT
BEGIN:VEVENT
DTSTART;TZID=UTC:20271214T190000
DTEND;TZID=UTC:20271214T200000
DTSTAMP:20260423T113843
CREATED:20230203T195552Z
LAST-MODIFIED:20230203T195552Z
UID:10004871-1828810800-1828814400@dev.piercelibrary.org
SUMMARY:Book Club
DESCRIPTION:Book Club\nmeets the 2nd Tuesday of each month at 7:00 \n 
URL:https://dev.piercelibrary.org/event/book-club-28-2025-11-11/2027-12-14/
END:VEVENT
BEGIN:VEVENT
DTSTART;TZID=UTC:20271214T190000
DTEND;TZID=UTC:20271214T200000
DTSTAMP:20260423T113843
CREATED:20230203T195552Z
LAST-MODIFIED:20230203T195552Z
UID:10002951-1828810800-1828814400@dev.piercelibrary.org
SUMMARY:Book Club
DESCRIPTION:Book Club\nmeets the 2nd Tuesday of each month at 7:00 \n 
URL:https://dev.piercelibrary.org/event/book-club-28-2025-07-08/2027-12-14/
END:VEVENT
BEGIN:VEVENT
DTSTART;TZID=UTC:20271214T190000
DTEND;TZID=UTC:20271214T200000
DTSTAMP:20260423T113843
CREATED:20230203T195552Z
LAST-MODIFIED:20230203T195552Z
UID:10003119-1828810800-1828814400@dev.piercelibrary.org
SUMMARY:Book Club
DESCRIPTION:Book Club\nmeets the 2nd Tuesday of each month at 7:00 \n 
URL:https://dev.piercelibrary.org/event/book-club-28-2025-07-08/2027-12-14/
END:VEVENT
BEGIN:VEVENT
DTSTART;TZID=UTC:20271214T190000
DTEND;TZID=UTC:20271214T200000
DTSTAMP:20260423T113843
CREATED:20230203T195552Z
LAST-MODIFIED:20230203T195552Z
UID:10003263-1828810800-1828814400@dev.piercelibrary.org
SUMMARY:Book Club
DESCRIPTION:Book Club\nmeets the 2nd Tuesday of each month at 7:00 \n 
URL:https://dev.piercelibrary.org/event/book-club-28-2025-07-08/2027-12-14/
END:VEVENT
BEGIN:VEVENT
DTSTART;TZID=UTC:20271214T190000
DTEND;TZID=UTC:20271214T200000
DTSTAMP:20260423T113843
CREATED:20230203T195552Z
LAST-MODIFIED:20230203T195552Z
UID:10000645-1828810800-1828814400@dev.piercelibrary.org
SUMMARY:Book Club
DESCRIPTION:Book Club\nmeets the 2nd Tuesday of each month at 7:00 \n 
URL:https://dev.piercelibrary.org/event/book-club-28-2025-04-08/2027-12-14/
END:VEVENT
BEGIN:VEVENT
DTSTART;TZID=UTC:20271214T190000
DTEND;TZID=UTC:20271214T200000
DTSTAMP:20260423T113843
CREATED:20230203T195552Z
LAST-MODIFIED:20230203T195552Z
UID:10003319-1828810800-1828814400@dev.piercelibrary.org
SUMMARY:Book Club
DESCRIPTION:Book Club\nmeets the 2nd Tuesday of each month at 7:00 \n 
URL:https://dev.piercelibrary.org/event/book-club-28-2025-07-08/2027-12-14/
END:VEVENT
BEGIN:VEVENT
DTSTART;TZID=UTC:20271214T190000
DTEND;TZID=UTC:20271214T200000
DTSTAMP:20260423T113843
CREATED:20230203T195552Z
LAST-MODIFIED:20230203T195552Z
UID:10000741-1828810800-1828814400@dev.piercelibrary.org
SUMMARY:Book Club
DESCRIPTION:Book Club\nmeets the 2nd Tuesday of each month at 7:00 \n 
URL:https://dev.piercelibrary.org/event/book-club-28-2025-07-08/2027-12-14/
END:VEVENT
BEGIN:VEVENT
DTSTART;TZID=UTC:20271214T190000
DTEND;TZID=UTC:20271214T200000
DTSTAMP:20260423T113843
CREATED:20230203T195552Z
LAST-MODIFIED:20230203T195552Z
UID:10003439-1828810800-1828814400@dev.piercelibrary.org
SUMMARY:Book Club
DESCRIPTION:Book Club\nmeets the 2nd Tuesday of each month at 7:00 \n 
URL:https://dev.piercelibrary.org/event/book-club-28-2025-08-12/2027-12-14/
END:VEVENT
BEGIN:VEVENT
DTSTART;TZID=UTC:20271214T190000
DTEND;TZID=UTC:20271214T200000
DTSTAMP:20260423T113843
CREATED:20230203T195552Z
LAST-MODIFIED:20230203T195552Z
UID:10003511-1828810800-1828814400@dev.piercelibrary.org
SUMMARY:Book Club
DESCRIPTION:Book Club\nmeets the 2nd Tuesday of each month at 7:00 \n 
URL:https://dev.piercelibrary.org/event/book-club-28-2025-08-12/2027-12-14/
END:VEVENT
BEGIN:VEVENT
DTSTART;TZID=UTC:20271214T190000
DTEND;TZID=UTC:20271214T200000
DTSTAMP:20260423T113843
CREATED:20230203T195552Z
LAST-MODIFIED:20230203T195552Z
UID:10001583-1828810800-1828814400@dev.piercelibrary.org
SUMMARY:Book Club
DESCRIPTION:Book Club\nmeets the 2nd Tuesday of each month at 7:00 \n 
URL:https://dev.piercelibrary.org/event/book-club-28-2024-02-13/2027-12-14/
END:VEVENT
BEGIN:VEVENT
DTSTART;TZID=UTC:20271214T190000
DTEND;TZID=UTC:20271214T200000
DTSTAMP:20260423T113843
CREATED:20230203T195552Z
LAST-MODIFIED:20230203T195552Z
UID:10003719-1828810800-1828814400@dev.piercelibrary.org
SUMMARY:Book Club
DESCRIPTION:Book Club\nmeets the 2nd Tuesday of each month at 7:00 \n 
URL:https://dev.piercelibrary.org/event/book-club-28-2025-08-12/2027-12-14/
END:VEVENT
BEGIN:VEVENT
DTSTART;TZID=UTC:20271214T190000
DTEND;TZID=UTC:20271214T200000
DTSTAMP:20260423T113843
CREATED:20230203T195552Z
LAST-MODIFIED:20230203T195552Z
UID:10003743-1828810800-1828814400@dev.piercelibrary.org
SUMMARY:Book Club
DESCRIPTION:Book Club\nmeets the 2nd Tuesday of each month at 7:00 \n 
URL:https://dev.piercelibrary.org/event/book-club-28-2025-08-12/2027-12-14/
END:VEVENT
BEGIN:VEVENT
DTSTART;TZID=UTC:20271214T190000
DTEND;TZID=UTC:20271214T200000
DTSTAMP:20260423T113843
CREATED:20230203T195552Z
LAST-MODIFIED:20230203T195552Z
UID:10001751-1828810800-1828814400@dev.piercelibrary.org
SUMMARY:Book Club
DESCRIPTION:Book Club\nmeets the 2nd Tuesday of each month at 7:00 \n 
URL:https://dev.piercelibrary.org/event/book-club-28-2024-02-13/2027-12-14/
END:VEVENT
BEGIN:VEVENT
DTSTART;TZID=UTC:20271214T190000
DTEND;TZID=UTC:20271214T200000
DTSTAMP:20260423T113843
CREATED:20230203T195552Z
LAST-MODIFIED:20230203T195552Z
UID:10001895-1828810800-1828814400@dev.piercelibrary.org
SUMMARY:Book Club
DESCRIPTION:Book Club\nmeets the 2nd Tuesday of each month at 7:00 \n 
URL:https://dev.piercelibrary.org/event/book-club-28-2024-02-13/2027-12-14/
END:VEVENT
BEGIN:VEVENT
DTSTART;TZID=UTC:20271214T190000
DTEND;TZID=UTC:20271214T200000
DTSTAMP:20260423T113843
CREATED:20230203T195552Z
LAST-MODIFIED:20230203T195552Z
UID:10001951-1828810800-1828814400@dev.piercelibrary.org
SUMMARY:Book Club
DESCRIPTION:Book Club\nmeets the 2nd Tuesday of each month at 7:00 \n 
URL:https://dev.piercelibrary.org/event/book-club-28-2024-02-13/2027-12-14/
END:VEVENT
BEGIN:VEVENT
DTSTART;TZID=UTC:20271214T190000
DTEND;TZID=UTC:20271214T200000
DTSTAMP:20260423T113843
CREATED:20230203T195552Z
LAST-MODIFIED:20230203T195552Z
UID:10003999-1828810800-1828814400@dev.piercelibrary.org
SUMMARY:Book Club
DESCRIPTION:Book Club\nmeets the 2nd Tuesday of each month at 7:00 \n 
URL:https://dev.piercelibrary.org/event/book-club-28-2025-09-09/2027-12-14/
END:VEVENT
END:VCALENDAR