BEGIN:VCALENDAR
VERSION:2.0
PRODID:-//Allen F. Pierce Free Library - ECPv6.15.17//NONSGML v1.0//EN
CALSCALE:GREGORIAN
METHOD:PUBLISH
X-WR-CALNAME:Allen F. Pierce Free Library
X-ORIGINAL-URL:https://dev.piercelibrary.org
X-WR-CALDESC:Events for Allen F. Pierce Free Library
REFRESH-INTERVAL;VALUE=DURATION:PT1H
X-Robots-Tag:noindex
X-PUBLISHED-TTL:PT1H
BEGIN:VTIMEZONE
TZID:UTC
BEGIN:STANDARD
TZOFFSETFROM:+0000
TZOFFSETTO:+0000
TZNAME:UTC
DTSTART:20260101T000000
END:STANDARD
END:VTIMEZONE
BEGIN:VTIMEZONE
TZID:America/New_York
BEGIN:DAYLIGHT
TZOFFSETFROM:-0500
TZOFFSETTO:-0400
TZNAME:EDT
DTSTART:20260308T070000
END:DAYLIGHT
BEGIN:STANDARD
TZOFFSETFROM:-0400
TZOFFSETTO:-0500
TZNAME:EST
DTSTART:20261101T060000
END:STANDARD
BEGIN:DAYLIGHT
TZOFFSETFROM:-0500
TZOFFSETTO:-0400
TZNAME:EDT
DTSTART:20270314T070000
END:DAYLIGHT
BEGIN:STANDARD
TZOFFSETFROM:-0400
TZOFFSETTO:-0500
TZNAME:EST
DTSTART:20271107T060000
END:STANDARD
BEGIN:DAYLIGHT
TZOFFSETFROM:-0500
TZOFFSETTO:-0400
TZNAME:EDT
DTSTART:20280312T070000
END:DAYLIGHT
BEGIN:STANDARD
TZOFFSETFROM:-0400
TZOFFSETTO:-0500
TZNAME:EST
DTSTART:20281105T060000
END:STANDARD
END:VTIMEZONE
BEGIN:VEVENT
DTSTART;TZID=UTC:20271109T190000
DTEND;TZID=UTC:20271109T200000
DTSTAMP:20260422T154630
CREATED:20230203T195552Z
LAST-MODIFIED:20230203T195552Z
UID:10001840-1825786800-1825790400@dev.piercelibrary.org
SUMMARY:Book Club
DESCRIPTION:Book Club\nmeets the 2nd Tuesday of each month at 7:00 \n 
URL:https://dev.piercelibrary.org/event/book-club-28-2024-02-13/2027-11-09/
END:VEVENT
BEGIN:VEVENT
DTSTART;TZID=UTC:20271109T190000
DTEND;TZID=UTC:20271109T200000
DTSTAMP:20260422T154630
CREATED:20230203T195552Z
LAST-MODIFIED:20230203T195552Z
UID:10001932-1825786800-1825790400@dev.piercelibrary.org
SUMMARY:Book Club
DESCRIPTION:Book Club\nmeets the 2nd Tuesday of each month at 7:00 \n 
URL:https://dev.piercelibrary.org/event/book-club-28-2024-02-13/2027-11-09/
END:VEVENT
BEGIN:VEVENT
DTSTART;TZID=UTC:20271109T190000
DTEND;TZID=UTC:20271109T200000
DTSTAMP:20260422T154630
CREATED:20230203T195552Z
LAST-MODIFIED:20230203T195552Z
UID:10002023-1825786800-1825790400@dev.piercelibrary.org
SUMMARY:Book Club
DESCRIPTION:Book Club\nmeets the 2nd Tuesday of each month at 7:00 \n 
URL:https://dev.piercelibrary.org/event/book-club-28-2024-03-12/2027-11-09/
END:VEVENT
BEGIN:VEVENT
DTSTART;TZID=UTC:20271109T190000
DTEND;TZID=UTC:20271109T200000
DTSTAMP:20260422T154630
CREATED:20230203T195552Z
LAST-MODIFIED:20230203T195552Z
UID:10002235-1825786800-1825790400@dev.piercelibrary.org
SUMMARY:Book Club
DESCRIPTION:Book Club\nmeets the 2nd Tuesday of each month at 7:00 \n 
URL:https://dev.piercelibrary.org/event/book-club-28-2024-03-12/2027-11-09/
END:VEVENT
BEGIN:VEVENT
DTSTART;TZID=UTC:20271109T190000
DTEND;TZID=UTC:20271109T200000
DTSTAMP:20260422T154630
CREATED:20230203T195552Z
LAST-MODIFIED:20230203T195552Z
UID:10002383-1825786800-1825790400@dev.piercelibrary.org
SUMMARY:Book Club
DESCRIPTION:Book Club\nmeets the 2nd Tuesday of each month at 7:00 \n 
URL:https://dev.piercelibrary.org/event/book-club-28-2024-03-12/2027-11-09/
END:VEVENT
BEGIN:VEVENT
DTSTART;TZID=UTC:20271109T190000
DTEND;TZID=UTC:20271109T200000
DTSTAMP:20260422T154630
CREATED:20230203T195552Z
LAST-MODIFIED:20230203T195552Z
UID:10002467-1825786800-1825790400@dev.piercelibrary.org
SUMMARY:Book Club
DESCRIPTION:Book Club\nmeets the 2nd Tuesday of each month at 7:00 \n 
URL:https://dev.piercelibrary.org/event/book-club-28-2024-03-12/2027-11-09/
END:VEVENT
BEGIN:VEVENT
DTSTART;TZID=UTC:20271109T190000
DTEND;TZID=UTC:20271109T200000
DTSTAMP:20260422T154630
CREATED:20230203T195552Z
LAST-MODIFIED:20230203T195552Z
UID:10002581-1825786800-1825790400@dev.piercelibrary.org
SUMMARY:Book Club
DESCRIPTION:Book Club\nmeets the 2nd Tuesday of each month at 7:00 \n 
URL:https://dev.piercelibrary.org/event/book-club-28-2024-04-09/2027-11-09/
END:VEVENT
BEGIN:VEVENT
DTSTART;TZID=UTC:20271109T190000
DTEND;TZID=UTC:20271109T200000
DTSTAMP:20260422T154630
CREATED:20230203T195552Z
LAST-MODIFIED:20230203T195552Z
UID:10002785-1825786800-1825790400@dev.piercelibrary.org
SUMMARY:Book Club
DESCRIPTION:Book Club\nmeets the 2nd Tuesday of each month at 7:00 \n 
URL:https://dev.piercelibrary.org/event/book-club-28-2024-04-09/2027-11-09/
END:VEVENT
BEGIN:VEVENT
DTSTART;TZID=UTC:20271109T190000
DTEND;TZID=UTC:20271109T200000
DTSTAMP:20260422T154630
CREATED:20230203T195552Z
LAST-MODIFIED:20230203T195552Z
UID:10002977-1825786800-1825790400@dev.piercelibrary.org
SUMMARY:Book Club
DESCRIPTION:Book Club\nmeets the 2nd Tuesday of each month at 7:00 \n 
URL:https://dev.piercelibrary.org/event/book-club-28-2025-07-08/2027-11-09/
END:VEVENT
BEGIN:VEVENT
DTSTART;TZID=UTC:20271109T190000
DTEND;TZID=UTC:20271109T200000
DTSTAMP:20260422T154630
CREATED:20230203T195552Z
LAST-MODIFIED:20230203T195552Z
UID:10003157-1825786800-1825790400@dev.piercelibrary.org
SUMMARY:Book Club
DESCRIPTION:Book Club\nmeets the 2nd Tuesday of each month at 7:00 \n 
URL:https://dev.piercelibrary.org/event/book-club-28-2025-07-08/2027-11-09/
END:VEVENT
BEGIN:VEVENT
DTSTART;TZID=UTC:20271109T190000
DTEND;TZID=UTC:20271109T200000
DTSTAMP:20260422T154630
CREATED:20230203T195552Z
LAST-MODIFIED:20230203T195552Z
UID:10003273-1825786800-1825790400@dev.piercelibrary.org
SUMMARY:Book Club
DESCRIPTION:Book Club\nmeets the 2nd Tuesday of each month at 7:00 \n 
URL:https://dev.piercelibrary.org/event/book-club-28-2025-07-08/2027-11-09/
END:VEVENT
BEGIN:VEVENT
DTSTART;TZID=UTC:20271109T190000
DTEND;TZID=UTC:20271109T200000
DTSTAMP:20260422T154630
CREATED:20230203T195552Z
LAST-MODIFIED:20230203T195552Z
UID:10003325-1825786800-1825790400@dev.piercelibrary.org
SUMMARY:Book Club
DESCRIPTION:Book Club\nmeets the 2nd Tuesday of each month at 7:00 \n 
URL:https://dev.piercelibrary.org/event/book-club-28-2025-07-08/2027-11-09/
END:VEVENT
BEGIN:VEVENT
DTSTART;TZID=UTC:20271109T190000
DTEND;TZID=UTC:20271109T200000
DTSTAMP:20260422T154630
CREATED:20230203T195552Z
LAST-MODIFIED:20230203T195552Z
UID:10003510-1825786800-1825790400@dev.piercelibrary.org
SUMMARY:Book Club
DESCRIPTION:Book Club\nmeets the 2nd Tuesday of each month at 7:00 \n 
URL:https://dev.piercelibrary.org/event/book-club-28-2025-08-12/2027-11-09/
END:VEVENT
BEGIN:VEVENT
DTSTART;TZID=UTC:20271109T190000
DTEND;TZID=UTC:20271109T200000
DTSTAMP:20260422T154630
CREATED:20230203T195552Z
LAST-MODIFIED:20230203T195552Z
UID:10003658-1825786800-1825790400@dev.piercelibrary.org
SUMMARY:Book Club
DESCRIPTION:Book Club\nmeets the 2nd Tuesday of each month at 7:00 \n 
URL:https://dev.piercelibrary.org/event/book-club-28-2025-08-12/2027-11-09/
END:VEVENT
BEGIN:VEVENT
DTSTART;TZID=UTC:20271109T190000
DTEND;TZID=UTC:20271109T200000
DTSTAMP:20260422T154630
CREATED:20230203T195552Z
LAST-MODIFIED:20230203T195552Z
UID:10003742-1825786800-1825790400@dev.piercelibrary.org
SUMMARY:Book Club
DESCRIPTION:Book Club\nmeets the 2nd Tuesday of each month at 7:00 \n 
URL:https://dev.piercelibrary.org/event/book-club-28-2025-08-12/2027-11-09/
END:VEVENT
BEGIN:VEVENT
DTSTART;TZID=UTC:20271109T190000
DTEND;TZID=UTC:20271109T200000
DTSTAMP:20260422T154630
CREATED:20230203T195552Z
LAST-MODIFIED:20230203T195552Z
UID:10003844-1825786800-1825790400@dev.piercelibrary.org
SUMMARY:Book Club
DESCRIPTION:Book Club\nmeets the 2nd Tuesday of each month at 7:00 \n 
URL:https://dev.piercelibrary.org/event/book-club-28-2025-09-09/2027-11-09/
END:VEVENT
BEGIN:VEVENT
DTSTART;TZID=UTC:20271109T190000
DTEND;TZID=UTC:20271109T200000
DTSTAMP:20260422T154630
CREATED:20230203T195552Z
LAST-MODIFIED:20230203T195552Z
UID:10004016-1825786800-1825790400@dev.piercelibrary.org
SUMMARY:Book Club
DESCRIPTION:Book Club\nmeets the 2nd Tuesday of each month at 7:00 \n 
URL:https://dev.piercelibrary.org/event/book-club-28-2025-09-09/2027-11-09/
END:VEVENT
BEGIN:VEVENT
DTSTART;TZID=UTC:20271109T190000
DTEND;TZID=UTC:20271109T200000
DTSTAMP:20260422T154630
CREATED:20230203T195552Z
LAST-MODIFIED:20230203T195552Z
UID:10004124-1825786800-1825790400@dev.piercelibrary.org
SUMMARY:Book Club
DESCRIPTION:Book Club\nmeets the 2nd Tuesday of each month at 7:00 \n 
URL:https://dev.piercelibrary.org/event/book-club-28-2025-09-09/2027-11-09/
END:VEVENT
BEGIN:VEVENT
DTSTART;TZID=UTC:20271109T190000
DTEND;TZID=UTC:20271109T200000
DTSTAMP:20260422T154630
CREATED:20230203T195552Z
LAST-MODIFIED:20230203T195552Z
UID:10004357-1825786800-1825790400@dev.piercelibrary.org
SUMMARY:Book Club
DESCRIPTION:Book Club\nmeets the 2nd Tuesday of each month at 7:00 \n 
URL:https://dev.piercelibrary.org/event/book-club-28-2025-10-14/2027-11-09/
END:VEVENT
BEGIN:VEVENT
DTSTART;TZID=UTC:20271109T190000
DTEND;TZID=UTC:20271109T200000
DTSTAMP:20260422T154630
CREATED:20230203T195552Z
LAST-MODIFIED:20230203T195552Z
UID:10004481-1825786800-1825790400@dev.piercelibrary.org
SUMMARY:Book Club
DESCRIPTION:Book Club\nmeets the 2nd Tuesday of each month at 7:00 \n 
URL:https://dev.piercelibrary.org/event/book-club-28-2025-10-14/2027-11-09/
END:VEVENT
BEGIN:VEVENT
DTSTART;TZID=UTC:20271109T190000
DTEND;TZID=UTC:20271109T200000
DTSTAMP:20260422T154630
CREATED:20230203T195552Z
LAST-MODIFIED:20230203T195552Z
UID:10004541-1825786800-1825790400@dev.piercelibrary.org
SUMMARY:Book Club
DESCRIPTION:Book Club\nmeets the 2nd Tuesday of each month at 7:00 \n 
URL:https://dev.piercelibrary.org/event/book-club-28-2025-10-14/2027-11-09/
END:VEVENT
BEGIN:VEVENT
DTSTART;TZID=UTC:20271109T190000
DTEND;TZID=UTC:20271109T200000
DTSTAMP:20260422T154630
CREATED:20230203T195552Z
LAST-MODIFIED:20230203T195552Z
UID:10004688-1825786800-1825790400@dev.piercelibrary.org
SUMMARY:Book Club
DESCRIPTION:Book Club\nmeets the 2nd Tuesday of each month at 7:00 \n 
URL:https://dev.piercelibrary.org/event/book-club-28-2025-11-11/2027-11-09/
END:VEVENT
BEGIN:VEVENT
DTSTART;TZID=UTC:20271109T190000
DTEND;TZID=UTC:20271109T200000
DTSTAMP:20260422T154630
CREATED:20230203T195552Z
LAST-MODIFIED:20230203T195552Z
UID:10004820-1825786800-1825790400@dev.piercelibrary.org
SUMMARY:Book Club
DESCRIPTION:Book Club\nmeets the 2nd Tuesday of each month at 7:00 \n 
URL:https://dev.piercelibrary.org/event/book-club-28-2025-11-11/2027-11-09/
END:VEVENT
BEGIN:VEVENT
DTSTART;TZID=UTC:20271109T190000
DTEND;TZID=UTC:20271109T200000
DTSTAMP:20260422T154630
CREATED:20230203T195552Z
LAST-MODIFIED:20230203T195552Z
UID:10004888-1825786800-1825790400@dev.piercelibrary.org
SUMMARY:Book Club
DESCRIPTION:Book Club\nmeets the 2nd Tuesday of each month at 7:00 \n 
URL:https://dev.piercelibrary.org/event/book-club-28-2025-11-11/2027-11-09/
END:VEVENT
BEGIN:VEVENT
DTSTART;TZID=UTC:20271109T190000
DTEND;TZID=UTC:20271109T210000
DTSTAMP:20260422T154630
CREATED:20250306T131653Z
LAST-MODIFIED:20250306T131653Z
UID:10001217-1825786800-1825794000@dev.piercelibrary.org
SUMMARY:Book Club
DESCRIPTION:Book Club\nmeets the 2nd Tuesday of each month at 7:00 \n 
URL:https://dev.piercelibrary.org/event/book-club-28-2/2027-11-09/
END:VEVENT
BEGIN:VEVENT
DTSTART;TZID=America/New_York:20271113T093000
DTEND;TZID=America/New_York:20271113T103000
DTSTAMP:20260422T154630
CREATED:20250102T204104Z
LAST-MODIFIED:20250102T204104Z
UID:10000957-1826098200-1826101800@dev.piercelibrary.org
SUMMARY:Preschool Story Hour 2026
DESCRIPTION:
URL:https://dev.piercelibrary.org/event/preschool-story-hour-2025/2027-11-13/
END:VEVENT
BEGIN:VEVENT
DTSTART;TZID=America/New_York:20271120T093000
DTEND;TZID=America/New_York:20271120T103000
DTSTAMP:20260422T154630
CREATED:20250102T204104Z
LAST-MODIFIED:20250102T204104Z
UID:10000958-1826703000-1826706600@dev.piercelibrary.org
SUMMARY:Preschool Story Hour 2026
DESCRIPTION:
URL:https://dev.piercelibrary.org/event/preschool-story-hour-2025/2027-11-20/
END:VEVENT
BEGIN:VEVENT
DTSTART;TZID=America/New_York:20271127T093000
DTEND;TZID=America/New_York:20271127T103000
DTSTAMP:20260422T154630
CREATED:20250102T204104Z
LAST-MODIFIED:20250102T204104Z
UID:10000959-1827307800-1827311400@dev.piercelibrary.org
SUMMARY:Preschool Story Hour 2026
DESCRIPTION:
URL:https://dev.piercelibrary.org/event/preschool-story-hour-2025/2027-11-27/
END:VEVENT
BEGIN:VEVENT
DTSTART;TZID=America/New_York:20271204T093000
DTEND;TZID=America/New_York:20271204T103000
DTSTAMP:20260422T154630
CREATED:20250102T204104Z
LAST-MODIFIED:20250102T204104Z
UID:10000960-1827912600-1827916200@dev.piercelibrary.org
SUMMARY:Preschool Story Hour 2026
DESCRIPTION:
URL:https://dev.piercelibrary.org/event/preschool-story-hour-2025/2027-12-04/
END:VEVENT
BEGIN:VEVENT
DTSTART;TZID=America/New_York:20271211T093000
DTEND;TZID=America/New_York:20271211T103000
DTSTAMP:20260422T154630
CREATED:20250102T204104Z
LAST-MODIFIED:20250102T204104Z
UID:10000961-1828517400-1828521000@dev.piercelibrary.org
SUMMARY:Preschool Story Hour 2026
DESCRIPTION:
URL:https://dev.piercelibrary.org/event/preschool-story-hour-2025/2027-12-11/
END:VEVENT
END:VCALENDAR