BEGIN:VCALENDAR
VERSION:2.0
PRODID:-//Allen F. Pierce Free Library - ECPv6.15.17//NONSGML v1.0//EN
CALSCALE:GREGORIAN
METHOD:PUBLISH
X-WR-CALNAME:Allen F. Pierce Free Library
X-ORIGINAL-URL:https://dev.piercelibrary.org
X-WR-CALDESC:Events for Allen F. Pierce Free Library
REFRESH-INTERVAL;VALUE=DURATION:PT1H
X-Robots-Tag:noindex
X-PUBLISHED-TTL:PT1H
BEGIN:VTIMEZONE
TZID:UTC
BEGIN:STANDARD
TZOFFSETFROM:+0000
TZOFFSETTO:+0000
TZNAME:UTC
DTSTART:20250101T000000
END:STANDARD
END:VTIMEZONE
BEGIN:VEVENT
DTSTART;TZID=UTC:20260811T190000
DTEND;TZID=UTC:20260811T200000
DTSTAMP:20260421T181938
CREATED:20230203T195552Z
LAST-MODIFIED:20230203T195552Z
UID:10000155-1786474800-1786478400@dev.piercelibrary.org
SUMMARY:Book Club
DESCRIPTION:Book Club\nmeets the 2nd Tuesday of each month at 7:00 \n 
URL:https://dev.piercelibrary.org/event/book-club-28-2024-03-12/2026-08-11/
END:VEVENT
BEGIN:VEVENT
DTSTART;TZID=UTC:20260811T190000
DTEND;TZID=UTC:20260811T200000
DTSTAMP:20260421T181938
CREATED:20230203T195552Z
LAST-MODIFIED:20230203T195552Z
UID:10000595-1786474800-1786478400@dev.piercelibrary.org
SUMMARY:Book Club
DESCRIPTION:Book Club\nmeets the 2nd Tuesday of each month at 7:00 \n 
URL:https://dev.piercelibrary.org/event/book-club-28-2025-03-11/2026-08-11/
END:VEVENT
BEGIN:VEVENT
DTSTART;TZID=UTC:20260811T190000
DTEND;TZID=UTC:20260811T200000
DTSTAMP:20260421T181938
CREATED:20230203T195552Z
LAST-MODIFIED:20230203T195552Z
UID:10000812-1786474800-1786478400@dev.piercelibrary.org
SUMMARY:Book Club
DESCRIPTION:Book Club\nmeets the 2nd Tuesday of each month at 7:00 \n 
URL:https://dev.piercelibrary.org/event/book-club-28-2025-10-14/2026-08-11/
END:VEVENT
BEGIN:VEVENT
DTSTART;TZID=UTC:20260811T190000
DTEND;TZID=UTC:20260811T200000
DTSTAMP:20260421T181938
CREATED:20230203T195552Z
LAST-MODIFIED:20230203T195552Z
UID:10001510-1786474800-1786478400@dev.piercelibrary.org
SUMMARY:Book Club
DESCRIPTION:Book Club\nmeets the 2nd Tuesday of each month at 7:00 \n 
URL:https://dev.piercelibrary.org/event/book-club-28-2024-02-13/2026-08-11/
END:VEVENT
BEGIN:VEVENT
DTSTART;TZID=UTC:20260811T190000
DTEND;TZID=UTC:20260811T200000
DTSTAMP:20260421T181938
CREATED:20230203T195552Z
LAST-MODIFIED:20230203T195552Z
UID:10001774-1786474800-1786478400@dev.piercelibrary.org
SUMMARY:Book Club
DESCRIPTION:Book Club\nmeets the 2nd Tuesday of each month at 7:00 \n 
URL:https://dev.piercelibrary.org/event/book-club-28-2024-02-13/2026-08-11/
END:VEVENT
BEGIN:VEVENT
DTSTART;TZID=UTC:20260811T190000
DTEND;TZID=UTC:20260811T200000
DTSTAMP:20260421T181938
CREATED:20230203T195552Z
LAST-MODIFIED:20230203T195552Z
UID:10002038-1786474800-1786478400@dev.piercelibrary.org
SUMMARY:Book Club
DESCRIPTION:Book Club\nmeets the 2nd Tuesday of each month at 7:00 \n 
URL:https://dev.piercelibrary.org/event/book-club-28-2024-03-12/2026-08-11/
END:VEVENT
BEGIN:VEVENT
DTSTART;TZID=UTC:20260811T190000
DTEND;TZID=UTC:20260811T200000
DTSTAMP:20260421T181938
CREATED:20230203T195552Z
LAST-MODIFIED:20230203T195552Z
UID:10002302-1786474800-1786478400@dev.piercelibrary.org
SUMMARY:Book Club
DESCRIPTION:Book Club\nmeets the 2nd Tuesday of each month at 7:00 \n 
URL:https://dev.piercelibrary.org/event/book-club-28-2024-03-12/2026-08-11/
END:VEVENT
BEGIN:VEVENT
DTSTART;TZID=UTC:20260811T190000
DTEND;TZID=UTC:20260811T200000
DTSTAMP:20260421T181938
CREATED:20230203T195552Z
LAST-MODIFIED:20230203T195552Z
UID:10002566-1786474800-1786478400@dev.piercelibrary.org
SUMMARY:Book Club
DESCRIPTION:Book Club\nmeets the 2nd Tuesday of each month at 7:00 \n 
URL:https://dev.piercelibrary.org/event/book-club-28-2024-04-09/2026-08-11/
END:VEVENT
BEGIN:VEVENT
DTSTART;TZID=UTC:20260811T190000
DTEND;TZID=UTC:20260811T200000
DTSTAMP:20260421T181938
CREATED:20230203T195552Z
LAST-MODIFIED:20230203T195552Z
UID:10002830-1786474800-1786478400@dev.piercelibrary.org
SUMMARY:Book Club
DESCRIPTION:Book Club\nmeets the 2nd Tuesday of each month at 7:00 \n 
URL:https://dev.piercelibrary.org/event/book-club-28-2024-04-09/2026-08-11/
END:VEVENT
BEGIN:VEVENT
DTSTART;TZID=UTC:20260811T190000
DTEND;TZID=UTC:20260811T200000
DTSTAMP:20260421T181938
CREATED:20230203T195552Z
LAST-MODIFIED:20230203T195552Z
UID:10002878-1786474800-1786478400@dev.piercelibrary.org
SUMMARY:Book Club
DESCRIPTION:Book Club\nmeets the 2nd Tuesday of each month at 7:00 \n 
URL:https://dev.piercelibrary.org/event/book-club-28-2025-07-08/2026-08-11/
END:VEVENT
BEGIN:VEVENT
DTSTART;TZID=UTC:20260811T190000
DTEND;TZID=UTC:20260811T200000
DTSTAMP:20260421T181938
CREATED:20230203T195552Z
LAST-MODIFIED:20230203T195552Z
UID:10003142-1786474800-1786478400@dev.piercelibrary.org
SUMMARY:Book Club
DESCRIPTION:Book Club\nmeets the 2nd Tuesday of each month at 7:00 \n 
URL:https://dev.piercelibrary.org/event/book-club-28-2025-07-08/2026-08-11/
END:VEVENT
BEGIN:VEVENT
DTSTART;TZID=UTC:20260811T190000
DTEND;TZID=UTC:20260811T200000
DTSTAMP:20260421T181938
CREATED:20230203T195552Z
LAST-MODIFIED:20230203T195552Z
UID:10003342-1786474800-1786478400@dev.piercelibrary.org
SUMMARY:Book Club
DESCRIPTION:Book Club\nmeets the 2nd Tuesday of each month at 7:00 \n 
URL:https://dev.piercelibrary.org/event/book-club-28-2025-08-12/2026-08-11/
END:VEVENT
BEGIN:VEVENT
DTSTART;TZID=UTC:20260811T190000
DTEND;TZID=UTC:20260811T200000
DTSTAMP:20260421T181938
CREATED:20230203T195552Z
LAST-MODIFIED:20230203T195552Z
UID:10003558-1786474800-1786478400@dev.piercelibrary.org
SUMMARY:Book Club
DESCRIPTION:Book Club\nmeets the 2nd Tuesday of each month at 7:00 \n 
URL:https://dev.piercelibrary.org/event/book-club-28-2025-08-12/2026-08-11/
END:VEVENT
BEGIN:VEVENT
DTSTART;TZID=UTC:20260811T190000
DTEND;TZID=UTC:20260811T200000
DTSTAMP:20260421T181938
CREATED:20230203T195552Z
LAST-MODIFIED:20230203T195552Z
UID:10003854-1786474800-1786478400@dev.piercelibrary.org
SUMMARY:Book Club
DESCRIPTION:Book Club\nmeets the 2nd Tuesday of each month at 7:00 \n 
URL:https://dev.piercelibrary.org/event/book-club-28-2025-09-09/2026-08-11/
END:VEVENT
BEGIN:VEVENT
DTSTART;TZID=UTC:20260811T190000
DTEND;TZID=UTC:20260811T200000
DTSTAMP:20260421T181938
CREATED:20230203T195552Z
LAST-MODIFIED:20230203T195552Z
UID:10003878-1786474800-1786478400@dev.piercelibrary.org
SUMMARY:Book Club
DESCRIPTION:Book Club\nmeets the 2nd Tuesday of each month at 7:00 \n 
URL:https://dev.piercelibrary.org/event/book-club-28-2025-09-09/2026-08-11/
END:VEVENT
BEGIN:VEVENT
DTSTART;TZID=UTC:20260811T190000
DTEND;TZID=UTC:20260811T200000
DTSTAMP:20260421T181938
CREATED:20230203T195552Z
LAST-MODIFIED:20230203T195552Z
UID:10004342-1786474800-1786478400@dev.piercelibrary.org
SUMMARY:Book Club
DESCRIPTION:Book Club\nmeets the 2nd Tuesday of each month at 7:00 \n 
URL:https://dev.piercelibrary.org/event/book-club-28-2025-10-14/2026-08-11/
END:VEVENT
BEGIN:VEVENT
DTSTART;TZID=UTC:20260811T190000
DTEND;TZID=UTC:20260811T200000
DTSTAMP:20260421T181938
CREATED:20230203T195552Z
LAST-MODIFIED:20230203T195552Z
UID:10004558-1786474800-1786478400@dev.piercelibrary.org
SUMMARY:Book Club
DESCRIPTION:Book Club\nmeets the 2nd Tuesday of each month at 7:00 \n 
URL:https://dev.piercelibrary.org/event/book-club-28-2025-11-11/2026-08-11/
END:VEVENT
BEGIN:VEVENT
DTSTART;TZID=UTC:20260811T190000
DTEND;TZID=UTC:20260811T200000
DTSTAMP:20260421T181938
CREATED:20230203T195552Z
LAST-MODIFIED:20230203T195552Z
UID:10004630-1786474800-1786478400@dev.piercelibrary.org
SUMMARY:Book Club
DESCRIPTION:Book Club\nmeets the 2nd Tuesday of each month at 7:00 \n 
URL:https://dev.piercelibrary.org/event/book-club-28-2025-11-11/2026-08-11/
END:VEVENT
BEGIN:VEVENT
DTSTART;TZID=UTC:20260811T190000
DTEND;TZID=UTC:20260811T200000
DTSTAMP:20260421T181938
CREATED:20230203T195552Z
LAST-MODIFIED:20230203T195552Z
UID:10000244-1786474800-1786478400@dev.piercelibrary.org
SUMMARY:Book Club
DESCRIPTION:Book Club\nmeets the 2nd Tuesday of each month at 7:00 \n 
URL:https://dev.piercelibrary.org/event/book-club-28-2024-05-14/2026-08-11/
END:VEVENT
BEGIN:VEVENT
DTSTART;TZID=UTC:20260811T190000
DTEND;TZID=UTC:20260811T200000
DTSTAMP:20260421T181938
CREATED:20230203T195552Z
LAST-MODIFIED:20230203T195552Z
UID:10000524-1786474800-1786478400@dev.piercelibrary.org
SUMMARY:Book Club
DESCRIPTION:Book Club\nmeets the 2nd Tuesday of each month at 7:00 \n 
URL:https://dev.piercelibrary.org/event/book-club-28-2025-01-14/2026-08-11/
END:VEVENT
BEGIN:VEVENT
DTSTART;TZID=UTC:20260811T190000
DTEND;TZID=UTC:20260811T200000
DTSTAMP:20260421T181938
CREATED:20230203T195552Z
LAST-MODIFIED:20230203T195552Z
UID:10000725-1786474800-1786478400@dev.piercelibrary.org
SUMMARY:Book Club
DESCRIPTION:Book Club\nmeets the 2nd Tuesday of each month at 7:00 \n 
URL:https://dev.piercelibrary.org/event/book-club-28-2025-07-08/2026-08-11/
END:VEVENT
BEGIN:VEVENT
DTSTART;TZID=UTC:20260811T190000
DTEND;TZID=UTC:20260811T200000
DTSTAMP:20260421T181938
CREATED:20230203T195552Z
LAST-MODIFIED:20230203T195552Z
UID:10001567-1786474800-1786478400@dev.piercelibrary.org
SUMMARY:Book Club
DESCRIPTION:Book Club\nmeets the 2nd Tuesday of each month at 7:00 \n 
URL:https://dev.piercelibrary.org/event/book-club-28-2024-02-13/2026-08-11/
END:VEVENT
BEGIN:VEVENT
DTSTART;TZID=UTC:20260811T190000
DTEND;TZID=UTC:20260811T200000
DTSTAMP:20260421T181938
CREATED:20230203T195552Z
LAST-MODIFIED:20230203T195552Z
UID:10001735-1786474800-1786478400@dev.piercelibrary.org
SUMMARY:Book Club
DESCRIPTION:Book Club\nmeets the 2nd Tuesday of each month at 7:00 \n 
URL:https://dev.piercelibrary.org/event/book-club-28-2024-02-13/2026-08-11/
END:VEVENT
BEGIN:VEVENT
DTSTART;TZID=UTC:20260811T190000
DTEND;TZID=UTC:20260811T200000
DTSTAMP:20260421T181938
CREATED:20230203T195552Z
LAST-MODIFIED:20230203T195552Z
UID:10002095-1786474800-1786478400@dev.piercelibrary.org
SUMMARY:Book Club
DESCRIPTION:Book Club\nmeets the 2nd Tuesday of each month at 7:00 \n 
URL:https://dev.piercelibrary.org/event/book-club-28-2024-03-12/2026-08-11/
END:VEVENT
BEGIN:VEVENT
DTSTART;TZID=UTC:20260811T190000
DTEND;TZID=UTC:20260811T200000
DTSTAMP:20260421T181938
CREATED:20230203T195552Z
LAST-MODIFIED:20230203T195552Z
UID:10002263-1786474800-1786478400@dev.piercelibrary.org
SUMMARY:Book Club
DESCRIPTION:Book Club\nmeets the 2nd Tuesday of each month at 7:00 \n 
URL:https://dev.piercelibrary.org/event/book-club-28-2024-03-12/2026-08-11/
END:VEVENT
BEGIN:VEVENT
DTSTART;TZID=UTC:20260811T190000
DTEND;TZID=UTC:20260811T200000
DTSTAMP:20260421T181938
CREATED:20230203T195552Z
LAST-MODIFIED:20230203T195552Z
UID:10002623-1786474800-1786478400@dev.piercelibrary.org
SUMMARY:Book Club
DESCRIPTION:Book Club\nmeets the 2nd Tuesday of each month at 7:00 \n 
URL:https://dev.piercelibrary.org/event/book-club-28-2024-04-09/2026-08-11/
END:VEVENT
BEGIN:VEVENT
DTSTART;TZID=UTC:20260811T190000
DTEND;TZID=UTC:20260811T200000
DTSTAMP:20260421T181938
CREATED:20230203T195552Z
LAST-MODIFIED:20230203T195552Z
UID:10002791-1786474800-1786478400@dev.piercelibrary.org
SUMMARY:Book Club
DESCRIPTION:Book Club\nmeets the 2nd Tuesday of each month at 7:00 \n 
URL:https://dev.piercelibrary.org/event/book-club-28-2024-04-09/2026-08-11/
END:VEVENT
BEGIN:VEVENT
DTSTART;TZID=UTC:20260811T190000
DTEND;TZID=UTC:20260811T200000
DTSTAMP:20260421T181938
CREATED:20230203T195552Z
LAST-MODIFIED:20230203T195552Z
UID:10002935-1786474800-1786478400@dev.piercelibrary.org
SUMMARY:Book Club
DESCRIPTION:Book Club\nmeets the 2nd Tuesday of each month at 7:00 \n 
URL:https://dev.piercelibrary.org/event/book-club-28-2025-07-08/2026-08-11/
END:VEVENT
BEGIN:VEVENT
DTSTART;TZID=UTC:20260811T190000
DTEND;TZID=UTC:20260811T200000
DTSTAMP:20260421T181938
CREATED:20230203T195552Z
LAST-MODIFIED:20230203T195552Z
UID:10003103-1786474800-1786478400@dev.piercelibrary.org
SUMMARY:Book Club
DESCRIPTION:Book Club\nmeets the 2nd Tuesday of each month at 7:00 \n 
URL:https://dev.piercelibrary.org/event/book-club-28-2025-07-08/2026-08-11/
END:VEVENT
BEGIN:VEVENT
DTSTART;TZID=UTC:20260811T190000
DTEND;TZID=UTC:20260811T200000
DTSTAMP:20260421T181938
CREATED:20230203T195552Z
LAST-MODIFIED:20230203T195552Z
UID:10003423-1786474800-1786478400@dev.piercelibrary.org
SUMMARY:Book Club
DESCRIPTION:Book Club\nmeets the 2nd Tuesday of each month at 7:00 \n 
URL:https://dev.piercelibrary.org/event/book-club-28-2025-08-12/2026-08-11/
END:VEVENT
END:VCALENDAR