BEGIN:VCALENDAR
VERSION:2.0
PRODID:-//Allen F. Pierce Free Library - ECPv6.15.17//NONSGML v1.0//EN
CALSCALE:GREGORIAN
METHOD:PUBLISH
X-ORIGINAL-URL:https://dev.piercelibrary.org
X-WR-CALDESC:Events for Allen F. Pierce Free Library
REFRESH-INTERVAL;VALUE=DURATION:PT1H
X-Robots-Tag:noindex
X-PUBLISHED-TTL:PT1H
BEGIN:VTIMEZONE
TZID:UTC
BEGIN:STANDARD
TZOFFSETFROM:+0000
TZOFFSETTO:+0000
TZNAME:UTC
DTSTART:20250101T000000
END:STANDARD
END:VTIMEZONE
BEGIN:VEVENT
DTSTART;TZID=UTC:20261208T190000
DTEND;TZID=UTC:20261208T200000
DTSTAMP:20260421T184116
CREATED:20230203T195552Z
LAST-MODIFIED:20230203T195552Z
UID:10002509-1796756400-1796760000@dev.piercelibrary.org
SUMMARY:Book Club
DESCRIPTION:Book Club\nmeets the 2nd Tuesday of each month at 7:00 \n 
URL:https://dev.piercelibrary.org/event/book-club-28-2024-04-09/2026-12-08/
END:VEVENT
BEGIN:VEVENT
DTSTART;TZID=UTC:20261208T190000
DTEND;TZID=UTC:20261208T200000
DTSTAMP:20260421T184116
CREATED:20230203T195552Z
LAST-MODIFIED:20230203T195552Z
UID:10002729-1796756400-1796760000@dev.piercelibrary.org
SUMMARY:Book Club
DESCRIPTION:Book Club\nmeets the 2nd Tuesday of each month at 7:00 \n 
URL:https://dev.piercelibrary.org/event/book-club-28-2024-04-09/2026-12-08/
END:VEVENT
BEGIN:VEVENT
DTSTART;TZID=UTC:20261208T190000
DTEND;TZID=UTC:20261208T200000
DTSTAMP:20260421T184116
CREATED:20230203T195552Z
LAST-MODIFIED:20230203T195552Z
UID:10002911-1796756400-1796760000@dev.piercelibrary.org
SUMMARY:Book Club
DESCRIPTION:Book Club\nmeets the 2nd Tuesday of each month at 7:00 \n 
URL:https://dev.piercelibrary.org/event/book-club-28-2025-07-08/2026-12-08/
END:VEVENT
BEGIN:VEVENT
DTSTART;TZID=UTC:20261208T190000
DTEND;TZID=UTC:20261208T200000
DTSTAMP:20260421T184116
CREATED:20230203T195552Z
LAST-MODIFIED:20230203T195552Z
UID:10003107-1796756400-1796760000@dev.piercelibrary.org
SUMMARY:Book Club
DESCRIPTION:Book Club\nmeets the 2nd Tuesday of each month at 7:00 \n 
URL:https://dev.piercelibrary.org/event/book-club-28-2025-07-08/2026-12-08/
END:VEVENT
BEGIN:VEVENT
DTSTART;TZID=UTC:20261208T190000
DTEND;TZID=UTC:20261208T200000
DTSTAMP:20260421T184116
CREATED:20230203T195552Z
LAST-MODIFIED:20230203T195552Z
UID:10003226-1796756400-1796760000@dev.piercelibrary.org
SUMMARY:Book Club
DESCRIPTION:Book Club\nmeets the 2nd Tuesday of each month at 7:00 \n 
URL:https://dev.piercelibrary.org/event/book-club-28-2025-07-08/2026-12-08/
END:VEVENT
BEGIN:VEVENT
DTSTART;TZID=UTC:20261208T190000
DTEND;TZID=UTC:20261208T200000
DTSTAMP:20260421T184116
CREATED:20230203T195552Z
LAST-MODIFIED:20230203T195552Z
UID:10003401-1796756400-1796760000@dev.piercelibrary.org
SUMMARY:Book Club
DESCRIPTION:Book Club\nmeets the 2nd Tuesday of each month at 7:00 \n 
URL:https://dev.piercelibrary.org/event/book-club-28-2025-08-12/2026-12-08/
END:VEVENT
BEGIN:VEVENT
DTSTART;TZID=UTC:20261208T190000
DTEND;TZID=UTC:20261208T200000
DTSTAMP:20260421T184116
CREATED:20230203T195552Z
LAST-MODIFIED:20230203T195552Z
UID:10003581-1796756400-1796760000@dev.piercelibrary.org
SUMMARY:Book Club
DESCRIPTION:Book Club\nmeets the 2nd Tuesday of each month at 7:00 \n 
URL:https://dev.piercelibrary.org/event/book-club-28-2025-08-12/2026-12-08/
END:VEVENT
BEGIN:VEVENT
DTSTART;TZID=UTC:20261208T190000
DTEND;TZID=UTC:20261208T200000
DTSTAMP:20260421T184116
CREATED:20230203T195552Z
LAST-MODIFIED:20230203T195552Z
UID:10003882-1796756400-1796760000@dev.piercelibrary.org
SUMMARY:Book Club
DESCRIPTION:Book Club\nmeets the 2nd Tuesday of each month at 7:00 \n 
URL:https://dev.piercelibrary.org/event/book-club-28-2025-09-09/2026-12-08/
END:VEVENT
BEGIN:VEVENT
DTSTART;TZID=UTC:20261208T190000
DTEND;TZID=UTC:20261208T200000
DTSTAMP:20260421T184116
CREATED:20230203T195552Z
LAST-MODIFIED:20230203T195552Z
UID:10004038-1796756400-1796760000@dev.piercelibrary.org
SUMMARY:Book Club
DESCRIPTION:Book Club\nmeets the 2nd Tuesday of each month at 7:00 \n 
URL:https://dev.piercelibrary.org/event/book-club-28-2025-09-09/2026-12-08/
END:VEVENT
BEGIN:VEVENT
DTSTART;TZID=UTC:20261208T190000
DTEND;TZID=UTC:20261208T200000
DTSTAMP:20260421T184116
CREATED:20230203T195552Z
LAST-MODIFIED:20230203T195552Z
UID:10000414-1796756400-1796760000@dev.piercelibrary.org
SUMMARY:Book Club
DESCRIPTION:Book Club\nmeets the 2nd Tuesday of each month at 7:00 \n 
URL:https://dev.piercelibrary.org/event/book-club-28-2024-10-08/2026-12-08/
END:VEVENT
BEGIN:VEVENT
DTSTART;TZID=UTC:20261208T190000
DTEND;TZID=UTC:20261208T200000
DTSTAMP:20260421T184116
CREATED:20230203T195552Z
LAST-MODIFIED:20230203T195552Z
UID:10000698-1796756400-1796760000@dev.piercelibrary.org
SUMMARY:Book Club
DESCRIPTION:Book Club\nmeets the 2nd Tuesday of each month at 7:00 \n 
URL:https://dev.piercelibrary.org/event/book-club-28-2025-06-10/2026-12-08/
END:VEVENT
BEGIN:VEVENT
DTSTART;TZID=UTC:20261208T190000
DTEND;TZID=UTC:20261208T200000
DTSTAMP:20260421T184116
CREATED:20230203T195552Z
LAST-MODIFIED:20230203T195552Z
UID:10004346-1796756400-1796760000@dev.piercelibrary.org
SUMMARY:Book Club
DESCRIPTION:Book Club\nmeets the 2nd Tuesday of each month at 7:00 \n 
URL:https://dev.piercelibrary.org/event/book-club-28-2025-10-14/2026-12-08/
END:VEVENT
BEGIN:VEVENT
DTSTART;TZID=UTC:20261208T190000
DTEND;TZID=UTC:20261208T200000
DTSTAMP:20260421T184116
CREATED:20230203T195552Z
LAST-MODIFIED:20230203T195552Z
UID:10001514-1796756400-1796760000@dev.piercelibrary.org
SUMMARY:Book Club
DESCRIPTION:Book Club\nmeets the 2nd Tuesday of each month at 7:00 \n 
URL:https://dev.piercelibrary.org/event/book-club-28-2024-02-13/2026-12-08/
END:VEVENT
BEGIN:VEVENT
DTSTART;TZID=UTC:20261208T190000
DTEND;TZID=UTC:20261208T200000
DTSTAMP:20260421T184116
CREATED:20230203T195552Z
LAST-MODIFIED:20230203T195552Z
UID:10001718-1796756400-1796760000@dev.piercelibrary.org
SUMMARY:Book Club
DESCRIPTION:Book Club\nmeets the 2nd Tuesday of each month at 7:00 \n 
URL:https://dev.piercelibrary.org/event/book-club-28-2024-02-13/2026-12-08/
END:VEVENT
BEGIN:VEVENT
DTSTART;TZID=UTC:20261208T190000
DTEND;TZID=UTC:20261208T200000
DTSTAMP:20260421T184116
CREATED:20230203T195552Z
LAST-MODIFIED:20230203T195552Z
UID:10004634-1796756400-1796760000@dev.piercelibrary.org
SUMMARY:Book Club
DESCRIPTION:Book Club\nmeets the 2nd Tuesday of each month at 7:00 \n 
URL:https://dev.piercelibrary.org/event/book-club-28-2025-11-11/2026-12-08/
END:VEVENT
BEGIN:VEVENT
DTSTART;TZID=UTC:20261208T190000
DTEND;TZID=UTC:20261208T200000
DTSTAMP:20260421T184116
CREATED:20230203T195552Z
LAST-MODIFIED:20230203T195552Z
UID:10004782-1796756400-1796760000@dev.piercelibrary.org
SUMMARY:Book Club
DESCRIPTION:Book Club\nmeets the 2nd Tuesday of each month at 7:00 \n 
URL:https://dev.piercelibrary.org/event/book-club-28-2025-11-11/2026-12-08/
END:VEVENT
BEGIN:VEVENT
DTSTART;TZID=UTC:20261208T190000
DTEND;TZID=UTC:20261208T200000
DTSTAMP:20260421T184116
CREATED:20230203T195552Z
LAST-MODIFIED:20230203T195552Z
UID:10002012-1796756400-1796760000@dev.piercelibrary.org
SUMMARY:Book Club
DESCRIPTION:Book Club\nmeets the 2nd Tuesday of each month at 7:00 \n 
URL:https://dev.piercelibrary.org/event/book-club-28-2024-03-12/2026-12-08/
END:VEVENT
BEGIN:VEVENT
DTSTART;TZID=UTC:20261208T190000
DTEND;TZID=UTC:20261208T200000
DTSTAMP:20260421T184116
CREATED:20230203T195552Z
LAST-MODIFIED:20230203T195552Z
UID:10002224-1796756400-1796760000@dev.piercelibrary.org
SUMMARY:Book Club
DESCRIPTION:Book Club\nmeets the 2nd Tuesday of each month at 7:00 \n 
URL:https://dev.piercelibrary.org/event/book-club-28-2024-03-12/2026-12-08/
END:VEVENT
BEGIN:VEVENT
DTSTART;TZID=UTC:20261208T190000
DTEND;TZID=UTC:20261208T200000
DTSTAMP:20260421T184116
CREATED:20230203T195552Z
LAST-MODIFIED:20230203T195552Z
UID:10002705-1796756400-1796760000@dev.piercelibrary.org
SUMMARY:Book Club
DESCRIPTION:Book Club\nmeets the 2nd Tuesday of each month at 7:00 \n 
URL:https://dev.piercelibrary.org/event/book-club-28-2024-04-09/2026-12-08/
END:VEVENT
BEGIN:VEVENT
DTSTART;TZID=UTC:20261208T190000
DTEND;TZID=UTC:20261208T200000
DTSTAMP:20260421T184116
CREATED:20230203T195552Z
LAST-MODIFIED:20230203T195552Z
UID:10002882-1796756400-1796760000@dev.piercelibrary.org
SUMMARY:Book Club
DESCRIPTION:Book Club\nmeets the 2nd Tuesday of each month at 7:00 \n 
URL:https://dev.piercelibrary.org/event/book-club-28-2025-07-08/2026-12-08/
END:VEVENT
BEGIN:VEVENT
DTSTART;TZID=UTC:20261208T190000
DTEND;TZID=UTC:20261208T200000
DTSTAMP:20260421T184116
CREATED:20230203T195552Z
LAST-MODIFIED:20230203T195552Z
UID:10003086-1796756400-1796760000@dev.piercelibrary.org
SUMMARY:Book Club
DESCRIPTION:Book Club\nmeets the 2nd Tuesday of each month at 7:00 \n 
URL:https://dev.piercelibrary.org/event/book-club-28-2025-07-08/2026-12-08/
END:VEVENT
BEGIN:VEVENT
DTSTART;TZID=UTC:20261208T190000
DTEND;TZID=UTC:20261208T200000
DTSTAMP:20260421T184116
CREATED:20230203T195552Z
LAST-MODIFIED:20230203T195552Z
UID:10003374-1796756400-1796760000@dev.piercelibrary.org
SUMMARY:Book Club
DESCRIPTION:Book Club\nmeets the 2nd Tuesday of each month at 7:00 \n 
URL:https://dev.piercelibrary.org/event/book-club-28-2025-08-12/2026-12-08/
END:VEVENT
BEGIN:VEVENT
DTSTART;TZID=UTC:20261208T190000
DTEND;TZID=UTC:20261208T200000
DTSTAMP:20260421T184116
CREATED:20230203T195552Z
LAST-MODIFIED:20230203T195552Z
UID:10003562-1796756400-1796760000@dev.piercelibrary.org
SUMMARY:Book Club
DESCRIPTION:Book Club\nmeets the 2nd Tuesday of each month at 7:00 \n 
URL:https://dev.piercelibrary.org/event/book-club-28-2025-08-12/2026-12-08/
END:VEVENT
BEGIN:VEVENT
DTSTART;TZID=UTC:20261208T190000
DTEND;TZID=UTC:20261208T200000
DTSTAMP:20260421T184116
CREATED:20230203T195552Z
LAST-MODIFIED:20230203T195552Z
UID:10003858-1796756400-1796760000@dev.piercelibrary.org
SUMMARY:Book Club
DESCRIPTION:Book Club\nmeets the 2nd Tuesday of each month at 7:00 \n 
URL:https://dev.piercelibrary.org/event/book-club-28-2025-09-09/2026-12-08/
END:VEVENT
BEGIN:VEVENT
DTSTART;TZID=UTC:20261208T190000
DTEND;TZID=UTC:20261208T200000
DTSTAMP:20260421T184116
CREATED:20230203T195552Z
LAST-MODIFIED:20230203T195552Z
UID:10004022-1796756400-1796760000@dev.piercelibrary.org
SUMMARY:Book Club
DESCRIPTION:Book Club\nmeets the 2nd Tuesday of each month at 7:00 \n 
URL:https://dev.piercelibrary.org/event/book-club-28-2025-09-09/2026-12-08/
END:VEVENT
BEGIN:VEVENT
DTSTART;TZID=UTC:20261208T190000
DTEND;TZID=UTC:20261208T200000
DTSTAMP:20260421T184116
CREATED:20230203T195552Z
LAST-MODIFIED:20230203T195552Z
UID:10000374-1796756400-1796760000@dev.piercelibrary.org
SUMMARY:Book Club
DESCRIPTION:Book Club\nmeets the 2nd Tuesday of each month at 7:00 \n 
URL:https://dev.piercelibrary.org/event/book-club-28-2024-09-10/2026-12-08/
END:VEVENT
BEGIN:VEVENT
DTSTART;TZID=UTC:20261208T190000
DTEND;TZID=UTC:20261208T200000
DTSTAMP:20260421T184116
CREATED:20230203T195552Z
LAST-MODIFIED:20230203T195552Z
UID:10000666-1796756400-1796760000@dev.piercelibrary.org
SUMMARY:Book Club
DESCRIPTION:Book Club\nmeets the 2nd Tuesday of each month at 7:00 \n 
URL:https://dev.piercelibrary.org/event/book-club-28-2025-05-13/2026-12-08/
END:VEVENT
BEGIN:VEVENT
DTSTART;TZID=UTC:20261208T190000
DTEND;TZID=UTC:20261208T200000
DTSTAMP:20260421T184116
CREATED:20230203T195552Z
LAST-MODIFIED:20230203T195552Z
UID:10004326-1796756400-1796760000@dev.piercelibrary.org
SUMMARY:Book Club
DESCRIPTION:Book Club\nmeets the 2nd Tuesday of each month at 7:00 \n 
URL:https://dev.piercelibrary.org/event/book-club-28-2025-10-14/2026-12-08/
END:VEVENT
BEGIN:VEVENT
DTSTART;TZID=UTC:20261208T190000
DTEND;TZID=UTC:20261208T200000
DTSTAMP:20260421T184116
CREATED:20230203T195552Z
LAST-MODIFIED:20230203T195552Z
UID:10001484-1796756400-1796760000@dev.piercelibrary.org
SUMMARY:Book Club
DESCRIPTION:Book Club\nmeets the 2nd Tuesday of each month at 7:00 \n 
URL:https://dev.piercelibrary.org/event/book-club-28-2024-02-13/2026-12-08/
END:VEVENT
BEGIN:VEVENT
DTSTART;TZID=UTC:20261208T190000
DTEND;TZID=UTC:20261208T200000
DTSTAMP:20260421T184116
CREATED:20230203T195552Z
LAST-MODIFIED:20230203T195552Z
UID:10004445-1796756400-1796760000@dev.piercelibrary.org
SUMMARY:Book Club
DESCRIPTION:Book Club\nmeets the 2nd Tuesday of each month at 7:00 \n 
URL:https://dev.piercelibrary.org/event/book-club-28-2025-10-14/2026-12-08/
END:VEVENT
END:VCALENDAR