BEGIN:VCALENDAR
VERSION:2.0
PRODID:-//Allen F. Pierce Free Library - ECPv6.15.17//NONSGML v1.0//EN
CALSCALE:GREGORIAN
METHOD:PUBLISH
X-ORIGINAL-URL:https://dev.piercelibrary.org
X-WR-CALDESC:Events for Allen F. Pierce Free Library
REFRESH-INTERVAL;VALUE=DURATION:PT1H
X-Robots-Tag:noindex
X-PUBLISHED-TTL:PT1H
BEGIN:VTIMEZONE
TZID:UTC
BEGIN:STANDARD
TZOFFSETFROM:+0000
TZOFFSETTO:+0000
TZNAME:UTC
DTSTART:20260101T000000
END:STANDARD
END:VTIMEZONE
BEGIN:VTIMEZONE
TZID:America/New_York
BEGIN:DAYLIGHT
TZOFFSETFROM:-0500
TZOFFSETTO:-0400
TZNAME:EDT
DTSTART:20260308T070000
END:DAYLIGHT
BEGIN:STANDARD
TZOFFSETFROM:-0400
TZOFFSETTO:-0500
TZNAME:EST
DTSTART:20261101T060000
END:STANDARD
BEGIN:DAYLIGHT
TZOFFSETFROM:-0500
TZOFFSETTO:-0400
TZNAME:EDT
DTSTART:20270314T070000
END:DAYLIGHT
BEGIN:STANDARD
TZOFFSETFROM:-0400
TZOFFSETTO:-0500
TZNAME:EST
DTSTART:20271107T060000
END:STANDARD
BEGIN:DAYLIGHT
TZOFFSETFROM:-0500
TZOFFSETTO:-0400
TZNAME:EDT
DTSTART:20280312T070000
END:DAYLIGHT
BEGIN:STANDARD
TZOFFSETFROM:-0400
TZOFFSETTO:-0500
TZNAME:EST
DTSTART:20281105T060000
END:STANDARD
END:VTIMEZONE
BEGIN:VEVENT
DTSTART;TZID=UTC:20270309T190000
DTEND;TZID=UTC:20270309T200000
DTSTAMP:20260419T223705
CREATED:20230203T195552Z
LAST-MODIFIED:20230203T195552Z
UID:10001781-1804618800-1804622400@dev.piercelibrary.org
SUMMARY:Book Club
DESCRIPTION:Book Club\nmeets the 2nd Tuesday of each month at 7:00 \n 
URL:https://dev.piercelibrary.org/event/book-club-28-2024-02-13/2027-03-09/
END:VEVENT
BEGIN:VEVENT
DTSTART;TZID=UTC:20270309T190000
DTEND;TZID=UTC:20270309T200000
DTSTAMP:20260419T223705
CREATED:20230203T195552Z
LAST-MODIFIED:20230203T195552Z
UID:10001897-1804618800-1804622400@dev.piercelibrary.org
SUMMARY:Book Club
DESCRIPTION:Book Club\nmeets the 2nd Tuesday of each month at 7:00 \n 
URL:https://dev.piercelibrary.org/event/book-club-28-2024-02-13/2027-03-09/
END:VEVENT
BEGIN:VEVENT
DTSTART;TZID=UTC:20270309T190000
DTEND;TZID=UTC:20270309T200000
DTSTAMP:20260419T223705
CREATED:20230203T195552Z
LAST-MODIFIED:20230203T195552Z
UID:10002045-1804618800-1804622400@dev.piercelibrary.org
SUMMARY:Book Club
DESCRIPTION:Book Club\nmeets the 2nd Tuesday of each month at 7:00 \n 
URL:https://dev.piercelibrary.org/event/book-club-28-2024-03-12/2027-03-09/
END:VEVENT
BEGIN:VEVENT
DTSTART;TZID=UTC:20270309T190000
DTEND;TZID=UTC:20270309T200000
DTSTAMP:20260419T223705
CREATED:20230203T195552Z
LAST-MODIFIED:20230203T195552Z
UID:10002249-1804618800-1804622400@dev.piercelibrary.org
SUMMARY:Book Club
DESCRIPTION:Book Club\nmeets the 2nd Tuesday of each month at 7:00 \n 
URL:https://dev.piercelibrary.org/event/book-club-28-2024-03-12/2027-03-09/
END:VEVENT
BEGIN:VEVENT
DTSTART;TZID=UTC:20270309T190000
DTEND;TZID=UTC:20270309T200000
DTSTAMP:20260419T223705
CREATED:20230203T195552Z
LAST-MODIFIED:20230203T195552Z
UID:10002389-1804618800-1804622400@dev.piercelibrary.org
SUMMARY:Book Club
DESCRIPTION:Book Club\nmeets the 2nd Tuesday of each month at 7:00 \n 
URL:https://dev.piercelibrary.org/event/book-club-28-2024-03-12/2027-03-09/
END:VEVENT
BEGIN:VEVENT
DTSTART;TZID=UTC:20270309T190000
DTEND;TZID=UTC:20270309T200000
DTSTAMP:20260419T223705
CREATED:20230203T195552Z
LAST-MODIFIED:20230203T195552Z
UID:10002708-1804618800-1804622400@dev.piercelibrary.org
SUMMARY:Book Club
DESCRIPTION:Book Club\nmeets the 2nd Tuesday of each month at 7:00 \n 
URL:https://dev.piercelibrary.org/event/book-club-28-2024-04-09/2027-03-09/
END:VEVENT
BEGIN:VEVENT
DTSTART;TZID=UTC:20270309T190000
DTEND;TZID=UTC:20270309T210000
DTSTAMP:20260419T223705
CREATED:20250306T131653Z
LAST-MODIFIED:20250306T131653Z
UID:10001209-1804618800-1804626000@dev.piercelibrary.org
SUMMARY:Book Club
DESCRIPTION:Book Club\nmeets the 2nd Tuesday of each month at 7:00 \n 
URL:https://dev.piercelibrary.org/event/book-club-28-2/2027-03-09/
END:VEVENT
BEGIN:VEVENT
DTSTART;TZID=America/New_York:20270309T190000
DTEND;TZID=America/New_York:20270309T210000
DTSTAMP:20260419T223705
CREATED:20250310T151928Z
LAST-MODIFIED:20250310T151928Z
UID:10000049-1804618800-1804626000@dev.piercelibrary.org
SUMMARY:Book Club
DESCRIPTION:
URL:https://dev.piercelibrary.org/event/book-club-27/
END:VEVENT
BEGIN:VEVENT
DTSTART;TZID=America/New_York:20270310T130000
DTEND;TZID=America/New_York:20270310T143000
DTSTAMP:20260419T223705
CREATED:20260216T153818Z
LAST-MODIFIED:20260216T153818Z
UID:10001310-1804683600-1804689000@dev.piercelibrary.org
SUMMARY:SUMMER READING 2026 - "Unearth a Story"
DESCRIPTION:This year’s summer reading theme is “Unearth a Story”\, maybe dinosaurs\, mythical creatures\, history\, earth moving equipment?\nCome check it out  Wednesdays 1:00 – 2:30 starting June 10th through July 22nd.
URL:https://dev.piercelibrary.org/event/summer-reading-2026-unearth-a-story/2027-03-10/
END:VEVENT
BEGIN:VEVENT
DTSTART;TZID=America/New_York:20270313T093000
DTEND;TZID=America/New_York:20270313T103000
DTSTAMP:20260419T223705
CREATED:20250102T204104Z
LAST-MODIFIED:20250102T204104Z
UID:10000922-1804930200-1804933800@dev.piercelibrary.org
SUMMARY:Preschool Story Hour 2026
DESCRIPTION:
URL:https://dev.piercelibrary.org/event/preschool-story-hour-2025/2027-03-13/
END:VEVENT
BEGIN:VEVENT
DTSTART;TZID=America/New_York:20270317T130000
DTEND;TZID=America/New_York:20270317T143000
DTSTAMP:20260419T223705
CREATED:20260216T153818Z
LAST-MODIFIED:20260216T153818Z
UID:10001311-1805288400-1805293800@dev.piercelibrary.org
SUMMARY:SUMMER READING 2026 - "Unearth a Story"
DESCRIPTION:This year’s summer reading theme is “Unearth a Story”\, maybe dinosaurs\, mythical creatures\, history\, earth moving equipment?\nCome check it out  Wednesdays 1:00 – 2:30 starting June 10th through July 22nd.
URL:https://dev.piercelibrary.org/event/summer-reading-2026-unearth-a-story/2027-03-17/
END:VEVENT
BEGIN:VEVENT
DTSTART;TZID=America/New_York:20270317T151500
DTEND;TZID=America/New_York:20270317T163000
DTSTAMP:20260419T223705
CREATED:20250918T174002Z
LAST-MODIFIED:20250918T174002Z
UID:10001234-1805296500-1805301000@dev.piercelibrary.org
SUMMARY:STEM 2025-2026
DESCRIPTION:STEM – Science\, Technology\, Engineering\, and Mathematics \n3rd Wednesday of each month (September through May) at 3:15 until 4:30 \nOctober 15\, November 19\, NONE in December\, January 21\, February 18\, March 18\, April 15\, May 20
URL:https://dev.piercelibrary.org/event/stem-2025-2026/2027-03-17/
END:VEVENT
BEGIN:VEVENT
DTSTART;TZID=America/New_York:20270320T093000
DTEND;TZID=America/New_York:20270320T103000
DTSTAMP:20260419T223705
CREATED:20250102T204104Z
LAST-MODIFIED:20250102T204104Z
UID:10000923-1805535000-1805538600@dev.piercelibrary.org
SUMMARY:Preschool Story Hour 2026
DESCRIPTION:
URL:https://dev.piercelibrary.org/event/preschool-story-hour-2025/2027-03-20/
END:VEVENT
BEGIN:VEVENT
DTSTART;TZID=America/New_York:20270323T110000
DTEND;TZID=America/New_York:20270323T120000
DTSTAMP:20260419T223705
CREATED:20250323T161730Z
LAST-MODIFIED:20250323T161730Z
UID:10000050-1805799600-1805803200@dev.piercelibrary.org
SUMMARY:Career Link
DESCRIPTION:
URL:https://dev.piercelibrary.org/event/career-link-55/
END:VEVENT
BEGIN:VEVENT
DTSTART;TZID=America/New_York:20270324T130000
DTEND;TZID=America/New_York:20270324T143000
DTSTAMP:20260419T223705
CREATED:20260216T153818Z
LAST-MODIFIED:20260216T153818Z
UID:10001312-1805893200-1805898600@dev.piercelibrary.org
SUMMARY:SUMMER READING 2026 - "Unearth a Story"
DESCRIPTION:This year’s summer reading theme is “Unearth a Story”\, maybe dinosaurs\, mythical creatures\, history\, earth moving equipment?\nCome check it out  Wednesdays 1:00 – 2:30 starting June 10th through July 22nd.
URL:https://dev.piercelibrary.org/event/summer-reading-2026-unearth-a-story/2027-03-24/
END:VEVENT
BEGIN:VEVENT
DTSTART;TZID=America/New_York:20270327T093000
DTEND;TZID=America/New_York:20270327T103000
DTSTAMP:20260419T223705
CREATED:20250102T204104Z
LAST-MODIFIED:20250102T204104Z
UID:10000924-1806139800-1806143400@dev.piercelibrary.org
SUMMARY:Preschool Story Hour 2026
DESCRIPTION:
URL:https://dev.piercelibrary.org/event/preschool-story-hour-2025/2027-03-27/
END:VEVENT
BEGIN:VEVENT
DTSTART;TZID=America/New_York:20270331T130000
DTEND;TZID=America/New_York:20270331T143000
DTSTAMP:20260419T223705
CREATED:20260216T153818Z
LAST-MODIFIED:20260216T153818Z
UID:10001313-1806498000-1806503400@dev.piercelibrary.org
SUMMARY:SUMMER READING 2026 - "Unearth a Story"
DESCRIPTION:This year’s summer reading theme is “Unearth a Story”\, maybe dinosaurs\, mythical creatures\, history\, earth moving equipment?\nCome check it out  Wednesdays 1:00 – 2:30 starting June 10th through July 22nd.
URL:https://dev.piercelibrary.org/event/summer-reading-2026-unearth-a-story/2027-03-31/
END:VEVENT
BEGIN:VEVENT
DTSTART;TZID=America/New_York:20270403T093000
DTEND;TZID=America/New_York:20270403T103000
DTSTAMP:20260419T223705
CREATED:20250102T204104Z
LAST-MODIFIED:20250102T204104Z
UID:10000925-1806744600-1806748200@dev.piercelibrary.org
SUMMARY:Preschool Story Hour 2026
DESCRIPTION:
URL:https://dev.piercelibrary.org/event/preschool-story-hour-2025/2027-04-03/
END:VEVENT
BEGIN:VEVENT
DTSTART;TZID=America/New_York:20270407T130000
DTEND;TZID=America/New_York:20270407T143000
DTSTAMP:20260419T223705
CREATED:20260216T153818Z
LAST-MODIFIED:20260216T153818Z
UID:10001314-1807102800-1807108200@dev.piercelibrary.org
SUMMARY:SUMMER READING 2026 - "Unearth a Story"
DESCRIPTION:This year’s summer reading theme is “Unearth a Story”\, maybe dinosaurs\, mythical creatures\, history\, earth moving equipment?\nCome check it out  Wednesdays 1:00 – 2:30 starting June 10th through July 22nd.
URL:https://dev.piercelibrary.org/event/summer-reading-2026-unearth-a-story/2027-04-07/
END:VEVENT
BEGIN:VEVENT
DTSTART;TZID=America/New_York:20270410T093000
DTEND;TZID=America/New_York:20270410T103000
DTSTAMP:20260419T223705
CREATED:20250102T204104Z
LAST-MODIFIED:20250102T204104Z
UID:10000926-1807349400-1807353000@dev.piercelibrary.org
SUMMARY:Preschool Story Hour 2026
DESCRIPTION:
URL:https://dev.piercelibrary.org/event/preschool-story-hour-2025/2027-04-10/
END:VEVENT
BEGIN:VEVENT
DTSTART;TZID=America/New_York:20270413T110000
DTEND;TZID=America/New_York:20270413T120000
DTSTAMP:20260419T223705
CREATED:20250413T171803Z
LAST-MODIFIED:20250413T171803Z
UID:10000051-1807614000-1807617600@dev.piercelibrary.org
SUMMARY:Career Link
DESCRIPTION:
URL:https://dev.piercelibrary.org/event/career-link-56/
END:VEVENT
BEGIN:VEVENT
DTSTART;TZID=America/New_York:20270413T163000
DTEND;TZID=America/New_York:20270413T173000
DTSTAMP:20260419T223705
CREATED:20250306T130604Z
LAST-MODIFIED:20250306T130604Z
UID:10001147-1807633800-1807637400@dev.piercelibrary.org
SUMMARY:Career Link
DESCRIPTION:Meets 2nd and 4th Tuesday of each month 4:30 – 5:30
URL:https://dev.piercelibrary.org/event/career-link/2027-04-13/
END:VEVENT
BEGIN:VEVENT
DTSTART;TZID=UTC:20270413T190000
DTEND;TZID=UTC:20270413T200000
DTSTAMP:20260419T223705
CREATED:20230203T195552Z
LAST-MODIFIED:20230203T195552Z
UID:10002886-1807642800-1807646400@dev.piercelibrary.org
SUMMARY:Book Club
DESCRIPTION:Book Club\nmeets the 2nd Tuesday of each month at 7:00 \n 
URL:https://dev.piercelibrary.org/event/book-club-28-2025-07-08/2027-04-13/
END:VEVENT
BEGIN:VEVENT
DTSTART;TZID=UTC:20270413T190000
DTEND;TZID=UTC:20270413T200000
DTSTAMP:20260419T223705
CREATED:20230203T195552Z
LAST-MODIFIED:20230203T195552Z
UID:10003090-1807642800-1807646400@dev.piercelibrary.org
SUMMARY:Book Club
DESCRIPTION:Book Club\nmeets the 2nd Tuesday of each month at 7:00 \n 
URL:https://dev.piercelibrary.org/event/book-club-28-2025-07-08/2027-04-13/
END:VEVENT
BEGIN:VEVENT
DTSTART;TZID=UTC:20270413T190000
DTEND;TZID=UTC:20270413T200000
DTSTAMP:20260419T223705
CREATED:20230203T195552Z
LAST-MODIFIED:20230203T195552Z
UID:10003230-1807642800-1807646400@dev.piercelibrary.org
SUMMARY:Book Club
DESCRIPTION:Book Club\nmeets the 2nd Tuesday of each month at 7:00 \n 
URL:https://dev.piercelibrary.org/event/book-club-28-2025-07-08/2027-04-13/
END:VEVENT
BEGIN:VEVENT
DTSTART;TZID=UTC:20270413T190000
DTEND;TZID=UTC:20270413T200000
DTSTAMP:20260419T223705
CREATED:20230203T195552Z
LAST-MODIFIED:20230203T195552Z
UID:10003525-1807642800-1807646400@dev.piercelibrary.org
SUMMARY:Book Club
DESCRIPTION:Book Club\nmeets the 2nd Tuesday of each month at 7:00 \n 
URL:https://dev.piercelibrary.org/event/book-club-28-2025-08-12/2027-04-13/
END:VEVENT
BEGIN:VEVENT
DTSTART;TZID=UTC:20270413T190000
DTEND;TZID=UTC:20270413T200000
DTSTAMP:20260419T223705
CREATED:20230203T195552Z
LAST-MODIFIED:20230203T195552Z
UID:10003665-1807642800-1807646400@dev.piercelibrary.org
SUMMARY:Book Club
DESCRIPTION:Book Club\nmeets the 2nd Tuesday of each month at 7:00 \n 
URL:https://dev.piercelibrary.org/event/book-club-28-2025-08-12/2027-04-13/
END:VEVENT
BEGIN:VEVENT
DTSTART;TZID=UTC:20270413T190000
DTEND;TZID=UTC:20270413T200000
DTSTAMP:20260419T223705
CREATED:20230203T195552Z
LAST-MODIFIED:20230203T195552Z
UID:10003952-1807642800-1807646400@dev.piercelibrary.org
SUMMARY:Book Club
DESCRIPTION:Book Club\nmeets the 2nd Tuesday of each month at 7:00 \n 
URL:https://dev.piercelibrary.org/event/book-club-28-2025-09-09/2027-04-13/
END:VEVENT
BEGIN:VEVENT
DTSTART;TZID=UTC:20270413T190000
DTEND;TZID=UTC:20270413T200000
DTSTAMP:20260419T223705
CREATED:20230203T195552Z
LAST-MODIFIED:20230203T195552Z
UID:10004084-1807642800-1807646400@dev.piercelibrary.org
SUMMARY:Book Club
DESCRIPTION:Book Club\nmeets the 2nd Tuesday of each month at 7:00 \n 
URL:https://dev.piercelibrary.org/event/book-club-28-2025-09-09/2027-04-13/
END:VEVENT
BEGIN:VEVENT
DTSTART;TZID=UTC:20270413T190000
DTEND;TZID=UTC:20270413T200000
DTSTAMP:20260419T223705
CREATED:20230203T195552Z
LAST-MODIFIED:20230203T195552Z
UID:10004117-1807642800-1807646400@dev.piercelibrary.org
SUMMARY:Book Club
DESCRIPTION:Book Club\nmeets the 2nd Tuesday of each month at 7:00 \n 
URL:https://dev.piercelibrary.org/event/book-club-28-2025-09-09/2027-04-13/
END:VEVENT
END:VCALENDAR