BEGIN:VCALENDAR
VERSION:2.0
PRODID:-//Allen F. Pierce Free Library - ECPv6.15.17//NONSGML v1.0//EN
CALSCALE:GREGORIAN
METHOD:PUBLISH
X-ORIGINAL-URL:https://dev.piercelibrary.org
X-WR-CALDESC:Events for Allen F. Pierce Free Library
REFRESH-INTERVAL;VALUE=DURATION:PT1H
X-Robots-Tag:noindex
X-PUBLISHED-TTL:PT1H
BEGIN:VTIMEZONE
TZID:UTC
BEGIN:STANDARD
TZOFFSETFROM:+0000
TZOFFSETTO:+0000
TZNAME:UTC
DTSTART:20260101T000000
END:STANDARD
END:VTIMEZONE
BEGIN:VTIMEZONE
TZID:America/New_York
BEGIN:DAYLIGHT
TZOFFSETFROM:-0500
TZOFFSETTO:-0400
TZNAME:EDT
DTSTART:20260308T070000
END:DAYLIGHT
BEGIN:STANDARD
TZOFFSETFROM:-0400
TZOFFSETTO:-0500
TZNAME:EST
DTSTART:20261101T060000
END:STANDARD
BEGIN:DAYLIGHT
TZOFFSETFROM:-0500
TZOFFSETTO:-0400
TZNAME:EDT
DTSTART:20270314T070000
END:DAYLIGHT
BEGIN:STANDARD
TZOFFSETFROM:-0400
TZOFFSETTO:-0500
TZNAME:EST
DTSTART:20271107T060000
END:STANDARD
BEGIN:DAYLIGHT
TZOFFSETFROM:-0500
TZOFFSETTO:-0400
TZNAME:EDT
DTSTART:20280312T070000
END:DAYLIGHT
BEGIN:STANDARD
TZOFFSETFROM:-0400
TZOFFSETTO:-0500
TZNAME:EST
DTSTART:20281105T060000
END:STANDARD
END:VTIMEZONE
BEGIN:VEVENT
DTSTART;TZID=UTC:20270209T190000
DTEND;TZID=UTC:20270209T200000
DTSTAMP:20260421T164259
CREATED:20230203T195552Z
LAST-MODIFIED:20230203T195552Z
UID:10000566-1802199600-1802203200@dev.piercelibrary.org
SUMMARY:Book Club
DESCRIPTION:Book Club\nmeets the 2nd Tuesday of each month at 7:00 \n 
URL:https://dev.piercelibrary.org/event/book-club-28-2025-02-11/2027-02-09/
END:VEVENT
BEGIN:VEVENT
DTSTART;TZID=UTC:20270209T190000
DTEND;TZID=UTC:20270209T200000
DTSTAMP:20260421T164259
CREATED:20230203T195552Z
LAST-MODIFIED:20230203T195552Z
UID:10004613-1802199600-1802203200@dev.piercelibrary.org
SUMMARY:Book Club
DESCRIPTION:Book Club\nmeets the 2nd Tuesday of each month at 7:00 \n 
URL:https://dev.piercelibrary.org/event/book-club-28-2025-11-11/2027-02-09/
END:VEVENT
BEGIN:VEVENT
DTSTART;TZID=UTC:20270209T190000
DTEND;TZID=UTC:20270209T200000
DTSTAMP:20260421T164259
CREATED:20230203T195552Z
LAST-MODIFIED:20230203T195552Z
UID:10000635-1802199600-1802203200@dev.piercelibrary.org
SUMMARY:Book Club
DESCRIPTION:Book Club\nmeets the 2nd Tuesday of each month at 7:00 \n 
URL:https://dev.piercelibrary.org/event/book-club-28-2025-04-08/2027-02-09/
END:VEVENT
BEGIN:VEVENT
DTSTART;TZID=UTC:20270209T190000
DTEND;TZID=UTC:20270209T200000
DTSTAMP:20260421T164259
CREATED:20230203T195552Z
LAST-MODIFIED:20230203T195552Z
UID:10004658-1802199600-1802203200@dev.piercelibrary.org
SUMMARY:Book Club
DESCRIPTION:Book Club\nmeets the 2nd Tuesday of each month at 7:00 \n 
URL:https://dev.piercelibrary.org/event/book-club-28-2025-11-11/2027-02-09/
END:VEVENT
BEGIN:VEVENT
DTSTART;TZID=UTC:20270209T190000
DTEND;TZID=UTC:20270209T200000
DTSTAMP:20260421T164259
CREATED:20230203T195552Z
LAST-MODIFIED:20230203T195552Z
UID:10000700-1802199600-1802203200@dev.piercelibrary.org
SUMMARY:Book Club
DESCRIPTION:Book Club\nmeets the 2nd Tuesday of each month at 7:00 \n 
URL:https://dev.piercelibrary.org/event/book-club-28-2025-06-10/2027-02-09/
END:VEVENT
BEGIN:VEVENT
DTSTART;TZID=UTC:20270209T190000
DTEND;TZID=UTC:20270209T200000
DTSTAMP:20260421T164259
CREATED:20230203T195552Z
LAST-MODIFIED:20230203T195552Z
UID:10004699-1802199600-1802203200@dev.piercelibrary.org
SUMMARY:Book Club
DESCRIPTION:Book Club\nmeets the 2nd Tuesday of each month at 7:00 \n 
URL:https://dev.piercelibrary.org/event/book-club-28-2025-11-11/2027-02-09/
END:VEVENT
BEGIN:VEVENT
DTSTART;TZID=UTC:20270209T190000
DTEND;TZID=UTC:20270209T200000
DTSTAMP:20260421T164259
CREATED:20230203T195552Z
LAST-MODIFIED:20230203T195552Z
UID:10000761-1802199600-1802203200@dev.piercelibrary.org
SUMMARY:Book Club
DESCRIPTION:Book Club\nmeets the 2nd Tuesday of each month at 7:00 \n 
URL:https://dev.piercelibrary.org/event/book-club-28-2025-08-12/2027-02-09/
END:VEVENT
BEGIN:VEVENT
DTSTART;TZID=UTC:20270209T190000
DTEND;TZID=UTC:20270209T200000
DTSTAMP:20260421T164259
CREATED:20230203T195552Z
LAST-MODIFIED:20230203T195552Z
UID:10004736-1802199600-1802203200@dev.piercelibrary.org
SUMMARY:Book Club
DESCRIPTION:Book Club\nmeets the 2nd Tuesday of each month at 7:00 \n 
URL:https://dev.piercelibrary.org/event/book-club-28-2025-11-11/2027-02-09/
END:VEVENT
BEGIN:VEVENT
DTSTART;TZID=UTC:20270209T190000
DTEND;TZID=UTC:20270209T200000
DTSTAMP:20260421T164259
CREATED:20230203T195552Z
LAST-MODIFIED:20230203T195552Z
UID:10000818-1802199600-1802203200@dev.piercelibrary.org
SUMMARY:Book Club
DESCRIPTION:Book Club\nmeets the 2nd Tuesday of each month at 7:00 \n 
URL:https://dev.piercelibrary.org/event/book-club-28-2025-10-14/2027-02-09/
END:VEVENT
BEGIN:VEVENT
DTSTART;TZID=UTC:20270209T190000
DTEND;TZID=UTC:20270209T200000
DTSTAMP:20260421T164259
CREATED:20230203T195552Z
LAST-MODIFIED:20230203T195552Z
UID:10004769-1802199600-1802203200@dev.piercelibrary.org
SUMMARY:Book Club
DESCRIPTION:Book Club\nmeets the 2nd Tuesday of each month at 7:00 \n 
URL:https://dev.piercelibrary.org/event/book-club-28-2025-11-11/2027-02-09/
END:VEVENT
BEGIN:VEVENT
DTSTART;TZID=UTC:20270209T190000
DTEND;TZID=UTC:20270209T200000
DTSTAMP:20260421T164259
CREATED:20230203T195552Z
LAST-MODIFIED:20230203T195552Z
UID:10001455-1802199600-1802203200@dev.piercelibrary.org
SUMMARY:Book Club
DESCRIPTION:Book Club\nmeets the 2nd Tuesday of each month at 7:00 \n 
URL:https://dev.piercelibrary.org/event/book-club-28-2024-02-13/2027-02-09/
END:VEVENT
BEGIN:VEVENT
DTSTART;TZID=UTC:20270209T190000
DTEND;TZID=UTC:20270209T200000
DTSTAMP:20260421T164259
CREATED:20230203T195552Z
LAST-MODIFIED:20230203T195552Z
UID:10004798-1802199600-1802203200@dev.piercelibrary.org
SUMMARY:Book Club
DESCRIPTION:Book Club\nmeets the 2nd Tuesday of each month at 7:00 \n 
URL:https://dev.piercelibrary.org/event/book-club-28-2025-11-11/2027-02-09/
END:VEVENT
BEGIN:VEVENT
DTSTART;TZID=UTC:20270209T190000
DTEND;TZID=UTC:20270209T200000
DTSTAMP:20260421T164259
CREATED:20230203T195552Z
LAST-MODIFIED:20230203T195552Z
UID:10001516-1802199600-1802203200@dev.piercelibrary.org
SUMMARY:Book Club
DESCRIPTION:Book Club\nmeets the 2nd Tuesday of each month at 7:00 \n 
URL:https://dev.piercelibrary.org/event/book-club-28-2024-02-13/2027-02-09/
END:VEVENT
BEGIN:VEVENT
DTSTART;TZID=UTC:20270209T190000
DTEND;TZID=UTC:20270209T200000
DTSTAMP:20260421T164259
CREATED:20230203T195552Z
LAST-MODIFIED:20230203T195552Z
UID:10004823-1802199600-1802203200@dev.piercelibrary.org
SUMMARY:Book Club
DESCRIPTION:Book Club\nmeets the 2nd Tuesday of each month at 7:00 \n 
URL:https://dev.piercelibrary.org/event/book-club-28-2025-11-11/2027-02-09/
END:VEVENT
BEGIN:VEVENT
DTSTART;TZID=UTC:20270209T190000
DTEND;TZID=UTC:20270209T200000
DTSTAMP:20260421T164259
CREATED:20230203T195552Z
LAST-MODIFIED:20230203T195552Z
UID:10001573-1802199600-1802203200@dev.piercelibrary.org
SUMMARY:Book Club
DESCRIPTION:Book Club\nmeets the 2nd Tuesday of each month at 7:00 \n 
URL:https://dev.piercelibrary.org/event/book-club-28-2024-02-13/2027-02-09/
END:VEVENT
BEGIN:VEVENT
DTSTART;TZID=UTC:20270209T190000
DTEND;TZID=UTC:20270209T200000
DTSTAMP:20260421T164259
CREATED:20230203T195552Z
LAST-MODIFIED:20230203T195552Z
UID:10001626-1802199600-1802203200@dev.piercelibrary.org
SUMMARY:Book Club
DESCRIPTION:Book Club\nmeets the 2nd Tuesday of each month at 7:00 \n 
URL:https://dev.piercelibrary.org/event/book-club-28-2024-02-13/2027-02-09/
END:VEVENT
BEGIN:VEVENT
DTSTART;TZID=UTC:20270209T190000
DTEND;TZID=UTC:20270209T200000
DTSTAMP:20260421T164259
CREATED:20230203T195552Z
LAST-MODIFIED:20230203T195552Z
UID:10001675-1802199600-1802203200@dev.piercelibrary.org
SUMMARY:Book Club
DESCRIPTION:Book Club\nmeets the 2nd Tuesday of each month at 7:00 \n 
URL:https://dev.piercelibrary.org/event/book-club-28-2024-02-13/2027-02-09/
END:VEVENT
BEGIN:VEVENT
DTSTART;TZID=UTC:20270209T190000
DTEND;TZID=UTC:20270209T200000
DTSTAMP:20260421T164259
CREATED:20230203T195552Z
LAST-MODIFIED:20230203T195552Z
UID:10001720-1802199600-1802203200@dev.piercelibrary.org
SUMMARY:Book Club
DESCRIPTION:Book Club\nmeets the 2nd Tuesday of each month at 7:00 \n 
URL:https://dev.piercelibrary.org/event/book-club-28-2024-02-13/2027-02-09/
END:VEVENT
BEGIN:VEVENT
DTSTART;TZID=UTC:20270209T190000
DTEND;TZID=UTC:20270209T200000
DTSTAMP:20260421T164259
CREATED:20230203T195552Z
LAST-MODIFIED:20230203T195552Z
UID:10001761-1802199600-1802203200@dev.piercelibrary.org
SUMMARY:Book Club
DESCRIPTION:Book Club\nmeets the 2nd Tuesday of each month at 7:00 \n 
URL:https://dev.piercelibrary.org/event/book-club-28-2024-02-13/2027-02-09/
END:VEVENT
BEGIN:VEVENT
DTSTART;TZID=UTC:20270209T190000
DTEND;TZID=UTC:20270209T200000
DTSTAMP:20260421T164259
CREATED:20230203T195552Z
LAST-MODIFIED:20230203T195552Z
UID:10001798-1802199600-1802203200@dev.piercelibrary.org
SUMMARY:Book Club
DESCRIPTION:Book Club\nmeets the 2nd Tuesday of each month at 7:00 \n 
URL:https://dev.piercelibrary.org/event/book-club-28-2024-02-13/2027-02-09/
END:VEVENT
BEGIN:VEVENT
DTSTART;TZID=UTC:20270209T190000
DTEND;TZID=UTC:20270209T200000
DTSTAMP:20260421T164259
CREATED:20230203T195552Z
LAST-MODIFIED:20230203T195552Z
UID:10001831-1802199600-1802203200@dev.piercelibrary.org
SUMMARY:Book Club
DESCRIPTION:Book Club\nmeets the 2nd Tuesday of each month at 7:00 \n 
URL:https://dev.piercelibrary.org/event/book-club-28-2024-02-13/2027-02-09/
END:VEVENT
BEGIN:VEVENT
DTSTART;TZID=UTC:20270209T190000
DTEND;TZID=UTC:20270209T200000
DTSTAMP:20260421T164259
CREATED:20230203T195552Z
LAST-MODIFIED:20230203T195552Z
UID:10001860-1802199600-1802203200@dev.piercelibrary.org
SUMMARY:Book Club
DESCRIPTION:Book Club\nmeets the 2nd Tuesday of each month at 7:00 \n 
URL:https://dev.piercelibrary.org/event/book-club-28-2024-02-13/2027-02-09/
END:VEVENT
BEGIN:VEVENT
DTSTART;TZID=UTC:20270209T190000
DTEND;TZID=UTC:20270209T210000
DTSTAMP:20260421T164259
CREATED:20250306T131653Z
LAST-MODIFIED:20250306T131653Z
UID:10001208-1802199600-1802206800@dev.piercelibrary.org
SUMMARY:Book Club
DESCRIPTION:Book Club\nmeets the 2nd Tuesday of each month at 7:00 \n 
URL:https://dev.piercelibrary.org/event/book-club-28-2/2027-02-09/
END:VEVENT
BEGIN:VEVENT
DTSTART;TZID=America/New_York:20270210T130000
DTEND;TZID=America/New_York:20270210T143000
DTSTAMP:20260421T164259
CREATED:20260216T153818Z
LAST-MODIFIED:20260216T153818Z
UID:10001306-1802264400-1802269800@dev.piercelibrary.org
SUMMARY:SUMMER READING 2026 - "Unearth a Story"
DESCRIPTION:This year’s summer reading theme is “Unearth a Story”\, maybe dinosaurs\, mythical creatures\, history\, earth moving equipment?\nCome check it out  Wednesdays 1:00 – 2:30 starting June 10th through July 22nd.
URL:https://dev.piercelibrary.org/event/summer-reading-2026-unearth-a-story/2027-02-10/
END:VEVENT
BEGIN:VEVENT
DTSTART;TZID=America/New_York:20270213T093000
DTEND;TZID=America/New_York:20270213T103000
DTSTAMP:20260421T164259
CREATED:20250102T204104Z
LAST-MODIFIED:20250102T204104Z
UID:10000918-1802511000-1802514600@dev.piercelibrary.org
SUMMARY:Preschool Story Hour 2026
DESCRIPTION:
URL:https://dev.piercelibrary.org/event/preschool-story-hour-2025/2027-02-13/
END:VEVENT
BEGIN:VEVENT
DTSTART;TZID=America/New_York:20270217T130000
DTEND;TZID=America/New_York:20270217T143000
DTSTAMP:20260421T164259
CREATED:20260216T153818Z
LAST-MODIFIED:20260216T153818Z
UID:10001307-1802869200-1802874600@dev.piercelibrary.org
SUMMARY:SUMMER READING 2026 - "Unearth a Story"
DESCRIPTION:This year’s summer reading theme is “Unearth a Story”\, maybe dinosaurs\, mythical creatures\, history\, earth moving equipment?\nCome check it out  Wednesdays 1:00 – 2:30 starting June 10th through July 22nd.
URL:https://dev.piercelibrary.org/event/summer-reading-2026-unearth-a-story/2027-02-17/
END:VEVENT
BEGIN:VEVENT
DTSTART;TZID=America/New_York:20270217T151500
DTEND;TZID=America/New_York:20270217T163000
DTSTAMP:20260421T164259
CREATED:20250918T174002Z
LAST-MODIFIED:20250918T174002Z
UID:10001233-1802877300-1802881800@dev.piercelibrary.org
SUMMARY:STEM 2025-2026
DESCRIPTION:STEM – Science\, Technology\, Engineering\, and Mathematics \n3rd Wednesday of each month (September through May) at 3:15 until 4:30 \nOctober 15\, November 19\, NONE in December\, January 21\, February 18\, March 18\, April 15\, May 20
URL:https://dev.piercelibrary.org/event/stem-2025-2026/2027-02-17/
END:VEVENT
BEGIN:VEVENT
DTSTART;TZID=America/New_York:20270220T093000
DTEND;TZID=America/New_York:20270220T103000
DTSTAMP:20260421T164259
CREATED:20250102T204104Z
LAST-MODIFIED:20250102T204104Z
UID:10000919-1803115800-1803119400@dev.piercelibrary.org
SUMMARY:Preschool Story Hour 2026
DESCRIPTION:
URL:https://dev.piercelibrary.org/event/preschool-story-hour-2025/2027-02-20/
END:VEVENT
BEGIN:VEVENT
DTSTART;TZID=America/New_York:20270224T130000
DTEND;TZID=America/New_York:20270224T143000
DTSTAMP:20260421T164259
CREATED:20260216T153818Z
LAST-MODIFIED:20260216T153818Z
UID:10001308-1803474000-1803479400@dev.piercelibrary.org
SUMMARY:SUMMER READING 2026 - "Unearth a Story"
DESCRIPTION:This year’s summer reading theme is “Unearth a Story”\, maybe dinosaurs\, mythical creatures\, history\, earth moving equipment?\nCome check it out  Wednesdays 1:00 – 2:30 starting June 10th through July 22nd.
URL:https://dev.piercelibrary.org/event/summer-reading-2026-unearth-a-story/2027-02-24/
END:VEVENT
BEGIN:VEVENT
DTSTART;TZID=America/New_York:20270227T093000
DTEND;TZID=America/New_York:20270227T103000
DTSTAMP:20260421T164259
CREATED:20250102T204104Z
LAST-MODIFIED:20250102T204104Z
UID:10000920-1803720600-1803724200@dev.piercelibrary.org
SUMMARY:Preschool Story Hour 2026
DESCRIPTION:
URL:https://dev.piercelibrary.org/event/preschool-story-hour-2025/2027-02-27/
END:VEVENT
END:VCALENDAR