BEGIN:VCALENDAR
VERSION:2.0
PRODID:-//Allen F. Pierce Free Library - ECPv6.15.17//NONSGML v1.0//EN
CALSCALE:GREGORIAN
METHOD:PUBLISH
X-WR-CALNAME:Allen F. Pierce Free Library
X-ORIGINAL-URL:https://dev.piercelibrary.org
X-WR-CALDESC:Events for Allen F. Pierce Free Library
REFRESH-INTERVAL;VALUE=DURATION:PT1H
X-Robots-Tag:noindex
X-PUBLISHED-TTL:PT1H
BEGIN:VTIMEZONE
TZID:America/New_York
BEGIN:DAYLIGHT
TZOFFSETFROM:-0500
TZOFFSETTO:-0400
TZNAME:EDT
DTSTART:20290311T070000
END:DAYLIGHT
BEGIN:STANDARD
TZOFFSETFROM:-0400
TZOFFSETTO:-0500
TZNAME:EST
DTSTART:20291104T060000
END:STANDARD
BEGIN:DAYLIGHT
TZOFFSETFROM:-0500
TZOFFSETTO:-0400
TZNAME:EDT
DTSTART:20300310T070000
END:DAYLIGHT
BEGIN:STANDARD
TZOFFSETFROM:-0400
TZOFFSETTO:-0500
TZNAME:EST
DTSTART:20301103T060000
END:STANDARD
BEGIN:DAYLIGHT
TZOFFSETFROM:-0500
TZOFFSETTO:-0400
TZNAME:EDT
DTSTART:20310309T070000
END:DAYLIGHT
BEGIN:STANDARD
TZOFFSETFROM:-0400
TZOFFSETTO:-0500
TZNAME:EST
DTSTART:20311102T060000
END:STANDARD
BEGIN:DAYLIGHT
TZOFFSETFROM:-0500
TZOFFSETTO:-0400
TZNAME:EDT
DTSTART:20320314T070000
END:DAYLIGHT
BEGIN:STANDARD
TZOFFSETFROM:-0400
TZOFFSETTO:-0500
TZNAME:EST
DTSTART:20321107T060000
END:STANDARD
END:VTIMEZONE
BEGIN:VEVENT
DTSTART;TZID=America/New_York:20301026T093000
DTEND;TZID=America/New_York:20301026T103000
DTSTAMP:20260422T175903
CREATED:20250102T204104Z
LAST-MODIFIED:20250102T204104Z
UID:10001111-1919237400-1919241000@dev.piercelibrary.org
SUMMARY:Preschool Story Hour 2026
DESCRIPTION:
URL:https://dev.piercelibrary.org/event/preschool-story-hour-2025/2030-10-26/
END:VEVENT
BEGIN:VEVENT
DTSTART;TZID=America/New_York:20301102T093000
DTEND;TZID=America/New_York:20301102T103000
DTSTAMP:20260422T175903
CREATED:20250102T204104Z
LAST-MODIFIED:20250102T204104Z
UID:10001112-1919842200-1919845800@dev.piercelibrary.org
SUMMARY:Preschool Story Hour 2026
DESCRIPTION:
URL:https://dev.piercelibrary.org/event/preschool-story-hour-2025/2030-11-02/
END:VEVENT
BEGIN:VEVENT
DTSTART;TZID=America/New_York:20301109T093000
DTEND;TZID=America/New_York:20301109T103000
DTSTAMP:20260422T175903
CREATED:20250102T204104Z
LAST-MODIFIED:20250102T204104Z
UID:10001113-1920447000-1920450600@dev.piercelibrary.org
SUMMARY:Preschool Story Hour 2026
DESCRIPTION:
URL:https://dev.piercelibrary.org/event/preschool-story-hour-2025/2030-11-09/
END:VEVENT
BEGIN:VEVENT
DTSTART;TZID=America/New_York:20301112T163000
DTEND;TZID=America/New_York:20301112T173000
DTSTAMP:20260422T175903
CREATED:20250306T130604Z
LAST-MODIFIED:20250306T130604Z
UID:10001190-1920731400-1920735000@dev.piercelibrary.org
SUMMARY:Career Link
DESCRIPTION:Meets 2nd and 4th Tuesday of each month 4:30 – 5:30
URL:https://dev.piercelibrary.org/event/career-link/2030-11-12/
END:VEVENT
BEGIN:VEVENT
DTSTART;TZID=America/New_York:20301116T093000
DTEND;TZID=America/New_York:20301116T103000
DTSTAMP:20260422T175903
CREATED:20250102T204104Z
LAST-MODIFIED:20250102T204104Z
UID:10001114-1921051800-1921055400@dev.piercelibrary.org
SUMMARY:Preschool Story Hour 2026
DESCRIPTION:
URL:https://dev.piercelibrary.org/event/preschool-story-hour-2025/2030-11-16/
END:VEVENT
BEGIN:VEVENT
DTSTART;TZID=America/New_York:20301123T093000
DTEND;TZID=America/New_York:20301123T103000
DTSTAMP:20260422T175903
CREATED:20250102T204104Z
LAST-MODIFIED:20250102T204104Z
UID:10001115-1921656600-1921660200@dev.piercelibrary.org
SUMMARY:Preschool Story Hour 2026
DESCRIPTION:
URL:https://dev.piercelibrary.org/event/preschool-story-hour-2025/2030-11-23/
END:VEVENT
BEGIN:VEVENT
DTSTART;TZID=America/New_York:20301130T093000
DTEND;TZID=America/New_York:20301130T103000
DTSTAMP:20260422T175903
CREATED:20250102T204104Z
LAST-MODIFIED:20250102T204104Z
UID:10001116-1922261400-1922265000@dev.piercelibrary.org
SUMMARY:Preschool Story Hour 2026
DESCRIPTION:
URL:https://dev.piercelibrary.org/event/preschool-story-hour-2025/2030-11-30/
END:VEVENT
BEGIN:VEVENT
DTSTART;TZID=America/New_York:20301207T093000
DTEND;TZID=America/New_York:20301207T103000
DTSTAMP:20260422T175903
CREATED:20250102T204104Z
LAST-MODIFIED:20250102T204104Z
UID:10001117-1922866200-1922869800@dev.piercelibrary.org
SUMMARY:Preschool Story Hour 2026
DESCRIPTION:
URL:https://dev.piercelibrary.org/event/preschool-story-hour-2025/2030-12-07/
END:VEVENT
BEGIN:VEVENT
DTSTART;TZID=America/New_York:20301210T163000
DTEND;TZID=America/New_York:20301210T173000
DTSTAMP:20260422T175903
CREATED:20250306T130604Z
LAST-MODIFIED:20250306T130604Z
UID:10001191-1923150600-1923154200@dev.piercelibrary.org
SUMMARY:Career Link
DESCRIPTION:Meets 2nd and 4th Tuesday of each month 4:30 – 5:30
URL:https://dev.piercelibrary.org/event/career-link/2030-12-10/
END:VEVENT
BEGIN:VEVENT
DTSTART;TZID=America/New_York:20301214T093000
DTEND;TZID=America/New_York:20301214T103000
DTSTAMP:20260422T175903
CREATED:20250102T204104Z
LAST-MODIFIED:20250102T204104Z
UID:10001118-1923471000-1923474600@dev.piercelibrary.org
SUMMARY:Preschool Story Hour 2026
DESCRIPTION:
URL:https://dev.piercelibrary.org/event/preschool-story-hour-2025/2030-12-14/
END:VEVENT
BEGIN:VEVENT
DTSTART;TZID=America/New_York:20301221T093000
DTEND;TZID=America/New_York:20301221T103000
DTSTAMP:20260422T175903
CREATED:20250102T204104Z
LAST-MODIFIED:20250102T204104Z
UID:10001119-1924075800-1924079400@dev.piercelibrary.org
SUMMARY:Preschool Story Hour 2026
DESCRIPTION:
URL:https://dev.piercelibrary.org/event/preschool-story-hour-2025/2030-12-21/
END:VEVENT
BEGIN:VEVENT
DTSTART;TZID=America/New_York:20301228T093000
DTEND;TZID=America/New_York:20301228T103000
DTSTAMP:20260422T175903
CREATED:20250102T204104Z
LAST-MODIFIED:20250102T204104Z
UID:10001120-1924680600-1924684200@dev.piercelibrary.org
SUMMARY:Preschool Story Hour 2026
DESCRIPTION:
URL:https://dev.piercelibrary.org/event/preschool-story-hour-2025/2030-12-28/
END:VEVENT
BEGIN:VEVENT
DTSTART;TZID=America/New_York:20310104T093000
DTEND;TZID=America/New_York:20310104T103000
DTSTAMP:20260422T175903
CREATED:20250102T204104Z
LAST-MODIFIED:20250102T204104Z
UID:10001121-1925285400-1925289000@dev.piercelibrary.org
SUMMARY:Preschool Story Hour 2026
DESCRIPTION:
URL:https://dev.piercelibrary.org/event/preschool-story-hour-2025/2031-01-04/
END:VEVENT
BEGIN:VEVENT
DTSTART;TZID=America/New_York:20310111T093000
DTEND;TZID=America/New_York:20310111T103000
DTSTAMP:20260422T175903
CREATED:20250102T204104Z
LAST-MODIFIED:20250102T204104Z
UID:10001122-1925890200-1925893800@dev.piercelibrary.org
SUMMARY:Preschool Story Hour 2026
DESCRIPTION:
URL:https://dev.piercelibrary.org/event/preschool-story-hour-2025/2031-01-11/
END:VEVENT
BEGIN:VEVENT
DTSTART;TZID=America/New_York:20310114T163000
DTEND;TZID=America/New_York:20310114T173000
DTSTAMP:20260422T175903
CREATED:20250306T130604Z
LAST-MODIFIED:20250306T130604Z
UID:10001192-1926174600-1926178200@dev.piercelibrary.org
SUMMARY:Career Link
DESCRIPTION:Meets 2nd and 4th Tuesday of each month 4:30 – 5:30
URL:https://dev.piercelibrary.org/event/career-link/2031-01-14/
END:VEVENT
BEGIN:VEVENT
DTSTART;TZID=America/New_York:20310118T093000
DTEND;TZID=America/New_York:20310118T103000
DTSTAMP:20260422T175903
CREATED:20250102T204104Z
LAST-MODIFIED:20250102T204104Z
UID:10001123-1926495000-1926498600@dev.piercelibrary.org
SUMMARY:Preschool Story Hour 2026
DESCRIPTION:
URL:https://dev.piercelibrary.org/event/preschool-story-hour-2025/2031-01-18/
END:VEVENT
BEGIN:VEVENT
DTSTART;TZID=America/New_York:20310125T093000
DTEND;TZID=America/New_York:20310125T103000
DTSTAMP:20260422T175903
CREATED:20250102T204104Z
LAST-MODIFIED:20250102T204104Z
UID:10001124-1927099800-1927103400@dev.piercelibrary.org
SUMMARY:Preschool Story Hour 2026
DESCRIPTION:
URL:https://dev.piercelibrary.org/event/preschool-story-hour-2025/2031-01-25/
END:VEVENT
BEGIN:VEVENT
DTSTART;TZID=America/New_York:20310201T093000
DTEND;TZID=America/New_York:20310201T103000
DTSTAMP:20260422T175903
CREATED:20250102T204104Z
LAST-MODIFIED:20250102T204104Z
UID:10001125-1927704600-1927708200@dev.piercelibrary.org
SUMMARY:Preschool Story Hour 2026
DESCRIPTION:
URL:https://dev.piercelibrary.org/event/preschool-story-hour-2025/2031-02-01/
END:VEVENT
BEGIN:VEVENT
DTSTART;TZID=America/New_York:20310208T093000
DTEND;TZID=America/New_York:20310208T103000
DTSTAMP:20260422T175903
CREATED:20250102T204104Z
LAST-MODIFIED:20250102T204104Z
UID:10001126-1928309400-1928313000@dev.piercelibrary.org
SUMMARY:Preschool Story Hour 2026
DESCRIPTION:
URL:https://dev.piercelibrary.org/event/preschool-story-hour-2025/2031-02-08/
END:VEVENT
BEGIN:VEVENT
DTSTART;TZID=America/New_York:20310211T163000
DTEND;TZID=America/New_York:20310211T173000
DTSTAMP:20260422T175903
CREATED:20250306T130604Z
LAST-MODIFIED:20250306T130604Z
UID:10001193-1928593800-1928597400@dev.piercelibrary.org
SUMMARY:Career Link
DESCRIPTION:Meets 2nd and 4th Tuesday of each month 4:30 – 5:30
URL:https://dev.piercelibrary.org/event/career-link/2031-02-11/
END:VEVENT
BEGIN:VEVENT
DTSTART;TZID=America/New_York:20310215T093000
DTEND;TZID=America/New_York:20310215T103000
DTSTAMP:20260422T175903
CREATED:20250102T204104Z
LAST-MODIFIED:20250102T204104Z
UID:10001127-1928914200-1928917800@dev.piercelibrary.org
SUMMARY:Preschool Story Hour 2026
DESCRIPTION:
URL:https://dev.piercelibrary.org/event/preschool-story-hour-2025/2031-02-15/
END:VEVENT
BEGIN:VEVENT
DTSTART;TZID=America/New_York:20310222T093000
DTEND;TZID=America/New_York:20310222T103000
DTSTAMP:20260422T175903
CREATED:20250102T204104Z
LAST-MODIFIED:20250102T204104Z
UID:10001128-1929519000-1929522600@dev.piercelibrary.org
SUMMARY:Preschool Story Hour 2026
DESCRIPTION:
URL:https://dev.piercelibrary.org/event/preschool-story-hour-2025/2031-02-22/
END:VEVENT
BEGIN:VEVENT
DTSTART;TZID=America/New_York:20310301T093000
DTEND;TZID=America/New_York:20310301T103000
DTSTAMP:20260422T175903
CREATED:20250102T204104Z
LAST-MODIFIED:20250102T204104Z
UID:10001129-1930123800-1930127400@dev.piercelibrary.org
SUMMARY:Preschool Story Hour 2026
DESCRIPTION:
URL:https://dev.piercelibrary.org/event/preschool-story-hour-2025/2031-03-01/
END:VEVENT
END:VCALENDAR