BEGIN:VCALENDAR
VERSION:2.0
PRODID:-//Allen F. Pierce Free Library - ECPv6.15.17//NONSGML v1.0//EN
CALSCALE:GREGORIAN
METHOD:PUBLISH
X-ORIGINAL-URL:https://dev.piercelibrary.org
X-WR-CALDESC:Events for Allen F. Pierce Free Library
REFRESH-INTERVAL;VALUE=DURATION:PT1H
X-Robots-Tag:noindex
X-PUBLISHED-TTL:PT1H
BEGIN:VTIMEZONE
TZID:UTC
BEGIN:STANDARD
TZOFFSETFROM:+0000
TZOFFSETTO:+0000
TZNAME:UTC
DTSTART:20250101T000000
END:STANDARD
END:VTIMEZONE
BEGIN:VTIMEZONE
TZID:America/New_York
BEGIN:DAYLIGHT
TZOFFSETFROM:-0500
TZOFFSETTO:-0400
TZNAME:EDT
DTSTART:20250309T070000
END:DAYLIGHT
BEGIN:STANDARD
TZOFFSETFROM:-0400
TZOFFSETTO:-0500
TZNAME:EST
DTSTART:20251102T060000
END:STANDARD
BEGIN:DAYLIGHT
TZOFFSETFROM:-0500
TZOFFSETTO:-0400
TZNAME:EDT
DTSTART:20260308T070000
END:DAYLIGHT
BEGIN:STANDARD
TZOFFSETFROM:-0400
TZOFFSETTO:-0500
TZNAME:EST
DTSTART:20261101T060000
END:STANDARD
BEGIN:DAYLIGHT
TZOFFSETFROM:-0500
TZOFFSETTO:-0400
TZNAME:EDT
DTSTART:20270314T070000
END:DAYLIGHT
BEGIN:STANDARD
TZOFFSETFROM:-0400
TZOFFSETTO:-0500
TZNAME:EST
DTSTART:20271107T060000
END:STANDARD
END:VTIMEZONE
BEGIN:VEVENT
DTSTART;TZID=UTC:20261013T190000
DTEND;TZID=UTC:20261013T200000
DTSTAMP:20260421T082732
CREATED:20230203T195552Z
LAST-MODIFIED:20230203T195552Z
UID:10004695-1791918000-1791921600@dev.piercelibrary.org
SUMMARY:Book Club
DESCRIPTION:Book Club\nmeets the 2nd Tuesday of each month at 7:00 \n 
URL:https://dev.piercelibrary.org/event/book-club-28-2025-11-11/2026-10-13/
END:VEVENT
BEGIN:VEVENT
DTSTART;TZID=UTC:20261013T190000
DTEND;TZID=UTC:20261013T200000
DTSTAMP:20260421T082732
CREATED:20230203T195552Z
LAST-MODIFIED:20230203T195552Z
UID:10002040-1791918000-1791921600@dev.piercelibrary.org
SUMMARY:Book Club
DESCRIPTION:Book Club\nmeets the 2nd Tuesday of each month at 7:00 \n 
URL:https://dev.piercelibrary.org/event/book-club-28-2024-03-12/2026-10-13/
END:VEVENT
BEGIN:VEVENT
DTSTART;TZID=UTC:20261013T190000
DTEND;TZID=UTC:20261013T200000
DTSTAMP:20260421T082732
CREATED:20230203T195552Z
LAST-MODIFIED:20230203T195552Z
UID:10004714-1791918000-1791921600@dev.piercelibrary.org
SUMMARY:Book Club
DESCRIPTION:Book Club\nmeets the 2nd Tuesday of each month at 7:00 \n 
URL:https://dev.piercelibrary.org/event/book-club-28-2025-11-11/2026-10-13/
END:VEVENT
BEGIN:VEVENT
DTSTART;TZID=UTC:20261013T190000
DTEND;TZID=UTC:20261013T200000
DTSTAMP:20260421T082732
CREATED:20230203T195552Z
LAST-MODIFIED:20230203T195552Z
UID:10002069-1791918000-1791921600@dev.piercelibrary.org
SUMMARY:Book Club
DESCRIPTION:Book Club\nmeets the 2nd Tuesday of each month at 7:00 \n 
URL:https://dev.piercelibrary.org/event/book-club-28-2024-03-12/2026-10-13/
END:VEVENT
BEGIN:VEVENT
DTSTART;TZID=UTC:20261013T190000
DTEND;TZID=UTC:20261013T200000
DTSTAMP:20260421T082732
CREATED:20230203T195552Z
LAST-MODIFIED:20230203T195552Z
UID:10004732-1791918000-1791921600@dev.piercelibrary.org
SUMMARY:Book Club
DESCRIPTION:Book Club\nmeets the 2nd Tuesday of each month at 7:00 \n 
URL:https://dev.piercelibrary.org/event/book-club-28-2025-11-11/2026-10-13/
END:VEVENT
BEGIN:VEVENT
DTSTART;TZID=UTC:20261013T190000
DTEND;TZID=UTC:20261013T200000
DTSTAMP:20260421T082732
CREATED:20230203T195552Z
LAST-MODIFIED:20230203T195552Z
UID:10002097-1791918000-1791921600@dev.piercelibrary.org
SUMMARY:Book Club
DESCRIPTION:Book Club\nmeets the 2nd Tuesday of each month at 7:00 \n 
URL:https://dev.piercelibrary.org/event/book-club-28-2024-03-12/2026-10-13/
END:VEVENT
BEGIN:VEVENT
DTSTART;TZID=UTC:20261013T190000
DTEND;TZID=UTC:20261013T200000
DTSTAMP:20260421T082732
CREATED:20230203T195552Z
LAST-MODIFIED:20230203T195552Z
UID:10004749-1791918000-1791921600@dev.piercelibrary.org
SUMMARY:Book Club
DESCRIPTION:Book Club\nmeets the 2nd Tuesday of each month at 7:00 \n 
URL:https://dev.piercelibrary.org/event/book-club-28-2025-11-11/2026-10-13/
END:VEVENT
BEGIN:VEVENT
DTSTART;TZID=UTC:20261013T190000
DTEND;TZID=UTC:20261013T200000
DTSTAMP:20260421T082732
CREATED:20230203T195552Z
LAST-MODIFIED:20230203T195552Z
UID:10002124-1791918000-1791921600@dev.piercelibrary.org
SUMMARY:Book Club
DESCRIPTION:Book Club\nmeets the 2nd Tuesday of each month at 7:00 \n 
URL:https://dev.piercelibrary.org/event/book-club-28-2024-03-12/2026-10-13/
END:VEVENT
BEGIN:VEVENT
DTSTART;TZID=UTC:20261013T190000
DTEND;TZID=UTC:20261013T200000
DTSTAMP:20260421T082732
CREATED:20230203T195552Z
LAST-MODIFIED:20230203T195552Z
UID:10004765-1791918000-1791921600@dev.piercelibrary.org
SUMMARY:Book Club
DESCRIPTION:Book Club\nmeets the 2nd Tuesday of each month at 7:00 \n 
URL:https://dev.piercelibrary.org/event/book-club-28-2025-11-11/2026-10-13/
END:VEVENT
BEGIN:VEVENT
DTSTART;TZID=UTC:20261013T190000
DTEND;TZID=UTC:20261013T200000
DTSTAMP:20260421T082732
CREATED:20230203T195552Z
LAST-MODIFIED:20230203T195552Z
UID:10002150-1791918000-1791921600@dev.piercelibrary.org
SUMMARY:Book Club
DESCRIPTION:Book Club\nmeets the 2nd Tuesday of each month at 7:00 \n 
URL:https://dev.piercelibrary.org/event/book-club-28-2024-03-12/2026-10-13/
END:VEVENT
BEGIN:VEVENT
DTSTART;TZID=UTC:20261013T190000
DTEND;TZID=UTC:20261013T200000
DTSTAMP:20260421T082732
CREATED:20230203T195552Z
LAST-MODIFIED:20230203T195552Z
UID:10002175-1791918000-1791921600@dev.piercelibrary.org
SUMMARY:Book Club
DESCRIPTION:Book Club\nmeets the 2nd Tuesday of each month at 7:00 \n 
URL:https://dev.piercelibrary.org/event/book-club-28-2024-03-12/2026-10-13/
END:VEVENT
BEGIN:VEVENT
DTSTART;TZID=UTC:20261013T190000
DTEND;TZID=UTC:20261013T200000
DTSTAMP:20260421T082732
CREATED:20230203T195552Z
LAST-MODIFIED:20230203T195552Z
UID:10002199-1791918000-1791921600@dev.piercelibrary.org
SUMMARY:Book Club
DESCRIPTION:Book Club\nmeets the 2nd Tuesday of each month at 7:00 \n 
URL:https://dev.piercelibrary.org/event/book-club-28-2024-03-12/2026-10-13/
END:VEVENT
BEGIN:VEVENT
DTSTART;TZID=UTC:20261013T190000
DTEND;TZID=UTC:20261013T200000
DTSTAMP:20260421T082732
CREATED:20230203T195552Z
LAST-MODIFIED:20230203T195552Z
UID:10002222-1791918000-1791921600@dev.piercelibrary.org
SUMMARY:Book Club
DESCRIPTION:Book Club\nmeets the 2nd Tuesday of each month at 7:00 \n 
URL:https://dev.piercelibrary.org/event/book-club-28-2024-03-12/2026-10-13/
END:VEVENT
BEGIN:VEVENT
DTSTART;TZID=UTC:20261013T190000
DTEND;TZID=UTC:20261013T200000
DTSTAMP:20260421T082732
CREATED:20230203T195552Z
LAST-MODIFIED:20230203T195552Z
UID:10002244-1791918000-1791921600@dev.piercelibrary.org
SUMMARY:Book Club
DESCRIPTION:Book Club\nmeets the 2nd Tuesday of each month at 7:00 \n 
URL:https://dev.piercelibrary.org/event/book-club-28-2024-03-12/2026-10-13/
END:VEVENT
BEGIN:VEVENT
DTSTART;TZID=UTC:20261013T190000
DTEND;TZID=UTC:20261013T200000
DTSTAMP:20260421T082732
CREATED:20230203T195552Z
LAST-MODIFIED:20230203T195552Z
UID:10002265-1791918000-1791921600@dev.piercelibrary.org
SUMMARY:Book Club
DESCRIPTION:Book Club\nmeets the 2nd Tuesday of each month at 7:00 \n 
URL:https://dev.piercelibrary.org/event/book-club-28-2024-03-12/2026-10-13/
END:VEVENT
BEGIN:VEVENT
DTSTART;TZID=UTC:20261013T190000
DTEND;TZID=UTC:20261013T200000
DTSTAMP:20260421T082732
CREATED:20230203T195552Z
LAST-MODIFIED:20230203T195552Z
UID:10002285-1791918000-1791921600@dev.piercelibrary.org
SUMMARY:Book Club
DESCRIPTION:Book Club\nmeets the 2nd Tuesday of each month at 7:00 \n 
URL:https://dev.piercelibrary.org/event/book-club-28-2024-03-12/2026-10-13/
END:VEVENT
BEGIN:VEVENT
DTSTART;TZID=UTC:20261013T190000
DTEND;TZID=UTC:20261013T200000
DTSTAMP:20260421T082732
CREATED:20230203T195552Z
LAST-MODIFIED:20230203T195552Z
UID:10002304-1791918000-1791921600@dev.piercelibrary.org
SUMMARY:Book Club
DESCRIPTION:Book Club\nmeets the 2nd Tuesday of each month at 7:00 \n 
URL:https://dev.piercelibrary.org/event/book-club-28-2024-03-12/2026-10-13/
END:VEVENT
BEGIN:VEVENT
DTSTART;TZID=UTC:20261013T190000
DTEND;TZID=UTC:20261013T200000
DTSTAMP:20260421T082732
CREATED:20230203T195552Z
LAST-MODIFIED:20230203T195552Z
UID:10002322-1791918000-1791921600@dev.piercelibrary.org
SUMMARY:Book Club
DESCRIPTION:Book Club\nmeets the 2nd Tuesday of each month at 7:00 \n 
URL:https://dev.piercelibrary.org/event/book-club-28-2024-03-12/2026-10-13/
END:VEVENT
BEGIN:VEVENT
DTSTART;TZID=UTC:20261013T190000
DTEND;TZID=UTC:20261013T200000
DTSTAMP:20260421T082732
CREATED:20230203T195552Z
LAST-MODIFIED:20230203T195552Z
UID:10002339-1791918000-1791921600@dev.piercelibrary.org
SUMMARY:Book Club
DESCRIPTION:Book Club\nmeets the 2nd Tuesday of each month at 7:00 \n 
URL:https://dev.piercelibrary.org/event/book-club-28-2024-03-12/2026-10-13/
END:VEVENT
BEGIN:VEVENT
DTSTART;TZID=UTC:20261013T190000
DTEND;TZID=UTC:20261013T200000
DTSTAMP:20260421T082732
CREATED:20230203T195552Z
LAST-MODIFIED:20230203T195552Z
UID:10002355-1791918000-1791921600@dev.piercelibrary.org
SUMMARY:Book Club
DESCRIPTION:Book Club\nmeets the 2nd Tuesday of each month at 7:00 \n 
URL:https://dev.piercelibrary.org/event/book-club-28-2024-03-12/2026-10-13/
END:VEVENT
BEGIN:VEVENT
DTSTART;TZID=UTC:20261013T190000
DTEND;TZID=UTC:20261013T210000
DTSTAMP:20260421T082732
CREATED:20250306T131653Z
LAST-MODIFIED:20250306T131653Z
UID:10001204-1791918000-1791925200@dev.piercelibrary.org
SUMMARY:Book Club
DESCRIPTION:Book Club\nmeets the 2nd Tuesday of each month at 7:00 \n 
URL:https://dev.piercelibrary.org/event/book-club-28-2/2026-10-13/
END:VEVENT
BEGIN:VEVENT
DTSTART;TZID=America/New_York:20261014T130000
DTEND;TZID=America/New_York:20261014T143000
DTSTAMP:20260421T082732
CREATED:20260216T153818Z
LAST-MODIFIED:20260216T153818Z
UID:10001289-1791982800-1791988200@dev.piercelibrary.org
SUMMARY:SUMMER READING 2026 - "Unearth a Story"
DESCRIPTION:This year’s summer reading theme is “Unearth a Story”\, maybe dinosaurs\, mythical creatures\, history\, earth moving equipment?\nCome check it out  Wednesdays 1:00 – 2:30 starting June 10th through July 22nd.
URL:https://dev.piercelibrary.org/event/summer-reading-2026-unearth-a-story/2026-10-14/
END:VEVENT
BEGIN:VEVENT
DTSTART;TZID=America/New_York:20261017T093000
DTEND;TZID=America/New_York:20261017T103000
DTSTAMP:20260421T082732
CREATED:20250102T204104Z
LAST-MODIFIED:20250102T204104Z
UID:10000901-1792229400-1792233000@dev.piercelibrary.org
SUMMARY:Preschool Story Hour 2026
DESCRIPTION:
URL:https://dev.piercelibrary.org/event/preschool-story-hour-2025/2026-10-17/
END:VEVENT
BEGIN:VEVENT
DTSTART;TZID=America/New_York:20261021T130000
DTEND;TZID=America/New_York:20261021T143000
DTSTAMP:20260421T082732
CREATED:20260216T153818Z
LAST-MODIFIED:20260216T153818Z
UID:10001290-1792587600-1792593000@dev.piercelibrary.org
SUMMARY:SUMMER READING 2026 - "Unearth a Story"
DESCRIPTION:This year’s summer reading theme is “Unearth a Story”\, maybe dinosaurs\, mythical creatures\, history\, earth moving equipment?\nCome check it out  Wednesdays 1:00 – 2:30 starting June 10th through July 22nd.
URL:https://dev.piercelibrary.org/event/summer-reading-2026-unearth-a-story/2026-10-21/
END:VEVENT
BEGIN:VEVENT
DTSTART;TZID=America/New_York:20261021T151500
DTEND;TZID=America/New_York:20261021T163000
DTSTAMP:20260421T082732
CREATED:20250918T174002Z
LAST-MODIFIED:20250918T174002Z
UID:10001229-1792595700-1792600200@dev.piercelibrary.org
SUMMARY:STEM 2025-2026
DESCRIPTION:STEM – Science\, Technology\, Engineering\, and Mathematics \n3rd Wednesday of each month (September through May) at 3:15 until 4:30 \nOctober 15\, November 19\, NONE in December\, January 21\, February 18\, March 18\, April 15\, May 20
URL:https://dev.piercelibrary.org/event/stem-2025-2026/2026-10-21/
END:VEVENT
BEGIN:VEVENT
DTSTART;TZID=America/New_York:20261024T093000
DTEND;TZID=America/New_York:20261024T103000
DTSTAMP:20260421T082732
CREATED:20250102T204104Z
LAST-MODIFIED:20250102T204104Z
UID:10000902-1792834200-1792837800@dev.piercelibrary.org
SUMMARY:Preschool Story Hour 2026
DESCRIPTION:
URL:https://dev.piercelibrary.org/event/preschool-story-hour-2025/2026-10-24/
END:VEVENT
BEGIN:VEVENT
DTSTART;TZID=America/New_York:20261028T130000
DTEND;TZID=America/New_York:20261028T143000
DTSTAMP:20260421T082732
CREATED:20260216T153818Z
LAST-MODIFIED:20260216T153818Z
UID:10001291-1793192400-1793197800@dev.piercelibrary.org
SUMMARY:SUMMER READING 2026 - "Unearth a Story"
DESCRIPTION:This year’s summer reading theme is “Unearth a Story”\, maybe dinosaurs\, mythical creatures\, history\, earth moving equipment?\nCome check it out  Wednesdays 1:00 – 2:30 starting June 10th through July 22nd.
URL:https://dev.piercelibrary.org/event/summer-reading-2026-unearth-a-story/2026-10-28/
END:VEVENT
BEGIN:VEVENT
DTSTART;TZID=America/New_York:20261031T093000
DTEND;TZID=America/New_York:20261031T103000
DTSTAMP:20260421T082732
CREATED:20250102T204104Z
LAST-MODIFIED:20250102T204104Z
UID:10000903-1793439000-1793442600@dev.piercelibrary.org
SUMMARY:Preschool Story Hour 2026
DESCRIPTION:
URL:https://dev.piercelibrary.org/event/preschool-story-hour-2025/2026-10-31/
END:VEVENT
BEGIN:VEVENT
DTSTART;TZID=America/New_York:20261104T130000
DTEND;TZID=America/New_York:20261104T143000
DTSTAMP:20260421T082732
CREATED:20260216T153818Z
LAST-MODIFIED:20260216T153818Z
UID:10001292-1793797200-1793802600@dev.piercelibrary.org
SUMMARY:SUMMER READING 2026 - "Unearth a Story"
DESCRIPTION:This year’s summer reading theme is “Unearth a Story”\, maybe dinosaurs\, mythical creatures\, history\, earth moving equipment?\nCome check it out  Wednesdays 1:00 – 2:30 starting June 10th through July 22nd.
URL:https://dev.piercelibrary.org/event/summer-reading-2026-unearth-a-story/2026-11-04/
END:VEVENT
BEGIN:VEVENT
DTSTART;TZID=America/New_York:20261105T103000
DTEND;TZID=America/New_York:20261105T120000
DTSTAMP:20260421T082732
CREATED:20250918T174201Z
LAST-MODIFIED:20250918T174201Z
UID:10001246-1793874600-1793880000@dev.piercelibrary.org
SUMMARY:Board Meeting
DESCRIPTION:First Thursday of each month from 10:30 to noon.
URL:https://dev.piercelibrary.org/event/board-meeting-28-2/2026-11-05/
END:VEVENT
END:VCALENDAR