BEGIN:VCALENDAR
VERSION:2.0
PRODID:-//Allen F. Pierce Free Library - ECPv6.15.17//NONSGML v1.0//EN
CALSCALE:GREGORIAN
METHOD:PUBLISH
X-WR-CALNAME:Allen F. Pierce Free Library
X-ORIGINAL-URL:https://dev.piercelibrary.org
X-WR-CALDESC:Events for Allen F. Pierce Free Library
REFRESH-INTERVAL;VALUE=DURATION:PT1H
X-Robots-Tag:noindex
X-PUBLISHED-TTL:PT1H
BEGIN:VTIMEZONE
TZID:UTC
BEGIN:STANDARD
TZOFFSETFROM:+0000
TZOFFSETTO:+0000
TZNAME:UTC
DTSTART:20220101T000000
END:STANDARD
END:VTIMEZONE
BEGIN:VEVENT
DTSTART;TZID=UTC:20240323T100000
DTEND;TZID=UTC:20240323T140000
DTSTAMP:20260419T212848
CREATED:20231211T175905Z
LAST-MODIFIED:20231211T175905Z
UID:10000055-1711188000-1711202400@dev.piercelibrary.org
SUMMARY:PUZZLES - Special Activity Together
DESCRIPTION:On the 4th Saturday of the month from January through April\, we will put puzzles together from 10:00 – 2:00.\nThere are LOTS of puzzles in the library for all ages\, or bring your own.   Stop in and do your “piece”.
URL:https://dev.piercelibrary.org/event/puzzles-special-activity-together-2024-02-24/2024-03-23/
END:VEVENT
BEGIN:VEVENT
DTSTART;TZID=UTC:20240323T100000
DTEND;TZID=UTC:20240323T140000
DTSTAMP:20260419T212848
CREATED:20231211T175905Z
LAST-MODIFIED:20231211T175905Z
UID:10000057-1711188000-1711202400@dev.piercelibrary.org
SUMMARY:PUZZLES - Special Activity Together
DESCRIPTION:On the 4th Saturday of the month from January through April\, we will put puzzles together from 10:00 – 2:00.\nThere are LOTS of puzzles in the library for all ages\, or bring your own.   Stop in and do your “piece”.
URL:https://dev.piercelibrary.org/event/puzzles-special-activity-together-2024-03-23/2024-03-23/
END:VEVENT
BEGIN:VEVENT
DTSTART;TZID=UTC:20240323T100000
DTEND;TZID=UTC:20240323T140000
DTSTAMP:20260419T212848
CREATED:20231211T175040Z
LAST-MODIFIED:20231211T175040Z
UID:10000029-1711188000-1711202400@dev.piercelibrary.org
SUMMARY:Game Day - Special Activity Together
DESCRIPTION:Join us on the first Saturday of each month (January through April) to play games!\n10:00 – 2:00\nThere are lots of games IN the library or bring your own.
URL:https://dev.piercelibrary.org/event/game-day-special-activity-together-2024-03-02/2024-03-23/
END:VEVENT
BEGIN:VEVENT
DTSTART;TZID=UTC:20240320T150000
DTEND;TZID=UTC:20240320T163000
DTSTAMP:20260419T212848
CREATED:20231018T132750Z
LAST-MODIFIED:20231018T132750Z
UID:10000017-1710946800-1710952200@dev.piercelibrary.org
SUMMARY:STEM Wednesday
DESCRIPTION:November – Make a ship from Legos that floats\, how much cargo can it hold?\nDecember – No STEM\, it’s Christmas\nJanuary – create a zip line for a marshmallow snowperson\nFebruary – How does your heart work?\nMarch –\nApril –\nMay – \n 
URL:https://dev.piercelibrary.org/event/stem-wednesday-2024-03-20/2024-03-20/
END:VEVENT
BEGIN:VEVENT
DTSTART;TZID=UTC:20240320T150000
DTEND;TZID=UTC:20240320T163000
DTSTAMP:20260419T212848
CREATED:20231018T132750Z
LAST-MODIFIED:20231018T132750Z
UID:10000011-1710946800-1710952200@dev.piercelibrary.org
SUMMARY:STEM Wednesday
DESCRIPTION:November – Make a ship from Legos that floats\, how much cargo can it hold?\nDecember – No STEM\, it’s Christmas\nJanuary – create a zip line for a marshmallow snowperson\nFebruary – How does your heart work?\nMarch –\nApril –\nMay – \n 
URL:https://dev.piercelibrary.org/event/stem-wednesday-2024-01-17/2024-03-20/
END:VEVENT
BEGIN:VEVENT
DTSTART;TZID=UTC:20240320T150000
DTEND;TZID=UTC:20240320T163000
DTSTAMP:20260419T212848
CREATED:20231018T132750Z
LAST-MODIFIED:20231018T132750Z
UID:10000014-1710946800-1710952200@dev.piercelibrary.org
SUMMARY:STEM Wednesday
DESCRIPTION:November – Make a ship from Legos that floats\, how much cargo can it hold?\nDecember – No STEM\, it’s Christmas\nJanuary – create a zip line for a marshmallow snowperson\nFebruary – How does your heart work?\nMarch –\nApril –\nMay – \n 
URL:https://dev.piercelibrary.org/event/stem-wednesday-2024-02-21/2024-03-20/
END:VEVENT
BEGIN:VEVENT
DTSTART;TZID=UTC:20240316T130000
DTEND;TZID=UTC:20240316T143000
DTSTAMP:20260419T212848
CREATED:20231211T175644Z
LAST-MODIFIED:20231211T175644Z
UID:10000040-1710594000-1710599400@dev.piercelibrary.org
SUMMARY:STEM - Special Activity Together
DESCRIPTION:On the 3rd Saturday of each month from January through May is STEM Saturday from 1:00 – 2:30 (best for 3rd grade to 8th grade age children) \nJanuary – Build a zipline basket for your snowman\nFebruary – Learn about your heart
URL:https://dev.piercelibrary.org/event/stem-special-activity-together-2024-02-17/2024-03-16/
END:VEVENT
BEGIN:VEVENT
DTSTART;TZID=UTC:20240316T130000
DTEND;TZID=UTC:20240316T143000
DTSTAMP:20260419T212848
CREATED:20231211T175644Z
LAST-MODIFIED:20231211T175644Z
UID:10000043-1710594000-1710599400@dev.piercelibrary.org
SUMMARY:STEM - Special Activity Together
DESCRIPTION:On the 3rd Saturday of each month from January through May is STEM Saturday from 1:00 – 2:30 (best for 3rd grade to 8th grade age children) \nJanuary – Build a zipline basket for your snowman\nFebruary – Learn about your heart
URL:https://dev.piercelibrary.org/event/stem-special-activity-together-2024-03-16/2024-03-16/
END:VEVENT
BEGIN:VEVENT
DTSTART;TZID=UTC:20240316T100000
DTEND;TZID=UTC:20240316T140000
DTSTAMP:20260419T212848
CREATED:20231211T175040Z
LAST-MODIFIED:20231211T175040Z
UID:10000028-1710583200-1710597600@dev.piercelibrary.org
SUMMARY:Game Day - Special Activity Together
DESCRIPTION:Join us on the first Saturday of each month (January through April) to play games!\n10:00 – 2:00\nThere are lots of games IN the library or bring your own.
URL:https://dev.piercelibrary.org/event/game-day-special-activity-together-2024-03-02/2024-03-16/
END:VEVENT
BEGIN:VEVENT
DTSTART;TZID=UTC:20240312T190000
DTEND;TZID=UTC:20240312T200000
DTSTAMP:20260419T212848
CREATED:20230203T195552Z
LAST-MODIFIED:20230203T195552Z
UID:10000081-1710270000-1710273600@dev.piercelibrary.org
SUMMARY:Book Club
DESCRIPTION:Book Club\nmeets the 2nd Tuesday of each month at 7:00 \n 
URL:https://dev.piercelibrary.org/event/book-club-28-2024-02-13/2024-03-12/
END:VEVENT
BEGIN:VEVENT
DTSTART;TZID=UTC:20240312T190000
DTEND;TZID=UTC:20240312T200000
DTSTAMP:20260419T212848
CREATED:20230203T195552Z
LAST-MODIFIED:20230203T195552Z
UID:10000127-1710270000-1710273600@dev.piercelibrary.org
SUMMARY:Book Club
DESCRIPTION:Book Club\nmeets the 2nd Tuesday of each month at 7:00 \n 
URL:https://dev.piercelibrary.org/event/book-club-28-2024-03-12/2024-03-12/
END:VEVENT
BEGIN:VEVENT
DTSTART;TZID=UTC:20240309T100000
DTEND;TZID=UTC:20240309T140000
DTSTAMP:20260419T212848
CREATED:20231211T175400Z
LAST-MODIFIED:20231211T175400Z
UID:10000033-1709978400-1709992800@dev.piercelibrary.org
SUMMARY:MOVIE day - Special Activity Together
DESCRIPTION:The second Saturday of each month from January through April is MOVIE DAY! \nJanuary from 10:00 to 2:00 is the Flintstones Marathon.   Stop in any time for an episode or a few. \nFebruary from 1:00 to 3:00:   “Because of Winn Dixie”.   We’ll have some popcorn.
URL:https://dev.piercelibrary.org/event/movie-day-special-activity-together-2024-02-10/2024-03-09/
END:VEVENT
BEGIN:VEVENT
DTSTART;TZID=UTC:20240309T100000
DTEND;TZID=UTC:20240309T140000
DTSTAMP:20260419T212848
CREATED:20231211T175400Z
LAST-MODIFIED:20231211T175400Z
UID:10000035-1709978400-1709992800@dev.piercelibrary.org
SUMMARY:MOVIE day - Special Activity Together
DESCRIPTION:The second Saturday of each month from January through April is MOVIE DAY! \nJanuary from 10:00 to 2:00 is the Flintstones Marathon.   Stop in any time for an episode or a few. \nFebruary from 1:00 to 3:00:   “Because of Winn Dixie”.   We’ll have some popcorn.
URL:https://dev.piercelibrary.org/event/movie-day-special-activity-together-2024-03-09/2024-03-09/
END:VEVENT
BEGIN:VEVENT
DTSTART;TZID=UTC:20240309T100000
DTEND;TZID=UTC:20240309T140000
DTSTAMP:20260419T212848
CREATED:20231211T175040Z
LAST-MODIFIED:20231211T175040Z
UID:10000027-1709978400-1709992800@dev.piercelibrary.org
SUMMARY:Game Day - Special Activity Together
DESCRIPTION:Join us on the first Saturday of each month (January through April) to play games!\n10:00 – 2:00\nThere are lots of games IN the library or bring your own.
URL:https://dev.piercelibrary.org/event/game-day-special-activity-together-2024-03-02/2024-03-09/
END:VEVENT
BEGIN:VEVENT
DTSTART;TZID=UTC:20240302T100000
DTEND;TZID=UTC:20240302T140000
DTSTAMP:20260419T212848
CREATED:20231211T175040Z
LAST-MODIFIED:20231211T175040Z
UID:10000024-1709373600-1709388000@dev.piercelibrary.org
SUMMARY:Game Day - Special Activity Together
DESCRIPTION:Join us on the first Saturday of each month (January through April) to play games!\n10:00 – 2:00\nThere are lots of games IN the library or bring your own.
URL:https://dev.piercelibrary.org/event/game-day-special-activity-together-2024-02-03/2024-03-02/
END:VEVENT
BEGIN:VEVENT
DTSTART;TZID=UTC:20240302T100000
DTEND;TZID=UTC:20240302T140000
DTSTAMP:20260419T212848
CREATED:20231211T175040Z
LAST-MODIFIED:20231211T175040Z
UID:10000026-1709373600-1709388000@dev.piercelibrary.org
SUMMARY:Game Day - Special Activity Together
DESCRIPTION:Join us on the first Saturday of each month (January through April) to play games!\n10:00 – 2:00\nThere are lots of games IN the library or bring your own.
URL:https://dev.piercelibrary.org/event/game-day-special-activity-together-2024-03-02/2024-03-02/
END:VEVENT
BEGIN:VEVENT
DTSTART;TZID=UTC:20240224T100000
DTEND;TZID=UTC:20240224T140000
DTSTAMP:20260419T212848
CREATED:20231211T175905Z
LAST-MODIFIED:20231211T175905Z
UID:10000054-1708768800-1708783200@dev.piercelibrary.org
SUMMARY:PUZZLES - Special Activity Together
DESCRIPTION:On the 4th Saturday of the month from January through April\, we will put puzzles together from 10:00 – 2:00.\nThere are LOTS of puzzles in the library for all ages\, or bring your own.   Stop in and do your “piece”.
URL:https://dev.piercelibrary.org/event/puzzles-special-activity-together-2024-02-24/2024-02-24/
END:VEVENT
BEGIN:VEVENT
DTSTART;TZID=UTC:20240221T150000
DTEND;TZID=UTC:20240221T163000
DTSTAMP:20260419T212848
CREATED:20231018T132750Z
LAST-MODIFIED:20231018T132750Z
UID:10000010-1708527600-1708533000@dev.piercelibrary.org
SUMMARY:STEM Wednesday
DESCRIPTION:November – Make a ship from Legos that floats\, how much cargo can it hold?\nDecember – No STEM\, it’s Christmas\nJanuary – create a zip line for a marshmallow snowperson\nFebruary – How does your heart work?\nMarch –\nApril –\nMay – \n 
URL:https://dev.piercelibrary.org/event/stem-wednesday-2024-01-17/2024-02-21/
END:VEVENT
BEGIN:VEVENT
DTSTART;TZID=UTC:20240221T150000
DTEND;TZID=UTC:20240221T163000
DTSTAMP:20260419T212848
CREATED:20231018T132750Z
LAST-MODIFIED:20231018T132750Z
UID:10000013-1708527600-1708533000@dev.piercelibrary.org
SUMMARY:STEM Wednesday
DESCRIPTION:November – Make a ship from Legos that floats\, how much cargo can it hold?\nDecember – No STEM\, it’s Christmas\nJanuary – create a zip line for a marshmallow snowperson\nFebruary – How does your heart work?\nMarch –\nApril –\nMay – \n 
URL:https://dev.piercelibrary.org/event/stem-wednesday-2024-02-21/2024-02-21/
END:VEVENT
BEGIN:VEVENT
DTSTART;TZID=UTC:20240217T130000
DTEND;TZID=UTC:20240217T143000
DTSTAMP:20260419T212848
CREATED:20231211T175644Z
LAST-MODIFIED:20231211T175644Z
UID:10000039-1708174800-1708180200@dev.piercelibrary.org
SUMMARY:STEM - Special Activity Together
DESCRIPTION:On the 3rd Saturday of each month from January through May is STEM Saturday from 1:00 – 2:30 (best for 3rd grade to 8th grade age children) \nJanuary – Build a zipline basket for your snowman\nFebruary – Learn about your heart
URL:https://dev.piercelibrary.org/event/stem-special-activity-together-2024-02-17/2024-02-17/
END:VEVENT
BEGIN:VEVENT
DTSTART;TZID=UTC:20240213T190000
DTEND;TZID=UTC:20240213T200000
DTSTAMP:20260419T212848
CREATED:20230203T195552Z
LAST-MODIFIED:20230203T195552Z
UID:10000080-1707850800-1707854400@dev.piercelibrary.org
SUMMARY:Book Club
DESCRIPTION:Book Club\nmeets the 2nd Tuesday of each month at 7:00 \n 
URL:https://dev.piercelibrary.org/event/book-club-28-2024-02-13/2024-02-13/
END:VEVENT
BEGIN:VEVENT
DTSTART;TZID=UTC:20240210T100000
DTEND;TZID=UTC:20240210T140000
DTSTAMP:20260419T212848
CREATED:20231211T175400Z
LAST-MODIFIED:20231211T175400Z
UID:10000032-1707559200-1707573600@dev.piercelibrary.org
SUMMARY:MOVIE day - Special Activity Together
DESCRIPTION:The second Saturday of each month from January through April is MOVIE DAY! \nJanuary from 10:00 to 2:00 is the Flintstones Marathon.   Stop in any time for an episode or a few. \nFebruary from 1:00 to 3:00:   “Because of Winn Dixie”.   We’ll have some popcorn.
URL:https://dev.piercelibrary.org/event/movie-day-special-activity-together-2024-02-10/2024-02-10/
END:VEVENT
BEGIN:VEVENT
DTSTART;TZID=UTC:20240203T100000
DTEND;TZID=UTC:20240203T140000
DTSTAMP:20260419T212848
CREATED:20231211T175040Z
LAST-MODIFIED:20231211T175040Z
UID:10000023-1706954400-1706968800@dev.piercelibrary.org
SUMMARY:Game Day - Special Activity Together
DESCRIPTION:Join us on the first Saturday of each month (January through April) to play games!\n10:00 – 2:00\nThere are lots of games IN the library or bring your own.
URL:https://dev.piercelibrary.org/event/game-day-special-activity-together-2024-02-03/2024-02-03/
END:VEVENT
BEGIN:VEVENT
DTSTART;TZID=UTC:20240117T150000
DTEND;TZID=UTC:20240117T163000
DTSTAMP:20260419T212848
CREATED:20231018T132750Z
LAST-MODIFIED:20231018T132750Z
UID:10000009-1705503600-1705509000@dev.piercelibrary.org
SUMMARY:STEM Wednesday
DESCRIPTION:November – Make a ship from Legos that floats\, how much cargo can it hold?\nDecember – No STEM\, it’s Christmas\nJanuary – create a zip line for a marshmallow snowperson\nFebruary – How does your heart work?\nMarch –\nApril –\nMay – \n 
URL:https://dev.piercelibrary.org/event/stem-wednesday-2024-01-17/2024-01-17/
END:VEVENT
BEGIN:VEVENT
DTSTART;TZID=UTC:20231212T140000
DTEND;TZID=UTC:20231212T150000
DTSTAMP:20260419T212848
CREATED:20230321T223807Z
LAST-MODIFIED:20230321T223807Z
UID:10000008-1702389600-1702393200@dev.piercelibrary.org
SUMMARY:Bradford County Library Bookmobile visit
DESCRIPTION:In 2023\, the Bradford County Library bookmobile will be at the Allen F. Pierce library at 2:00 on: \nApril 18 \nJune 13 \nAugust 22 \nOctober 17 \nDecember 12
URL:https://dev.piercelibrary.org/event/bradford-county-library-bookmobile-visit-2023-12-12/2023-12-12/
END:VEVENT
BEGIN:VEVENT
DTSTART;TZID=UTC:20231017T140000
DTEND;TZID=UTC:20231017T150000
DTSTAMP:20260419T212848
CREATED:20230321T223807Z
LAST-MODIFIED:20230321T223807Z
UID:10000007-1697551200-1697554800@dev.piercelibrary.org
SUMMARY:Bradford County Library Bookmobile visit
DESCRIPTION:In 2023\, the Bradford County Library bookmobile will be at the Allen F. Pierce library at 2:00 on: \nApril 18 \nJune 13 \nAugust 22 \nOctober 17 \nDecember 12
URL:https://dev.piercelibrary.org/event/bradford-county-library-bookmobile-visit-2023-12-12/2023-10-17/
END:VEVENT
BEGIN:VEVENT
DTSTART;TZID=UTC:20230822T140000
DTEND;TZID=UTC:20230822T150000
DTSTAMP:20260419T212848
CREATED:20230321T223807Z
LAST-MODIFIED:20230321T223807Z
UID:10000006-1692712800-1692716400@dev.piercelibrary.org
SUMMARY:Bradford County Library Bookmobile visit
DESCRIPTION:In 2023\, the Bradford County Library bookmobile will be at the Allen F. Pierce library at 2:00 on: \nApril 18 \nJune 13 \nAugust 22 \nOctober 17 \nDecember 12
URL:https://dev.piercelibrary.org/event/bradford-county-library-bookmobile-visit-2023-12-12/2023-08-22/
END:VEVENT
BEGIN:VEVENT
DTSTART;TZID=UTC:20230613T140000
DTEND;TZID=UTC:20230613T150000
DTSTAMP:20260419T212848
CREATED:20230321T223807Z
LAST-MODIFIED:20230321T223807Z
UID:10000005-1686664800-1686668400@dev.piercelibrary.org
SUMMARY:Bradford County Library Bookmobile visit
DESCRIPTION:In 2023\, the Bradford County Library bookmobile will be at the Allen F. Pierce library at 2:00 on: \nApril 18 \nJune 13 \nAugust 22 \nOctober 17 \nDecember 12
URL:https://dev.piercelibrary.org/event/bradford-county-library-bookmobile-visit-2023-12-12/2023-06-13/
END:VEVENT
END:VCALENDAR