BEGIN:VCALENDAR
VERSION:2.0
PRODID:-//Allen F. Pierce Free Library - ECPv6.15.17//NONSGML v1.0//EN
CALSCALE:GREGORIAN
METHOD:PUBLISH
X-WR-CALNAME:Allen F. Pierce Free Library
X-ORIGINAL-URL:https://dev.piercelibrary.org
X-WR-CALDESC:Events for Allen F. Pierce Free Library
REFRESH-INTERVAL;VALUE=DURATION:PT1H
X-Robots-Tag:noindex
X-PUBLISHED-TTL:PT1H
BEGIN:VTIMEZONE
TZID:America/New_York
BEGIN:DAYLIGHT
TZOFFSETFROM:-0500
TZOFFSETTO:-0400
TZNAME:EDT
DTSTART:20260308T070000
END:DAYLIGHT
BEGIN:STANDARD
TZOFFSETFROM:-0400
TZOFFSETTO:-0500
TZNAME:EST
DTSTART:20261101T060000
END:STANDARD
BEGIN:DAYLIGHT
TZOFFSETFROM:-0500
TZOFFSETTO:-0400
TZNAME:EDT
DTSTART:20270314T070000
END:DAYLIGHT
BEGIN:STANDARD
TZOFFSETFROM:-0400
TZOFFSETTO:-0500
TZNAME:EST
DTSTART:20271107T060000
END:STANDARD
BEGIN:DAYLIGHT
TZOFFSETFROM:-0500
TZOFFSETTO:-0400
TZNAME:EDT
DTSTART:20280312T070000
END:DAYLIGHT
BEGIN:STANDARD
TZOFFSETFROM:-0400
TZOFFSETTO:-0500
TZNAME:EST
DTSTART:20281105T060000
END:STANDARD
END:VTIMEZONE
BEGIN:VTIMEZONE
TZID:UTC
BEGIN:STANDARD
TZOFFSETFROM:+0000
TZOFFSETTO:+0000
TZNAME:UTC
DTSTART:20260101T000000
END:STANDARD
END:VTIMEZONE
BEGIN:VEVENT
DTSTART;TZID=America/New_York:20270630T130000
DTEND;TZID=America/New_York:20270630T143000
DTSTAMP:20260421T062151
CREATED:20260216T153818Z
LAST-MODIFIED:20260216T153818Z
UID:10001326-1814360400-1814365800@dev.piercelibrary.org
SUMMARY:SUMMER READING 2026 - "Unearth a Story"
DESCRIPTION:This year’s summer reading theme is “Unearth a Story”\, maybe dinosaurs\, mythical creatures\, history\, earth moving equipment?\nCome check it out  Wednesdays 1:00 – 2:30 starting June 10th through July 22nd.
URL:https://dev.piercelibrary.org/event/summer-reading-2026-unearth-a-story/2027-06-30/
END:VEVENT
BEGIN:VEVENT
DTSTART;TZID=America/New_York:20270626T093000
DTEND;TZID=America/New_York:20270626T103000
DTSTAMP:20260421T062151
CREATED:20250102T204104Z
LAST-MODIFIED:20250102T204104Z
UID:10000937-1814002200-1814005800@dev.piercelibrary.org
SUMMARY:Preschool Story Hour 2026
DESCRIPTION:
URL:https://dev.piercelibrary.org/event/preschool-story-hour-2025/2027-06-26/
END:VEVENT
BEGIN:VEVENT
DTSTART;TZID=America/New_York:20270623T130000
DTEND;TZID=America/New_York:20270623T143000
DTSTAMP:20260421T062151
CREATED:20260216T153818Z
LAST-MODIFIED:20260216T153818Z
UID:10001325-1813755600-1813761000@dev.piercelibrary.org
SUMMARY:SUMMER READING 2026 - "Unearth a Story"
DESCRIPTION:This year’s summer reading theme is “Unearth a Story”\, maybe dinosaurs\, mythical creatures\, history\, earth moving equipment?\nCome check it out  Wednesdays 1:00 – 2:30 starting June 10th through July 22nd.
URL:https://dev.piercelibrary.org/event/summer-reading-2026-unearth-a-story/2027-06-23/
END:VEVENT
BEGIN:VEVENT
DTSTART;TZID=America/New_York:20270619T093000
DTEND;TZID=America/New_York:20270619T103000
DTSTAMP:20260421T062151
CREATED:20250102T204104Z
LAST-MODIFIED:20250102T204104Z
UID:10000936-1813397400-1813401000@dev.piercelibrary.org
SUMMARY:Preschool Story Hour 2026
DESCRIPTION:
URL:https://dev.piercelibrary.org/event/preschool-story-hour-2025/2027-06-19/
END:VEVENT
BEGIN:VEVENT
DTSTART;TZID=America/New_York:20270616T130000
DTEND;TZID=America/New_York:20270616T143000
DTSTAMP:20260421T062151
CREATED:20260216T153818Z
LAST-MODIFIED:20260216T153818Z
UID:10001324-1813150800-1813156200@dev.piercelibrary.org
SUMMARY:SUMMER READING 2026 - "Unearth a Story"
DESCRIPTION:This year’s summer reading theme is “Unearth a Story”\, maybe dinosaurs\, mythical creatures\, history\, earth moving equipment?\nCome check it out  Wednesdays 1:00 – 2:30 starting June 10th through July 22nd.
URL:https://dev.piercelibrary.org/event/summer-reading-2026-unearth-a-story/2027-06-16/
END:VEVENT
BEGIN:VEVENT
DTSTART;TZID=America/New_York:20270612T093000
DTEND;TZID=America/New_York:20270612T103000
DTSTAMP:20260421T062151
CREATED:20250102T204104Z
LAST-MODIFIED:20250102T204104Z
UID:10000935-1812792600-1812796200@dev.piercelibrary.org
SUMMARY:Preschool Story Hour 2026
DESCRIPTION:
URL:https://dev.piercelibrary.org/event/preschool-story-hour-2025/2027-06-12/
END:VEVENT
BEGIN:VEVENT
DTSTART;TZID=America/New_York:20270609T130000
DTEND;TZID=America/New_York:20270609T143000
DTSTAMP:20260421T062151
CREATED:20260216T153818Z
LAST-MODIFIED:20260216T153818Z
UID:10001323-1812546000-1812551400@dev.piercelibrary.org
SUMMARY:SUMMER READING 2026 - "Unearth a Story"
DESCRIPTION:This year’s summer reading theme is “Unearth a Story”\, maybe dinosaurs\, mythical creatures\, history\, earth moving equipment?\nCome check it out  Wednesdays 1:00 – 2:30 starting June 10th through July 22nd.
URL:https://dev.piercelibrary.org/event/summer-reading-2026-unearth-a-story/2027-06-09/
END:VEVENT
BEGIN:VEVENT
DTSTART;TZID=UTC:20270608T190000
DTEND;TZID=UTC:20270608T210000
DTSTAMP:20260421T062151
CREATED:20250306T131653Z
LAST-MODIFIED:20250306T131653Z
UID:10001212-1812481200-1812488400@dev.piercelibrary.org
SUMMARY:Book Club
DESCRIPTION:Book Club\nmeets the 2nd Tuesday of each month at 7:00 \n 
URL:https://dev.piercelibrary.org/event/book-club-28-2/2027-06-08/
END:VEVENT
BEGIN:VEVENT
DTSTART;TZID=UTC:20270608T190000
DTEND;TZID=UTC:20270608T200000
DTSTAMP:20260421T062151
CREATED:20230203T195552Z
LAST-MODIFIED:20230203T195552Z
UID:10001765-1812481200-1812484800@dev.piercelibrary.org
SUMMARY:Book Club
DESCRIPTION:Book Club\nmeets the 2nd Tuesday of each month at 7:00 \n 
URL:https://dev.piercelibrary.org/event/book-club-28-2024-02-13/2027-06-08/
END:VEVENT
BEGIN:VEVENT
DTSTART;TZID=UTC:20270608T190000
DTEND;TZID=UTC:20270608T200000
DTSTAMP:20260421T062151
CREATED:20230203T195552Z
LAST-MODIFIED:20230203T195552Z
UID:10001900-1812481200-1812484800@dev.piercelibrary.org
SUMMARY:Book Club
DESCRIPTION:Book Club\nmeets the 2nd Tuesday of each month at 7:00 \n 
URL:https://dev.piercelibrary.org/event/book-club-28-2024-02-13/2027-06-08/
END:VEVENT
BEGIN:VEVENT
DTSTART;TZID=UTC:20270608T190000
DTEND;TZID=UTC:20270608T200000
DTSTAMP:20260421T062151
CREATED:20230203T195552Z
LAST-MODIFIED:20230203T195552Z
UID:10002158-1812481200-1812484800@dev.piercelibrary.org
SUMMARY:Book Club
DESCRIPTION:Book Club\nmeets the 2nd Tuesday of each month at 7:00 \n 
URL:https://dev.piercelibrary.org/event/book-club-28-2024-03-12/2027-06-08/
END:VEVENT
BEGIN:VEVENT
DTSTART;TZID=UTC:20270608T190000
DTEND;TZID=UTC:20270608T200000
DTSTAMP:20260421T062151
CREATED:20230203T195552Z
LAST-MODIFIED:20230203T195552Z
UID:10002273-1812481200-1812484800@dev.piercelibrary.org
SUMMARY:Book Club
DESCRIPTION:Book Club\nmeets the 2nd Tuesday of each month at 7:00 \n 
URL:https://dev.piercelibrary.org/event/book-club-28-2024-03-12/2027-06-08/
END:VEVENT
BEGIN:VEVENT
DTSTART;TZID=UTC:20270608T190000
DTEND;TZID=UTC:20270608T200000
DTSTAMP:20260421T062151
CREATED:20230203T195552Z
LAST-MODIFIED:20230203T195552Z
UID:10002438-1812481200-1812484800@dev.piercelibrary.org
SUMMARY:Book Club
DESCRIPTION:Book Club\nmeets the 2nd Tuesday of each month at 7:00 \n 
URL:https://dev.piercelibrary.org/event/book-club-28-2024-03-12/2027-06-08/
END:VEVENT
BEGIN:VEVENT
DTSTART;TZID=UTC:20270608T190000
DTEND;TZID=UTC:20270608T200000
DTSTAMP:20260421T062151
CREATED:20230203T195552Z
LAST-MODIFIED:20230203T195552Z
UID:10002735-1812481200-1812484800@dev.piercelibrary.org
SUMMARY:Book Club
DESCRIPTION:Book Club\nmeets the 2nd Tuesday of each month at 7:00 \n 
URL:https://dev.piercelibrary.org/event/book-club-28-2024-04-09/2027-06-08/
END:VEVENT
BEGIN:VEVENT
DTSTART;TZID=UTC:20270608T190000
DTEND;TZID=UTC:20270608T200000
DTSTAMP:20260421T062151
CREATED:20230203T195552Z
LAST-MODIFIED:20230203T195552Z
UID:10002758-1812481200-1812484800@dev.piercelibrary.org
SUMMARY:Book Club
DESCRIPTION:Book Club\nmeets the 2nd Tuesday of each month at 7:00 \n 
URL:https://dev.piercelibrary.org/event/book-club-28-2024-04-09/2027-06-08/
END:VEVENT
BEGIN:VEVENT
DTSTART;TZID=UTC:20270608T190000
DTEND;TZID=UTC:20270608T200000
DTSTAMP:20260421T062151
CREATED:20230203T195552Z
LAST-MODIFIED:20230203T195552Z
UID:10002888-1812481200-1812484800@dev.piercelibrary.org
SUMMARY:Book Club
DESCRIPTION:Book Club\nmeets the 2nd Tuesday of each month at 7:00 \n 
URL:https://dev.piercelibrary.org/event/book-club-28-2025-07-08/2027-06-08/
END:VEVENT
BEGIN:VEVENT
DTSTART;TZID=UTC:20270608T190000
DTEND;TZID=UTC:20270608T200000
DTSTAMP:20260421T062151
CREATED:20230203T195552Z
LAST-MODIFIED:20230203T195552Z
UID:10003187-1812481200-1812484800@dev.piercelibrary.org
SUMMARY:Book Club
DESCRIPTION:Book Club\nmeets the 2nd Tuesday of each month at 7:00 \n 
URL:https://dev.piercelibrary.org/event/book-club-28-2025-07-08/2027-06-08/
END:VEVENT
BEGIN:VEVENT
DTSTART;TZID=UTC:20270608T190000
DTEND;TZID=UTC:20270608T200000
DTSTAMP:20260421T062151
CREATED:20230203T195552Z
LAST-MODIFIED:20230203T195552Z
UID:10003232-1812481200-1812484800@dev.piercelibrary.org
SUMMARY:Book Club
DESCRIPTION:Book Club\nmeets the 2nd Tuesday of each month at 7:00 \n 
URL:https://dev.piercelibrary.org/event/book-club-28-2025-07-08/2027-06-08/
END:VEVENT
BEGIN:VEVENT
DTSTART;TZID=UTC:20270608T190000
DTEND;TZID=UTC:20270608T200000
DTSTAMP:20260421T062151
CREATED:20230203T195552Z
LAST-MODIFIED:20230203T195552Z
UID:10003380-1812481200-1812484800@dev.piercelibrary.org
SUMMARY:Book Club
DESCRIPTION:Book Club\nmeets the 2nd Tuesday of each month at 7:00 \n 
URL:https://dev.piercelibrary.org/event/book-club-28-2025-08-12/2027-06-08/
END:VEVENT
BEGIN:VEVENT
DTSTART;TZID=UTC:20270608T190000
DTEND;TZID=UTC:20270608T200000
DTSTAMP:20260421T062151
CREATED:20230203T195552Z
LAST-MODIFIED:20230203T195552Z
UID:10003587-1812481200-1812484800@dev.piercelibrary.org
SUMMARY:Book Club
DESCRIPTION:Book Club\nmeets the 2nd Tuesday of each month at 7:00 \n 
URL:https://dev.piercelibrary.org/event/book-club-28-2025-08-12/2027-06-08/
END:VEVENT
BEGIN:VEVENT
DTSTART;TZID=UTC:20270608T190000
DTEND;TZID=UTC:20270608T200000
DTSTAMP:20260421T062151
CREATED:20230203T195552Z
LAST-MODIFIED:20230203T195552Z
UID:10003692-1812481200-1812484800@dev.piercelibrary.org
SUMMARY:Book Club
DESCRIPTION:Book Club\nmeets the 2nd Tuesday of each month at 7:00 \n 
URL:https://dev.piercelibrary.org/event/book-club-28-2025-08-12/2027-06-08/
END:VEVENT
BEGIN:VEVENT
DTSTART;TZID=UTC:20270608T190000
DTEND;TZID=UTC:20270608T200000
DTSTAMP:20260421T062151
CREATED:20230203T195552Z
LAST-MODIFIED:20230203T195552Z
UID:10003864-1812481200-1812484800@dev.piercelibrary.org
SUMMARY:Book Club
DESCRIPTION:Book Club\nmeets the 2nd Tuesday of each month at 7:00 \n 
URL:https://dev.piercelibrary.org/event/book-club-28-2025-09-09/2027-06-08/
END:VEVENT
BEGIN:VEVENT
DTSTART;TZID=UTC:20270608T190000
DTEND;TZID=UTC:20270608T200000
DTSTAMP:20260421T062151
CREATED:20230203T195552Z
LAST-MODIFIED:20230203T195552Z
UID:10000210-1812481200-1812484800@dev.piercelibrary.org
SUMMARY:Book Club
DESCRIPTION:Book Club\nmeets the 2nd Tuesday of each month at 7:00 \n 
URL:https://dev.piercelibrary.org/event/book-club-28-2024-04-09/2027-06-08/
END:VEVENT
BEGIN:VEVENT
DTSTART;TZID=UTC:20270608T190000
DTEND;TZID=UTC:20270608T200000
DTSTAMP:20260421T062151
CREATED:20230203T195552Z
LAST-MODIFIED:20230203T195552Z
UID:10003933-1812481200-1812484800@dev.piercelibrary.org
SUMMARY:Book Club
DESCRIPTION:Book Club\nmeets the 2nd Tuesday of each month at 7:00 \n 
URL:https://dev.piercelibrary.org/event/book-club-28-2025-09-09/2027-06-08/
END:VEVENT
BEGIN:VEVENT
DTSTART;TZID=UTC:20270608T190000
DTEND;TZID=UTC:20270608T200000
DTSTAMP:20260421T062151
CREATED:20230203T195552Z
LAST-MODIFIED:20230203T195552Z
UID:10004128-1812481200-1812484800@dev.piercelibrary.org
SUMMARY:Book Club
DESCRIPTION:Book Club\nmeets the 2nd Tuesday of each month at 7:00 \n 
URL:https://dev.piercelibrary.org/event/book-club-28-2025-09-09/2027-06-08/
END:VEVENT
BEGIN:VEVENT
DTSTART;TZID=UTC:20270608T190000
DTEND;TZID=UTC:20270608T200000
DTSTAMP:20260421T062151
CREATED:20230203T195552Z
LAST-MODIFIED:20230203T195552Z
UID:10004217-1812481200-1812484800@dev.piercelibrary.org
SUMMARY:Book Club
DESCRIPTION:Book Club\nmeets the 2nd Tuesday of each month at 7:00 \n 
URL:https://dev.piercelibrary.org/event/book-club-28-2025-10-14/2027-06-08/
END:VEVENT
BEGIN:VEVENT
DTSTART;TZID=UTC:20270608T190000
DTEND;TZID=UTC:20270608T200000
DTSTAMP:20260421T062151
CREATED:20230203T195552Z
LAST-MODIFIED:20230203T195552Z
UID:10004332-1812481200-1812484800@dev.piercelibrary.org
SUMMARY:Book Club
DESCRIPTION:Book Club\nmeets the 2nd Tuesday of each month at 7:00 \n 
URL:https://dev.piercelibrary.org/event/book-club-28-2025-10-14/2027-06-08/
END:VEVENT
BEGIN:VEVENT
DTSTART;TZID=UTC:20270608T190000
DTEND;TZID=UTC:20270608T200000
DTSTAMP:20260421T062151
CREATED:20230203T195552Z
LAST-MODIFIED:20230203T195552Z
UID:10000639-1812481200-1812484800@dev.piercelibrary.org
SUMMARY:Book Club
DESCRIPTION:Book Club\nmeets the 2nd Tuesday of each month at 7:00 \n 
URL:https://dev.piercelibrary.org/event/book-club-28-2025-04-08/2027-06-08/
END:VEVENT
BEGIN:VEVENT
DTSTART;TZID=UTC:20270608T190000
DTEND;TZID=UTC:20270608T200000
DTSTAMP:20260421T062151
CREATED:20230203T195552Z
LAST-MODIFIED:20230203T195552Z
UID:10004497-1812481200-1812484800@dev.piercelibrary.org
SUMMARY:Book Club
DESCRIPTION:Book Club\nmeets the 2nd Tuesday of each month at 7:00 \n 
URL:https://dev.piercelibrary.org/event/book-club-28-2025-10-14/2027-06-08/
END:VEVENT
BEGIN:VEVENT
DTSTART;TZID=UTC:20270608T190000
DTEND;TZID=UTC:20270608T200000
DTSTAMP:20260421T062151
CREATED:20230203T195552Z
LAST-MODIFIED:20230203T195552Z
UID:10004593-1812481200-1812484800@dev.piercelibrary.org
SUMMARY:Book Club
DESCRIPTION:Book Club\nmeets the 2nd Tuesday of each month at 7:00 \n 
URL:https://dev.piercelibrary.org/event/book-club-28-2025-11-11/2027-06-08/
END:VEVENT
END:VCALENDAR