BEGIN:VCALENDAR
VERSION:2.0
PRODID:-//Allen F. Pierce Free Library - ECPv6.15.17//NONSGML v1.0//EN
CALSCALE:GREGORIAN
METHOD:PUBLISH
X-WR-CALNAME:Allen F. Pierce Free Library
X-ORIGINAL-URL:https://dev.piercelibrary.org
X-WR-CALDESC:Events for Allen F. Pierce Free Library
REFRESH-INTERVAL;VALUE=DURATION:PT1H
X-Robots-Tag:noindex
X-PUBLISHED-TTL:PT1H
BEGIN:VTIMEZONE
TZID:UTC
BEGIN:STANDARD
TZOFFSETFROM:+0000
TZOFFSETTO:+0000
TZNAME:UTC
DTSTART:20230101T000000
END:STANDARD
END:VTIMEZONE
BEGIN:VEVENT
DTSTART;TZID=UTC:20240406T100000
DTEND;TZID=UTC:20240406T140000
DTSTAMP:20260419T212352
CREATED:20231211T175040Z
LAST-MODIFIED:20231211T175040Z
UID:10000031-1712397600-1712412000@dev.piercelibrary.org
SUMMARY:Game Day - Special Activity Together
DESCRIPTION:Join us on the first Saturday of each month (January through April) to play games!\n10:00 – 2:00\nThere are lots of games IN the library or bring your own.
URL:https://dev.piercelibrary.org/event/game-day-special-activity-together-2024-03-02/2024-04-06/
END:VEVENT
END:VCALENDAR